Workbook

Sheet Trading Comps
B2: Clearwater Analytics – Selected Trading Comparables | V2: TRADING COMPARABLES – CWAN (peer sets and consensus as filed with the SC 13E-3; market data 19-Dec-2025)
B3: $m, except per share; market data as of 19-Dec-25 | V3: $M except per share; peers at 19-Dec-25 close; CY25E/CY26E peer sets and consensus as filed with the SC 13E-3; EBITDA pre-SBC; whole companies
H5: EV / Revenue | J5: EV / EBITDA | Z5: Share price | AE5: Equity value to EV | AK5: Revenue | AO5: Growth / margin | AR5: EV / Revenue | AT5: EV / EBITDA | AX5: Inputs
B6: Company | C6: Price | D6: % 52W high | E6: EV | F6: CY26E rev. gr. | G6: CY26E EBITDA mgn | H6: CY25E | I6: CY26E | J6: CY26E | V6: Company | W6: Ticker | X6: 13E-3 (c)(ii) | Y6: 13E-3 (c)(vi) | Z6: Price (lcl) | AA6: FX | AB6: Price ($) | AC6: 52-wk high | AD6: % of high | AE6: FD shares (m) | AF6: Equity value | AG6: Net debt | AH6: EV | AI6: Filed EV | AJ6: vs filed | AK6: CY24A | AL6: CY25E | AM6: CY26E | AN6: CY26E EBITDA | AO6: CY25E gr. | AP6: CY26E gr. | AQ6: CY26E mgn | AR6: CY25E | AS6: CY26E | AT6: CY25E | AU6: CY26E | AX6: Basic shs | AY6: Dil. WASO | AZ6: Basic WASO | BA6: Dil. override | BB6: OTM conv. | BC6: Curr. LTD | BD6: ST debt | BE6: LT debt | BF6: NCI | BG6: Cash | BH6: ST inv. | BI6: (c)(ii) CY26E Rev | BJ6: (c)(ii) CY26E mgn | BK6: (c)(vi) FV | BL6: (c)(vi) FV/Rev | BM6: (c)(vi) FV/EBITDA | BN6: CY26E gr. (filed) | BO6: FY rev A | BP6: FY rev B | BQ6: FYE mo. | BR6: (c)(ii) TEV ($bn) | BS6: Fin. FX
B7: Financial services vertical software
B8: =V12 -> Guidewire Software | C8: =AB12 -> 199.92 | D8: =AD12 -> 0.76340309 | E8: =AH12 -> 16994.751 | F8: =AP12 -> 0.17 | G8: =AQ12 -> 0.347 | H8: =AR12 -> 13.264749 | I8: =AS12 -> 11.337392 | J8: =AU12 -> 32.6726 | V8: CWAN – unaffected | W8: CWAN | AB8: =$X$57 -> 16.69 | AC8: =$X$59 -> 32.71 | AD8: =AB8/AC8 -> 0.51024152 | AE8: =($X$60+$X$61+$X$62+$X$63)/10^6+$X$64/10^6*MAX(0,1-$X$65/AB8)+$X$66/AB8 -> 310.12774 | AF8: =AB8*AE8 -> 5176.032 | AG8: =$X$67-$X$68-$X$69 -> 794.8 | AH8: =AF8+AG8 -> 5970.832 | AI8: 5968 | AJ8: =AH8/AI8-1 -> 0.00047453328 | AK8: =$X$70 -> 451.803 | AL8: =$X$71 -> 731 | AM8: =$X$73 -> 947 | AN8: =$X$74 -> 333 | AO8: =AL8/AK8-1 -> 0.61796181 | AP8: =AM8/AL8-1 -> 0.29548564 | AQ8: =AN8/AM8 -> 0.35163675 | AR8: =AH8/AL8 -> 8.1680329 | AS8: =AH8/AM8 -> 6.3049968 | AT8: =AH8/$X$72 -> 24.173409 | AU8: =AH8/AN8 -> 17.930426
B9: =V13 -> Intapp | C9: =AB13 -> 45.95 | D9: =AD13 -> 0.62010796 | E9: =AH13 -> 3491.0848 | F9: =AP13 -> 0.13 | G9: =AQ13 -> 0.204 | H9: =AR13 -> 6.4777107 | I9: =AS13 -> 5.7324874 | J9: =AU13 -> 28.100428 | V9: CWAN – offer | W9: CWAN | AB9: =$X$58 -> 24.55 | AC9: =$X$59 -> 32.71 | AD9: =AB9/AC9 -> 0.750535 | AE9: =($X$60+$X$61+$X$62+$X$63)/10^6+$X$64/10^6*MAX(0,1-$X$65/AB9)+$X$66/AB9 -> 311.131 | AF9: =AB9*AE9 -> 7638.2659 | AG9: =$X$67-$X$68-$X$69 -> 794.8 | AH9: =AF9+AG9 -> 8433.0659 | AI9: 8433 | AJ9: =AH9/AI9-1 -> 7.8186612e-06 | AK9: =$X$70 -> 451.803 | AL9: =$X$71 -> 731 | AM9: =$X$73 -> 947 | AN9: =$X$74 -> 333 | AO9: =AL9/AK9-1 -> 0.61796181 | AP9: =AM9/AL9-1 -> 0.29548564 | AQ9: =AN9/AM9 -> 0.35163675 | AR9: =AH9/AL9 -> 11.536342 | AS9: =AH9/AM9 -> 8.9050327 | AT9: =AH9/$X$72 -> 34.141967 | AU9: =AH9/AN9 -> 25.324522
B10: =V14 -> Q2 Holdings | C10: =AB14 -> 74.14 | D10: =AD14 -> 0.70155185 | E10: =AH14 -> 4850.7976 | F10: =AP14 -> 0.1 | G10: =AQ14 -> 0.258 | H10: =AR14 -> 6.112116 | I10: =AS14 -> 5.5564691 | J10: =AU14 -> 21.536702
B11: =V15 -> CCC Intelligent Solutions | C11: =AB15 -> 7.9 | D11: =AD15 -> 0.65560166 | E11: =AH15 -> 5980.4783 | F11: =AP15 -> 0.09 | G11: =AQ15 -> 0.411 | H11: =AR15 -> 5.6783287 | I11: =AS15 -> 5.2094759 | J11: =AU15 -> 12.675124 | V11: FINANCIAL SERVICES VERTICAL SOFTWARE
B12: =V16 -> nCino | C12: =AB16 -> 25.68 | D12: =AD16 -> 0.72460497 | E12: =AH16 -> 3109.9922 | F12: =AP16 -> 0.08 | G12: =AQ16 -> 0.255 | H12: =AR16 -> 5.2563248 | I12: =AS16 -> 4.8669674 | J12: =AU16 -> 19.086147 | V12: Guidewire Software | W12: GWRE | X12: FS | Y12: Vertical | Z12: 199.92 | AA12: =1 -> 1 | AB12: =Z12*AA12 -> 199.92 | AC12: 261.88 | AD12: =Z12/AC12 -> 0.76340309 | AE12: =(AX12+IF(BA12<>"",BA12,AY12-AZ12)-BB12)/10^6 -> 86.690712 | AF12: =AB12*AE12 -> 17331.207 | AG12: =(SUM(BC12:BF12)-BG12-BH12)/10^6*BS12 -> -336.456 | AH12: =AF12+AG12 -> 16994.751 | AI12: =IF(BK12<>"",BK12,BR12*1000) -> 16989 | AJ12: =AH12/AI12-1 -> 0.00033852158 | AK12: =(BO12*IF(BQ12>=6,IF(BQ12<=7,BQ12/12,1),1)+BP12*IF(BQ12>=6,IF(BQ12<=7,1-BQ12/12,0),0))/10^6*BS12 -> 1072.9812 | AL12: =IF(BN12<>"",AM12/(1+BN12),"n.a.") -> 1281.1966 | AM12: =IF(BI12<>"",BI12,BK12/BL12) -> 1499 | AN12: =IF(BI12<>"",BI12*BJ12,BK12/BM12) -> 520.153 | AO12: =IF(ISNUMBER(AL12),AL12/AK12-1,"n.a.") -> 0.19405319 | AP12: =IF(ISNUMBER(AL12),AM12/AL12-1,"n.a.") -> 0.17 | AQ12: =AN12/AM12 -> 0.347 | AR12: =IF(ISNUMBER(AL12),AH12/AL12,"n.a.") -> 13.264749 | AS12: =AH12/AM12 -> 11.337392 | AT12: n.a. | AU12: =AH12/AN12 -> 32.6726 | AX12: 85019176 | AY12: 86451737 | AZ12: 84780201 | BE12: 675443000 | BG12: 492038000 | BH12: 519861000 | BI12: 1499 | BJ12: 0.347 | BK12: 16989 | BL12: 11.3 | BM12: 34.7 | BN12: 0.17 | BO12: 980497000 | BP12: 1202459000 | BQ12: 7 | BR12: 16.9 | BS12: =1 -> 1
B13: =V17 -> Alkami Technology | C13: =AB17 -> 22.73 | D13: =AD17 -> 0.56967419 | E13: =AH17 -> 2656.5462 | F13: =AP17 -> 0.24 | G13: =AQ17 -> 0.189 | H13: =AR17 -> 5.9893041 | I13: =AS17 -> 4.8300839 | J13: =AU17 -> 25.556 | V13: Intapp | W13: INTA | X13: FS | Y13: – | Z13: 45.95 | AA13: =1 -> 1 | AB13: =Z13*AA13 -> 45.95 | AC13: 74.1 | AD13: =Z13/AC13 -> 0.62010796 | AE13: =(AX13+IF(BA13<>"",BA13,AY13-AZ13)-BB13)/10^6 -> 81.926481 | AF13: =AB13*AE13 -> 3764.5218 | AG13: =(SUM(BC13:BF13)-BG13-BH13)/10^6*BS13 -> -273.437 | AH13: =AF13+AG13 -> 3491.0848 | AI13: =IF(BK13<>"",BK13,BR13*1000) -> 3900 | AJ13: =AH13/AI13-1 -> -0.10485005 | AK13: =(BO13*IF(BQ13>=6,IF(BQ13<=7,BQ13/12,1),1)+BP13*IF(BQ13>=6,IF(BQ13<=7,1-BQ13/12,0),0))/10^6*BS13 -> 467.3215 | AL13: =IF(BN13<>"",AM13/(1+BN13),"n.a.") -> 538.93805 | AM13: =IF(BI13<>"",BI13,BK13/BL13) -> 609 | AN13: =IF(BI13<>"",BI13*BJ13,BK13/BM13) -> 124.236 | AO13: =IF(ISNUMBER(AL13),AL13/AK13-1,"n.a.") -> 0.153249 | AP13: =IF(ISNUMBER(AL13),AM13/AL13-1,"n.a.") -> 0.13 | AQ13: =AN13/AM13 -> 0.204 | AR13: =IF(ISNUMBER(AL13),AH13/AL13,"n.a.") -> 6.4777107 | AS13: =AH13/AM13 -> 5.7324874 | AT13: n.a. | AU13: =AH13/AN13 -> 28.100428 | AX13: 81926481 | AY13: 81878000 | AZ13: 81878000 | BG13: 273437000 | BI13: 609 | BJ13: 0.204 | BN13: 0.13 | BO13: 430523000 | BP13: 504120000 | BQ13: 6 | BR13: 3.9 | BS13: =1 -> 1
B14: =V18 -> SS&C Technologies | C14: =AB18 -> 87.75 | D14: =AD18 -> 0.97283814 | E14: =AH18 -> 28443.705 | F14: =AP18 -> 0.055 | G14: =AQ18 -> 0.402 | H14: =AR18 -> 4.5302096 | I14: =AS18 -> 4.2940375 | J14: =AU18 -> 10.681685 | V14: Q2 Holdings | W14: QTWO | X14: FS | Y14: FS ref | Z14: 74.14 | AA14: =1 -> 1 | AB14: =Z14*AA14 -> 74.14 | AC14: 105.68 | AD14: =Z14/AC14 -> 0.70155185 | AE14: =(AX14+IF(BA14<>"",BA14,AY14-AZ14)-BB14)/10^6 -> 65.137005 | AF14: =AB14*AE14 -> 4829.2576 | AG14: =(SUM(BC14:BF14)-BG14-BH14)/10^6*BS14 -> 21.54 | AH14: =AF14+AG14 -> 4850.7976 | AI14: =IF(BK14<>"",BK14,BR14*1000) -> 4823 | AJ14: =AH14/AI14-1 -> 0.0057635394 | AK14: =(BO14*IF(BQ14>=6,IF(BQ14<=7,BQ14/12,1),1)+BP14*IF(BQ14>=6,IF(BQ14<=7,1-BQ14/12,0),0))/10^6*BS14 -> 696.464 | AL14: =IF(BN14<>"",AM14/(1+BN14),"n.a.") -> 793.63636 | AM14: =IF(BI14<>"",BI14,BK14/BL14) -> 873 | AN14: =IF(BI14<>"",BI14*BJ14,BK14/BM14) -> 225.234 | AO14: =IF(ISNUMBER(AL14),AL14/AK14-1,"n.a.") -> 0.13952245 | AP14: =IF(ISNUMBER(AL14),AM14/AL14-1,"n.a.") -> 0.1 | AQ14: =AN14/AM14 -> 0.258 | AR14: =IF(ISNUMBER(AL14),AH14/AL14,"n.a.") -> 6.112116 | AS14: =AH14/AM14 -> 5.5564691 | AT14: n.a. | AU14: =AH14/AN14 -> 21.536702 | AX14: 62530005 | AY14: 69858000 | AZ14: 62458000 | BB14: 4793000 | BC14: 493933000 | BG14: 472393000 | BI14: 873 | BJ14: 0.258 | BK14: 4823 | BL14: 5.5 | BM14: 21.4 | BN14: 0.1 | BO14: 696464000 | BQ14: 12 | BR14: 4.9 | BS14: =1 -> 1
B15: Median | D15: =AD19 -> 0.70155185 | F15: =AP19 -> 0.1 | G15: =AQ19 -> 0.258 | H15: =AR19 -> 5.9893041 | I15: =AS19 -> 5.2094759 | J15: =AU19 -> 21.536702 | V15: CCC Intelligent Solutions | W15: CCC | X15: FS | Y15: – | Z15: 7.9 | AA15: =1 -> 1 | AB15: =Z15*AA15 -> 7.9 | AC15: 12.05 | AD15: =Z15/AC15 -> 0.65560166 | AE15: =(AX15+IF(BA15<>"",BA15,AY15-AZ15)-BB15)/10^6 -> 642.01966 | AF15: =AB15*AE15 -> 5071.9553 | AG15: =(SUM(BC15:BF15)-BG15-BH15)/10^6*BS15 -> 908.523 | AH15: =AF15+AG15 -> 5980.4783 | AI15: =IF(BK15<>"",BK15,BR15*1000) -> 6300 | AJ15: =AH15/AI15-1 -> -0.050717733 | AK15: =(BO15*IF(BQ15>=6,IF(BQ15<=7,BQ15/12,1),1)+BP15*IF(BQ15>=6,IF(BQ15<=7,1-BQ15/12,0),0))/10^6*BS15 -> 944.8 | AL15: =IF(BN15<>"",AM15/(1+BN15),"n.a.") -> 1053.211 | AM15: =IF(BI15<>"",BI15,BK15/BL15) -> 1148 | AN15: =IF(BI15<>"",BI15*BJ15,BK15/BM15) -> 471.828 | AO15: =IF(ISNUMBER(AL15),AL15/AK15-1,"n.a.") -> 0.11474493 | AP15: =IF(ISNUMBER(AL15),AM15/AL15-1,"n.a.") -> 0.09 | AQ15: =AN15/AM15 -> 0.411 | AR15: =IF(ISNUMBER(AL15),AH15/AL15,"n.a.") -> 5.6783287 | AS15: =AH15/AM15 -> 5.2094759 | AT15: n.a. | AU15: =AH15/AN15 -> 12.675124 | AX15: 642019656 | AY15: 631440015 | AZ15: 631440015 | BC15: 10010000 | BD15: 24446000 | BE15: 971208000 | BG15: 97141000 | BI15: 1148 | BJ15: 0.411 | BN15: 0.09 | BO15: 944800000 | BQ15: 12 | BR15: 6.3 | BS15: =1 -> 1
B16: 25th percentile | D16: =AD20 -> 0.63785481 | F16: =AP20 -> 0.085 | G16: =AQ20 -> 0.2295 | H16: =AR20 -> 5.4673267 | I16: =AS20 -> 4.8485257 | J16: =AU20 -> 15.880635 | V16: nCino | W16: NCNO | X16: FS | Y16: FS ref | Z16: 25.68 | AA16: =1 -> 1 | AB16: =Z16*AA16 -> 25.68 | AC16: 35.44 | AD16: =Z16/AC16 -> 0.72460497 | AE16: =(AX16+IF(BA16<>"",BA16,AY16-AZ16)-BB16)/10^6 -> 116.10776 | AF16: =AB16*AE16 -> 2981.6472 | AG16: =(SUM(BC16:BF16)-BG16-BH16)/10^6*BS16 -> 128.345 | AH16: =AF16+AG16 -> 3109.9922 | AI16: =IF(BK16<>"",BK16,BR16*1000) -> 3253 | AJ16: =AH16/AI16-1 -> -0.043961828 | AK16: =(BO16*IF(BQ16>=6,IF(BQ16<=7,BQ16/12,1),1)+BP16*IF(BQ16>=6,IF(BQ16<=7,1-BQ16/12,0),0))/10^6*BS16 -> 540.657 | AL16: =IF(BN16<>"",AM16/(1+BN16),"n.a.") -> 591.66667 | AM16: =IF(BI16<>"",BI16,BK16/BL16) -> 639 | AN16: =IF(BI16<>"",BI16*BJ16,BK16/BM16) -> 162.945 | AO16: =IF(ISNUMBER(AL16),AL16/AK16-1,"n.a.") -> 0.094347556 | AP16: =IF(ISNUMBER(AL16),AM16/AL16-1,"n.a.") -> 0.08 | AQ16: =AN16/AM16 -> 0.255 | AR16: =IF(ISNUMBER(AL16),AH16/AL16,"n.a.") -> 5.2563248 | AS16: =AH16/AM16 -> 4.8669674 | AT16: n.a. | AU16: =AH16/AN16 -> 19.086147 | AX16: 114684968 | AY16: 115830218 | AZ16: 114407430 | BE16: 203500000 | BF16: 12435000 | BG16: 87590000 | BI16: 639 | BJ16: 0.255 | BK16: 3253 | BL16: 5.1 | BM16: 20.5 | BN16: 0.08 | BO16: 540657000 | BQ16: 1 | BR16: 3.3 | BS16: =1 -> 1
B17: 75th percentile | D17: =AD21 -> 0.74400403 | F17: =AP21 -> 0.15 | G17: =AQ21 -> 0.3745 | H17: =AR21 -> 6.2949134 | I17: =AS21 -> 5.6444782 | J17: =AU21 -> 26.828214 | V17: Alkami Technology | W17: ALKT | X17: FS | Y17: FS ref | Z17: 22.73 | AA17: =1 -> 1 | AB17: =Z17*AA17 -> 22.73 | AC17: 39.9 | AD17: =Z17/AC17 -> 0.56967419 | AE17: =(AX17+IF(BA17<>"",BA17,AY17-AZ17)-BB17)/10^6 -> 105.00401 | AF17: =AB17*AE17 -> 2386.7412 | AG17: =(SUM(BC17:BF17)-BG17-BH17)/10^6*BS17 -> 269.805 | AH17: =AF17+AG17 -> 2656.5462 | AI17: =IF(BK17<>"",BK17,BR17*1000) -> 2836 | AJ17: =AH17/AI17-1 -> -0.063277091 | AK17: =(BO17*IF(BQ17>=6,IF(BQ17<=7,BQ17/12,1),1)+BP17*IF(BQ17>=6,IF(BQ17<=7,1-BQ17/12,0),0))/10^6*BS17 -> 333.849 | AL17: =IF(BN17<>"",AM17/(1+BN17),"n.a.") -> 443.54839 | AM17: =IF(BI17<>"",BI17,BK17/BL17) -> 550 | AN17: =IF(BI17<>"",BI17*BJ17,BK17/BM17) -> 103.95 | AO17: =IF(ISNUMBER(AL17),AL17/AK17-1,"n.a.") -> 0.32858983 | AP17: =IF(ISNUMBER(AL17),AM17/AL17-1,"n.a.") -> 0.24 | AQ17: =AN17/AM17 -> 0.189 | AR17: =IF(ISNUMBER(AL17),AH17/AL17,"n.a.") -> 5.9893041 | AS17: =AH17/AM17 -> 4.8300839 | AT17: n.a. | AU17: =AH17/AN17 -> 25.556 | AX17: 105004011 | AY17: 104345319 | AZ17: 104345319 | BE17: 360717000 | BG17: 57316000 | BH17: 33596000 | BI17: 550 | BJ17: 0.189 | BK17: 2836 | BL17: 5.1 | BM17: 27.3 | BN17: 0.24 | BO17: 333849000 | BQ17: 12 | BR17: 2.8 | BS17: =1 -> 1
B18: Other vertical software | V18: SS&C Technologies | W18: SSNC | X18: FS | Y18: – | Z18: 87.75 | AA18: =1 -> 1 | AB18: =Z18*AA18 -> 87.75 | AC18: 90.2 | AD18: =Z18/AC18 -> 0.97283814 | AE18: =(AX18+IF(BA18<>"",BA18,AY18-AZ18)-BB18)/10^6 -> 252.8274 | AF18: =AB18*AE18 -> 22185.605 | AG18: =(SUM(BC18:BF18)-BG18-BH18)/10^6*BS18 -> 6258.1 | AH18: =AF18+AG18 -> 28443.705 | AI18: =IF(BK18<>"",BK18,BR18*1000) -> 29600 | AJ18: =AH18/AI18-1 -> -0.039064033 | AK18: =(BO18*IF(BQ18>=6,IF(BQ18<=7,BQ18/12,1),1)+BP18*IF(BQ18>=6,IF(BQ18<=7,1-BQ18/12,0),0))/10^6*BS18 -> 5882 | AL18: =IF(BN18<>"",AM18/(1+BN18),"n.a.") -> 6278.673 | AM18: =IF(BI18<>"",BI18,BK18/BL18) -> 6624 | AN18: =IF(BI18<>"",BI18*BJ18,BK18/BM18) -> 2662.848 | AO18: =IF(ISNUMBER(AL18),AL18/AK18-1,"n.a.") -> 0.067438454 | AP18: =IF(ISNUMBER(AL18),AM18/AL18-1,"n.a.") -> 0.055 | AQ18: =AN18/AM18 -> 0.402 | AR18: =IF(ISNUMBER(AL18),AH18/AL18,"n.a.") -> 4.5302096 | AS18: =AH18/AM18 -> 4.2940375 | AT18: n.a. | AU18: =AH18/AN18 -> 10.681685 | AX18: 244027403 | AY18: 252600000 | AZ18: 243800000 | BC18: 20000000 | BE18: 6573100000 | BF18: 53300000 | BG18: 388300000 | BI18: 6624 | BJ18: 0.402 | BN18: 0.055 | BO18: 5882000000 | BQ18: 12 | BR18: 29.6 | BS18: =1 -> 1
B19: =V24 -> Veeva Systems | C19: =AB24 -> 221.86 | D19: =AD24 -> 0.72451179 | E19: =AH24 -> 30916.465 | F19: =AP24 -> 0.12 | G19: =AQ24 -> 0.463 | H19: =AR24 -> 9.8398526 | I19: =AS24 -> 8.7855826 | J19: =AU24 -> 18.97534 | V19: Median | AD19: =MEDIAN(AD12:AD18) -> 0.70155185 | AO19: =MEDIAN(AO12:AO18) -> 0.13952245 | AP19: =MEDIAN(AP12:AP18) -> 0.1 | AQ19: =MEDIAN(AQ12:AQ18) -> 0.258 | AR19: =MEDIAN(AR12:AR18) -> 5.9893041 | AS19: =MEDIAN(AS12:AS18) -> 5.2094759 | AU19: =MEDIAN(AU12:AU18) -> 21.536702
B20: =V25 -> Nemetschek | C20: =AB25 -> 109.82577 | D20: =AD25 -> 0.68046478 | E20: =AH25 -> 12889.501 | F20: =AP25 -> 0.13 | G20: =AQ25 -> 0.32283465 | H20: =AR25 -> 9.2134626 | I20: =AS25 -> 8.1535067 | J20: =AU25 -> 25.255984 | V20: 25th percentile | AD20: =_xlfn.QUARTILE.INC(AD12:AD18,1) -> 0.63785481 | AO20: =_xlfn.QUARTILE.INC(AO12:AO18,1) -> 0.10454624 | AP20: =_xlfn.QUARTILE.INC(AP12:AP18,1) -> 0.085 | AQ20: =_xlfn.QUARTILE.INC(AQ12:AQ18,1) -> 0.2295 | AR20: =_xlfn.QUARTILE.INC(AR12:AR18,1) -> 5.4673267 | AS20: =_xlfn.QUARTILE.INC(AS12:AS18,1) -> 4.8485257 | AU20: =_xlfn.QUARTILE.INC(AU12:AU18,1) -> 15.880635
B21: =V26 -> Bentley Systems | C21: =AB26 -> 39.75 | D21: =AD26 -> 0.67694142 | E21: =AH26 -> 13195.051 | F21: =AP26 -> 0.11 | G21: =AQ26 -> 0.3632287 | H21: =AR26 -> 8.9173711 | I21: =AS26 -> 8.0336676 | J21: =AU26 -> 22.117381 | V21: 75th percentile | AD21: =_xlfn.QUARTILE.INC(AD12:AD18,3) -> 0.74400403 | AO21: =_xlfn.QUARTILE.INC(AO12:AO18,3) -> 0.17365109 | AP21: =_xlfn.QUARTILE.INC(AP12:AP18,3) -> 0.15 | AQ21: =_xlfn.QUARTILE.INC(AQ12:AQ18,3) -> 0.3745 | AR21: =_xlfn.QUARTILE.INC(AR12:AR18,3) -> 6.2949134 | AS21: =_xlfn.QUARTILE.INC(AS12:AS18,3) -> 5.6444782 | AU21: =_xlfn.QUARTILE.INC(AU12:AU18,3) -> 26.828214
B22: =V27 -> Procore Technologies | C22: =AB27 -> 74.13 | D22: =AD27 -> 0.83923922 | E22: =AH27 -> 10841.005 | F22: =AP27 -> 0.12 | G22: =AQ27 -> 0.244 | H22: =AR27 -> 8.2823501 | I22: =AS27 -> 7.3949555 | J22: =AU27 -> 30.307195
B23: =V28 -> Cellebrite | C23: =AB28 -> 19.21 | D23: =AD28 -> 0.73884615 | E23: =AH28 -> 4289.8511 | F23: =AP28 -> 0.17 | G23: =AQ28 -> 0.27241379 | H23: =AR28 -> 9.0734768 | I23: =AS28 -> 7.7551084 | J23: =AU28 -> 28.468119 | V23: OTHER VERTICAL SOFTWARE
B24: =V29 -> Tyler Technologies | C24: =AB29 -> 457.9 | D24: =AD29 -> 0.70801249 | E24: =AH29 -> 19670.879 | F24: =AP29 -> 0.1 | G24: =AQ29 -> 0.291 | H24: =AR29 -> 8.4622474 | I24: =AS29 -> 7.6929522 | J24: =AU29 -> 26.436262 | V24: Veeva Systems | W24: VEEV | X24: Other | Y24: Vertical | Z24: 221.86 | AA24: =1 -> 1 | AB24: =Z24*AA24 -> 221.86 | AC24: 306.22 | AD24: =Z24/AC24 -> 0.72451179 | AE24: =(AX24+IF(BA24<>"",BA24,AY24-AZ24)-BB24)/10^6 -> 169.26785 | AF24: =AB24*AE24 -> 37553.766 | AG24: =(SUM(BC24:BF24)-BG24-BH24)/10^6*BS24 -> -6637.301 | AH24: =AF24+AG24 -> 30916.465 | AI24: =IF(BK24<>"",BK24,BR24*1000) -> 30889 | AJ24: =AH24/AI24-1 -> 0.00088916152 | AK24: =(BO24*IF(BQ24>=6,IF(BQ24<=7,BQ24/12,1),1)+BP24*IF(BQ24>=6,IF(BQ24<=7,1-BQ24/12,0),0))/10^6*BS24 -> 2746.619 | AL24: =IF(BN24<>"",AM24/(1+BN24),"n.a.") -> 3141.9643 | AM24: =IF(BI24<>"",BI24,BK24/BL24) -> 3519 | AN24: =IF(BI24<>"",BI24*BJ24,BK24/BM24) -> 1629.297 | AO24: =IF(ISNUMBER(AL24),AL24/AK24-1,"n.a.") -> 0.14393889 | AP24: =IF(ISNUMBER(AL24),AM24/AL24-1,"n.a.") -> 0.12 | AQ24: =AN24/AM24 -> 0.463 | AR24: =IF(ISNUMBER(AL24),AH24/AL24,"n.a.") -> 9.8398526 | AS24: =AH24/AM24 -> 8.7855826 | AT24: n.a. | AU24: =AH24/AN24 -> 18.97534 | AX24: 164381855 | AY24: 168935000 | AZ24: 164049000 | BG24: 1660137000 | BH24: 4977164000 | BI24: 3519 | BJ24: 0.463 | BK24: 30889 | BL24: 8.8 | BM24: 19.3 | BN24: 0.12 | BO24: 2746619000 | BQ24: 1 | BR24: 30.7 | BS24: =1 -> 1
B25: =V30 -> AppFolio | C25: =AB30 -> 233.69 | D25: =AD30 -> 0.72743969 | E25: =AH30 -> 8280.7813 | F25: =AP30 -> 0.18 | G25: =AQ30 -> 0.27881041 | H25: =AR30 -> 8.7337521 | I25: =AS30 -> 7.4014849 | J25: =AU30 -> 26.546659 | V25: Nemetschek | W25: NEM GR | X25: – | Y25: Vertical | Z25: 93.7 | AA25: =$X$79 -> 1.1721 | AB25: =Z25*AA25 -> 109.82577 | AC25: 137.7 | AD25: =Z25/AC25 -> 0.68046478 | AE25: =(AX25+IF(BA25<>"",BA25,AY25-AZ25)-BB25)/10^6 -> 115.46614 | AF25: =AB25*AE25 -> 12681.158 | AG25: =(SUM(BC25:BF25)-BG25-BH25)/10^6*BS25 -> 208.34312 | AH25: =AF25+AG25 -> 12889.501 | AI25: =IF(BK25<>"",BK25,BR25*1000) -> 12963 | AJ25: =AH25/AI25-1 -> -0.0056699095 | AK25: =(BO25*IF(BQ25>=6,IF(BQ25<=7,BQ25/12,1),1)+BP25*IF(BQ25>=6,IF(BQ25<=7,1-BQ25/12,0),0))/10^6*BS25 -> 1166.9017 | AL25: =IF(BN25<>"",AM25/(1+BN25),"n.a.") -> 1398.9855 | AM25: =IF(BI25<>"",BI25,BK25/BL25) -> 1580.8537 | AN25: =IF(BI25<>"",BI25*BJ25,BK25/BM25) -> 510.35433 | AO25: =IF(ISNUMBER(AL25),AL25/AK25-1,"n.a.") -> 0.1988889 | AP25: =IF(ISNUMBER(AL25),AM25/AL25-1,"n.a.") -> 0.13 | AQ25: =AN25/AM25 -> 0.32283465 | AR25: =IF(ISNUMBER(AL25),AH25/AL25,"n.a.") -> 9.2134626 | AS25: =AH25/AM25 -> 8.1535067 | AT25: n.a. | AU25: =AH25/AN25 -> 25.255984 | AX25: 115466141 | AY25: 115478620 | AZ25: 115478620 | BE25: 449516000 | BF25: 35734000 | BG25: 307498000 | BK25: 12963 | BL25: 8.2 | BM25: 25.4 | BN25: 0.13 | BO25: 995565000 | BQ25: 12 | BS25: =$X$79 -> 1.1721
B26: =V31 -> Vertex | C26: =AB31 -> 20.02 | D26: =AD31 -> 0.33960984 | E26: =AH31 -> 3271.7113 | F26: =AP31 -> n.a. | G26: =AQ31 -> 0.224 | H26: =AR31 -> n.a. | I26: =AS31 -> 3.9609096 | J26: =AU31 -> 17.682632 | V26: Bentley Systems | W26: BSY | X26: – | Y26: Vertical | Z26: 39.75 | AA26: =1 -> 1 | AB26: =Z26*AA26 -> 39.75 | AC26: 58.72 | AD26: =Z26/AC26 -> 0.67694142 | AE26: =(AX26+IF(BA26<>"",BA26,AY26-AZ26)-BB26)/10^6 -> 304.73049 | AF26: =AB26*AE26 -> 12113.037 | AG26: =(SUM(BC26:BF26)-BG26-BH26)/10^6*BS26 -> 1082.014 | AH26: =AF26+AG26 -> 13195.051 | AI26: =IF(BK26<>"",BK26,BR26*1000) -> 13304 | AJ26: =AH26/AI26-1 -> -0.008189181 | AK26: =(BO26*IF(BQ26>=6,IF(BQ26<=7,BQ26/12,1),1)+BP26*IF(BQ26>=6,IF(BQ26<=7,1-BQ26/12,0),0))/10^6*BS26 -> 1353.095 | AL26: =IF(BN26<>"",AM26/(1+BN26),"n.a.") -> 1479.7019 | AM26: =IF(BI26<>"",BI26,BK26/BL26) -> 1642.4691 | AN26: =IF(BI26<>"",BI26*BJ26,BK26/BM26) -> 596.59193 | AO26: =IF(ISNUMBER(AL26),AL26/AK26-1,"n.a.") -> 0.093568393 | AP26: =IF(ISNUMBER(AL26),AM26/AL26-1,"n.a.") -> 0.11 | AQ26: =AN26/AM26 -> 0.3632287 | AR26: =IF(ISNUMBER(AL26),AH26/AL26,"n.a.") -> 8.9173711 | AS26: =AH26/AM26 -> 8.0336676 | AT26: n.a. | AU26: =AH26/AN26 -> 22.117381 | AX26: 303557068 | AY26: 333277478 | AZ26: 314626191 | BB26: 17477861 | BE26: 1247378000 | BF26: 47000 | BG26: 165411000 | BK26: 13304 | BL26: 8.1 | BM26: 22.3 | BN26: 0.11 | BO26: 1353095000 | BQ26: 12 | BS26: =1 -> 1
B27: Median | D27: =AD32 -> 0.71626214 | F27: =AP32 -> 0.12 | G27: =AQ32 -> 0.2849052 | H27: =AR32 -> 8.9173711 | I27: =AS32 -> 7.7240303 | J27: =AU32 -> 25.846123 | V27: Procore Technologies | W27: PCOR | X27: Other | Y27: Vertical | Z27: 74.13 | AA27: =1 -> 1 | AB27: =Z27*AA27 -> 74.13 | AC27: 88.33 | AD27: =Z27/AC27 -> 0.83923922 | AE27: =(AX27+IF(BA27<>"",BA27,AY27-AZ27)-BB27)/10^6 -> 155.46986 | AF27: =AB27*AE27 -> 11524.981 | AG27: =(SUM(BC27:BF27)-BG27-BH27)/10^6*BS27 -> -683.976 | AH27: =AF27+AG27 -> 10841.005 | AI27: =IF(BK27<>"",BK27,BR27*1000) -> 11588 | AJ27: =AH27/AI27-1 -> -0.06446283 | AK27: =(BO27*IF(BQ27>=6,IF(BQ27<=7,BQ27/12,1),1)+BP27*IF(BQ27>=6,IF(BQ27<=7,1-BQ27/12,0),0))/10^6*BS27 -> 1151.708 | AL27: =IF(BN27<>"",AM27/(1+BN27),"n.a.") -> 1308.9286 | AM27: =IF(BI27<>"",BI27,BK27/BL27) -> 1466 | AN27: =IF(BI27<>"",BI27*BJ27,BK27/BM27) -> 357.704 | AO27: =IF(ISNUMBER(AL27),AL27/AK27-1,"n.a.") -> 0.13651079 | AP27: =IF(ISNUMBER(AL27),AM27/AL27-1,"n.a.") -> 0.12 | AQ27: =AN27/AM27 -> 0.244 | AR27: =IF(ISNUMBER(AL27),AH27/AL27,"n.a.") -> 8.2823501 | AS27: =AH27/AM27 -> 7.3949555 | AT27: n.a. | AU27: =AH27/AN27 -> 30.307195 | AX27: 155469860 | AY27: 150278399 | AZ27: 150278399 | BG27: 350496000 | BH27: 333480000 | BI27: 1466 | BJ27: 0.244 | BK27: 11588 | BL27: 7.9 | BM27: 32.3 | BN27: 0.12 | BO27: 1151708000 | BQ27: 12 | BR27: 11.6 | BS27: =1 -> 1
B28: 25th percentile | D28: =AD33 -> 0.67958394 | F28: =AP33 -> 0.115 | G28: =AQ33 -> 0.26531034 | H28: =AR33 -> 8.5979998 | I28: =AS33 -> 7.3998525 | J28: =AU33 -> 21.331871 | V28: Cellebrite | W28: CLBT | X28: – | Y28: Vertical | Z28: 19.21 | AA28: =1 -> 1 | AB28: =Z28*AA28 -> 19.21 | AC28: 26 | AD28: =Z28/AC28 -> 0.73884615 | AE28: =(AX28+IF(BA28<>"",BA28,AY28-AZ28)-BB28)/10^6 -> 250.68002 | AF28: =AB28*AE28 -> 4815.5631 | AG28: =(SUM(BC28:BF28)-BG28-BH28)/10^6*BS28 -> -525.712 | AH28: =AF28+AG28 -> 4289.8511 | AI28: =IF(BK28<>"",BK28,BR28*1000) -> 4370 | AJ28: =AH28/AI28-1 -> -0.018340708 | AK28: =(BO28*IF(BQ28>=6,IF(BQ28<=7,BQ28/12,1),1)+BP28*IF(BQ28>=6,IF(BQ28<=7,1-BQ28/12,0),0))/10^6*BS28 -> 401.203 | AL28: =IF(BN28<>"",AM28/(1+BN28),"n.a.") -> 472.79022 | AM28: =IF(BI28<>"",BI28,BK28/BL28) -> 553.16456 | AN28: =IF(BI28<>"",BI28*BJ28,BK28/BM28) -> 150.68966 | AO28: =IF(ISNUMBER(AL28),AL28/AK28-1,"n.a.") -> 0.17843142 | AP28: =IF(ISNUMBER(AL28),AM28/AL28-1,"n.a.") -> 0.17 | AQ28: =AN28/AM28 -> 0.27241379 | AR28: =IF(ISNUMBER(AL28),AH28/AL28,"n.a.") -> 9.0734768 | AS28: =AH28/AM28 -> 7.7551084 | AT28: n.a. | AU28: =AH28/AN28 -> 28.468119 | AX28: 244469106 | AY28: 249719713 | AZ28: 243508803 | BG28: 281361000 | BH28: 244351000 | BK28: 4370 | BL28: 7.9 | BM28: 29 | BN28: 0.17 | BO28: 401203000 | BQ28: 12 | BS28: =1 -> 1
B29: 75th percentile | D29: =AD34 -> 0.7302913 | F29: =AP34 -> 0.15 | G29: =AQ34 -> 0.33293316 | H29: =AR34 -> 9.1434697 | I29: =AS34 -> 8.0636274 | J29: =AU34 -> 27.027024 | V29: Tyler Technologies | W29: TYL | X29: Other | Y29: – | Z29: 457.9 | AA29: =1 -> 1 | AB29: =Z29*AA29 -> 457.9 | AC29: 646.74 | AD29: =Z29/AC29 -> 0.70801249 | AE29: =(AX29+IF(BA29<>"",BA29,AY29-AZ29)-BB29)/10^6 -> 43.726728 | AF29: =AB29*AE29 -> 20022.469 | AG29: =(SUM(BC29:BF29)-BG29-BH29)/10^6*BS29 -> -351.59 | AH29: =AF29+AG29 -> 19670.879 | AI29: =IF(BK29<>"",BK29,BR29*1000) -> 19800 | AJ29: =AH29/AI29-1 -> -0.0065212752 | AK29: =(BO29*IF(BQ29>=6,IF(BQ29<=7,BQ29/12,1),1)+BP29*IF(BQ29>=6,IF(BQ29<=7,1-BQ29/12,0),0))/10^6*BS29 -> 2137.803 | AL29: =IF(BN29<>"",AM29/(1+BN29),"n.a.") -> 2324.5455 | AM29: =IF(BI29<>"",BI29,BK29/BL29) -> 2557 | AN29: =IF(BI29<>"",BI29*BJ29,BK29/BM29) -> 744.087 | AO29: =IF(ISNUMBER(AL29),AL29/AK29-1,"n.a.") -> 0.087352508 | AP29: =IF(ISNUMBER(AL29),AM29/AL29-1,"n.a.") -> 0.1 | AQ29: =AN29/AM29 -> 0.291 | AR29: =IF(ISNUMBER(AL29),AH29/AL29,"n.a.") -> 8.4622474 | AS29: =AH29/AM29 -> 7.6929522 | AT29: n.a. | AU29: =AH29/AN29 -> 26.436262 | AX29: 43027728 | AY29: 43834000 | AZ29: 43135000 | BC29: 599231000 | BG29: 834101000 | BH29: 116720000 | BI29: 2557 | BJ29: 0.291 | BN29: 0.1 | BO29: 2137803000 | BQ29: 12 | BR29: 19.8 | BS29: =1 -> 1
B30: Other software | V30: AppFolio | W30: APPF | X30: – | Y30: Vertical | Z30: 233.69 | AA30: =1 -> 1 | AB30: =Z30*AA30 -> 233.69 | AC30: 321.25 | AD30: =Z30/AC30 -> 0.72743969 | AE30: =(AX30+IF(BA30<>"",BA30,AY30-AZ30)-BB30)/10^6 -> 36.29137 | AF30: =AB30*AE30 -> 8480.9303 | AG30: =(SUM(BC30:BF30)-BG30-BH30)/10^6*BS30 -> -200.149 | AH30: =AF30+AG30 -> 8280.7813 | AI30: =IF(BK30<>"",BK30,BR30*1000) -> 8391 | AJ30: =AH30/AI30-1 -> -0.013135353 | AK30: =(BO30*IF(BQ30>=6,IF(BQ30<=7,BQ30/12,1),1)+BP30*IF(BQ30>=6,IF(BQ30<=7,1-BQ30/12,0),0))/10^6*BS30 -> 794.202 | AL30: =IF(BN30<>"",AM30/(1+BN30),"n.a.") -> 948.13559 | AM30: =IF(BI30<>"",BI30,BK30/BL30) -> 1118.8 | AN30: =IF(BI30<>"",BI30*BJ30,BK30/BM30) -> 311.93309 | AO30: =IF(ISNUMBER(AL30),AL30/AK30-1,"n.a.") -> 0.19382171 | AP30: =IF(ISNUMBER(AL30),AM30/AL30-1,"n.a.") -> 0.18 | AQ30: =AN30/AM30 -> 0.27881041 | AR30: =IF(ISNUMBER(AL30),AH30/AL30,"n.a.") -> 8.7337521 | AS30: =AH30/AM30 -> 7.4014849 | AT30: n.a. | AU30: =AH30/AN30 -> 26.546659 | AX30: 35921370 | AY30: 36259000 | AZ30: 35889000 | BG30: 76093000 | BH30: 124056000 | BK30: 8391 | BL30: 7.5 | BM30: 26.9 | BN30: 0.18 | BO30: 794202000 | BQ30: 12 | BS30: =1 -> 1
B31: =V37 -> Descartes Systems | C31: =AB37 -> 89.724238 | D31: =AD37 -> 0.70514429 | E31: =AH37 -> 7584.3572 | F31: =AP37 -> 0.11 | G31: =AQ37 -> 0.46376812 | H31: =AR37 -> 10.61312 | I31: =AS37 -> 9.5613695 | J31: =AU37 -> 20.616703 | V31: Vertex | W31: VERX | X31: Other | Y31: – | Z31: 20.02 | AA31: =1 -> 1 | AB31: =Z31*AA31 -> 20.02 | AC31: 58.95 | AD31: =Z31/AC31 -> 0.33960984 | AE31: =(AX31+IF(BA31<>"",BA31,AY31-AZ31)-BB31)/10^6 -> 162.25296 | AF31: =AB31*AE31 -> 3248.3043 | AG31: =(SUM(BC31:BF31)-BG31-BH31)/10^6*BS31 -> 23.407 | AH31: =AF31+AG31 -> 3271.7113 | AI31: =IF(BK31<>"",BK31,BR31*1000) -> 3300 | AJ31: =AH31/AI31-1 -> -0.0085723214 | AK31: =(BO31*IF(BQ31>=6,IF(BQ31<=7,BQ31/12,1),1)+BP31*IF(BQ31>=6,IF(BQ31<=7,1-BQ31/12,0),0))/10^6*BS31 -> 666.776 | AL31: =IF(BN31<>"",AM31/(1+BN31),"n.a.") -> n.a. | AM31: =IF(BI31<>"",BI31,BK31/BL31) -> 826 | AN31: =IF(BI31<>"",BI31*BJ31,BK31/BM31) -> 185.024 | AO31: =IF(ISNUMBER(AL31),AL31/AK31-1,"n.a.") -> n.a. | AP31: =IF(ISNUMBER(AL31),AM31/AL31-1,"n.a.") -> n.a. | AQ31: =AN31/AM31 -> 0.224 | AR31: =IF(ISNUMBER(AL31),AH31/AL31,"n.a.") -> n.a. | AS31: =AH31/AM31 -> 3.9609096 | AT31: n.a. | AU31: =AH31/AN31 -> 17.682632 | AX31: 159527964 | AY31: 81865000 | AZ31: 77361000 | BA31: 2725000 | BE31: 336913000 | BG31: 313506000 | BI31: 826 | BJ31: 0.224 | BO31: 666776000 | BQ31: 12 | BR31: 3.3 | BS31: =1 -> 1
B32: =V38 -> Autodesk | C32: =AB38 -> 300.08 | D32: =AD38 -> 0.91826555 | E32: =AH38 -> 64410.12 | F32: =AP38 -> 0.11 | G32: =AQ38 -> 0.40186916 | H32: =AR38 -> 9.119831 | I32: =AS38 -> 8.216064 | J32: =AU38 -> 20.444624 | V32: Median | AD32: =MEDIAN(AD24:AD31) -> 0.71626214 | AO32: =MEDIAN(AO24:AO31) -> 0.14393889 | AP32: =MEDIAN(AP24:AP31) -> 0.12 | AQ32: =MEDIAN(AQ24:AQ31) -> 0.2849052 | AR32: =MEDIAN(AR24:AR31) -> 8.9173711 | AS32: =MEDIAN(AS24:AS31) -> 7.7240303 | AU32: =MEDIAN(AU24:AU31) -> 25.846123
B33: =V39 -> Atlassian | C33: =AB39 -> 161.07 | D33: =AD39 -> 0.49876138 | E33: =AH39 -> 40589.048 | F33: =AP39 -> 0.2 | G33: =AQ39 -> 0.26556017 | H33: =AR39 -> 7.0176471 | I33: =AS39 -> 5.8480393 | J33: =AU39 -> 22.021523 | V33: 25th percentile | AD33: =_xlfn.QUARTILE.INC(AD24:AD31,1) -> 0.67958394 | AO33: =_xlfn.QUARTILE.INC(AO24:AO31,1) -> 0.11503959 | AP33: =_xlfn.QUARTILE.INC(AP24:AP31,1) -> 0.115 | AQ33: =_xlfn.QUARTILE.INC(AQ24:AQ31,1) -> 0.26531034 | AR33: =_xlfn.QUARTILE.INC(AR24:AR31,1) -> 8.5979998 | AS33: =_xlfn.QUARTILE.INC(AS24:AS31,1) -> 7.3998525 | AU33: =_xlfn.QUARTILE.INC(AU24:AU31,1) -> 21.331871
B34: Median | D34: =AD40 -> 0.70514429 | F34: =AP40 -> 0.11 | G34: =AQ40 -> 0.40186916 | H34: =AR40 -> 9.119831 | I34: =AS40 -> 8.216064 | J34: =AU40 -> 20.616703 | V34: 75th percentile | AD34: =_xlfn.QUARTILE.INC(AD24:AD31,3) -> 0.7302913 | AO34: =_xlfn.QUARTILE.INC(AO24:AO31,3) -> 0.18612657 | AP34: =_xlfn.QUARTILE.INC(AP24:AP31,3) -> 0.15 | AQ34: =_xlfn.QUARTILE.INC(AQ24:AQ31,3) -> 0.33293316 | AR34: =_xlfn.QUARTILE.INC(AR24:AR31,3) -> 9.1434697 | AS34: =_xlfn.QUARTILE.INC(AS24:AS31,3) -> 8.0636274 | AU34: =_xlfn.QUARTILE.INC(AU24:AU31,3) -> 27.027024
B35: 25th percentile | D35: =AD41 -> 0.60195284 | F35: =AP41 -> 0.11 | G35: =AQ41 -> 0.33371466 | H35: =AR41 -> 8.0687391 | I35: =AS41 -> 7.0320516 | J35: =AU41 -> 20.530664
B36: 75th percentile | D36: =AD42 -> 0.81170492 | F36: =AP42 -> 0.155 | G36: =AQ42 -> 0.43281864 | H36: =AR42 -> 9.8664756 | I36: =AS42 -> 8.8887167 | J36: =AU42 -> 21.319113 | V36: OTHER SOFTWARE
B37: All peers | V37: Descartes Systems | W37: DSG CN | X37: – | Y37: Other | Z37: 123.64 | AA37: =1/$X$80 -> 0.7256894 | AB37: =Z37*AA37 -> 89.724238 | AC37: 175.34 | AD37: =Z37/AC37 -> 0.70514429 | AE37: =(AX37+IF(BA37<>"",BA37,AY37-AZ37)-BB37)/10^6 -> 87.636823 | AF37: =AB37*AE37 -> 7863.1472 | AG37: =(SUM(BC37:BF37)-BG37-BH37)/10^6*BS37 -> -278.79 | AH37: =AF37+AG37 -> 7584.3572 | AI37: =IF(BK37<>"",BK37,BR37*1000) -> 7615 | AJ37: =AH37/AI37-1 -> -0.0040240096 | AK37: =(BO37*IF(BQ37>=6,IF(BQ37<=7,BQ37/12,1),1)+BP37*IF(BQ37>=6,IF(BQ37<=7,1-BQ37/12,0),0))/10^6*BS37 -> 651 | AL37: =IF(BN37<>"",AM37/(1+BN37),"n.a.") -> 714.62087 | AM37: =IF(BI37<>"",BI37,BK37/BL37) -> 793.22917 | AN37: =IF(BI37<>"",BI37*BJ37,BK37/BM37) -> 367.8744 | AO37: =IF(ISNUMBER(AL37),AL37/AK37-1,"n.a.") -> 0.097727912 | AP37: =IF(ISNUMBER(AL37),AM37/AL37-1,"n.a.") -> 0.11 | AQ37: =AN37/AM37 -> 0.46376812 | AR37: =IF(ISNUMBER(AL37),AH37/AL37,"n.a.") -> 10.61312 | AS37: =AH37/AM37 -> 9.5613695 | AT37: n.a. | AU37: =AH37/AN37 -> 20.616703 | AX37: 85986823 | AY37: 87610000 | AZ37: 85960000 | BG37: 278790000 | BK37: 7615 | BL37: 9.6 | BM37: 20.7 | BN37: 0.11 | BO37: 651000000 | BQ37: 1 | BS37: =1 -> 1
B38: Median | D38: =AD45 -> 0.70657839 | F38: =AP45 -> 0.12 | G38: =AQ45 -> 0.2849052 | H38: =AR45 -> 8.4622474 | I38: =AS45 -> 7.3982202 | J38: =AU45 -> 22.069452 | V38: Autodesk | W38: ADSK | X38: – | Y38: Other | Z38: 300.08 | AA38: =1 -> 1 | AB38: =Z38*AA38 -> 300.08 | AC38: 326.79 | AD38: =Z38/AC38 -> 0.91826555 | AE38: =(AX38+IF(BA38<>"",BA38,AY38-AZ38)-BB38)/10^6 -> 214 | AF38: =AB38*AE38 -> 64217.12 | AG38: =(SUM(BC38:BF38)-BG38-BH38)/10^6*BS38 -> 193 | AH38: =AF38+AG38 -> 64410.12 | AI38: =IF(BK38<>"",BK38,BR38*1000) -> 67420 | AJ38: =AH38/AI38-1 -> -0.044643726 | AK38: =(BO38*IF(BQ38>=6,IF(BQ38<=7,BQ38/12,1),1)+BP38*IF(BQ38>=6,IF(BQ38<=7,1-BQ38/12,0),0))/10^6*BS38 -> 6131 | AL38: =IF(BN38<>"",AM38/(1+BN38),"n.a.") -> 7062.644 | AM38: =IF(BI38<>"",BI38,BK38/BL38) -> 7839.5349 | AN38: =IF(BI38<>"",BI38*BJ38,BK38/BM38) -> 3150.4673 | AO38: =IF(ISNUMBER(AL38),AL38/AK38-1,"n.a.") -> 0.15195629 | AP38: =IF(ISNUMBER(AL38),AM38/AL38-1,"n.a.") -> 0.11 | AQ38: =AN38/AM38 -> 0.40186916 | AR38: =IF(ISNUMBER(AL38),AH38/AL38,"n.a.") -> 9.119831 | AS38: =AH38/AM38 -> 8.216064 | AT38: n.a. | AU38: =AH38/AN38 -> 20.444624 | AX38: 212000000 | AY38: 215000000 | AZ38: 213000000 | BE38: 2482000000 | BG38: 1989000000 | BH38: 300000000 | BK38: 67420 | BL38: 8.6 | BM38: 21.4 | BN38: 0.11 | BO38: 6131000000 | BQ38: 1 | BS38: =1 -> 1
B39: 25th percentile | D39: =AD46 -> 0.6609366 | F39: =AP46 -> 0.1 | G39: =AQ46 -> 0.25575 | H39: =AR46 -> 6.112116 | I39: =AS46 -> 5.2962242 | J39: =AU46 -> 19.425766 | V39: Atlassian | W39: TEAM | X39: – | Y39: Other | Z39: 161.07 | AA39: =1 -> 1 | AB39: =Z39*AA39 -> 161.07 | AC39: 322.94 | AD39: =Z39/AC39 -> 0.49876138 | AE39: =(AX39+IF(BA39<>"",BA39,AY39-AZ39)-BB39)/10^6 -> 263.1111 | AF39: =AB39*AE39 -> 42379.305 | AG39: =(SUM(BC39:BF39)-BG39-BH39)/10^6*BS39 -> -1790.257 | AH39: =AF39+AG39 -> 40589.048 | AI39: =IF(BK39<>"",BK39,BR39*1000) -> 44420 | AJ39: =AH39/AI39-1 -> -0.086243864 | AK39: =(BO39*IF(BQ39>=6,IF(BQ39<=7,BQ39/12,1),1)+BP39*IF(BQ39>=6,IF(BQ39<=7,1-BQ39/12,0),0))/10^6*BS39 -> 4786.9535 | AL39: =IF(BN39<>"",AM39/(1+BN39),"n.a.") -> 5783.8542 | AM39: =IF(BI39<>"",BI39,BK39/BL39) -> 6940.625 | AN39: =IF(BI39<>"",BI39*BJ39,BK39/BM39) -> 1843.1535 | AO39: =IF(ISNUMBER(AL39),AL39/AK39-1,"n.a.") -> 0.20825368 | AP39: =IF(ISNUMBER(AL39),AM39/AL39-1,"n.a.") -> 0.2 | AQ39: =AN39/AM39 -> 0.26556017 | AR39: =IF(ISNUMBER(AL39),AH39/AL39,"n.a.") -> 7.0176471 | AS39: =AH39/AM39 -> 5.8480393 | AT39: n.a. | AU39: =AH39/AN39 -> 22.021523 | AX39: 263111098 | AY39: 262991000 | AZ39: 262991000 | BE39: 988143000 | BG39: 2322360000 | BH39: 456040000 | BK39: 44420 | BL39: 6.4 | BM39: 24.1 | BN39: 0.2 | BO39: 4358603000 | BP39: 5215304000 | BQ39: 6 | BS39: =1 -> 1
B40: 75th percentile | D40: =AD47 -> 0.73599454 | F40: =AP47 -> 0.17 | G40: =AQ47 -> 0.39220904 | H40: =AR47 -> 9.119831 | I40: =AS47 -> 8.123547 | J40: =AU47 -> 26.51906 | V40: Median | AD40: =MEDIAN(AD37:AD39) -> 0.70514429 | AO40: =MEDIAN(AO37:AO39) -> 0.15195629 | AP40: =MEDIAN(AP37:AP39) -> 0.11 | AQ40: =MEDIAN(AQ37:AQ39) -> 0.40186916 | AR40: =MEDIAN(AR37:AR39) -> 9.119831 | AS40: =MEDIAN(AS37:AS39) -> 8.216064 | AU40: =MEDIAN(AU37:AU39) -> 20.616703
B41: Clearwater Analytics | V41: 25th percentile | AD41: =_xlfn.QUARTILE.INC(AD37:AD39,1) -> 0.60195284 | AO41: =_xlfn.QUARTILE.INC(AO37:AO39,1) -> 0.1248421 | AP41: =_xlfn.QUARTILE.INC(AP37:AP39,1) -> 0.11 | AQ41: =_xlfn.QUARTILE.INC(AQ37:AQ39,1) -> 0.33371466 | AR41: =_xlfn.QUARTILE.INC(AR37:AR39,1) -> 8.0687391 | AS41: =_xlfn.QUARTILE.INC(AS37:AS39,1) -> 7.0320516 | AU41: =_xlfn.QUARTILE.INC(AU37:AU39,1) -> 20.530664
B42: Clearwater – unaffected ($16.69) | C42: =AB8 -> 16.69 | D42: =AD8 -> 0.51024152 | E42: =AH8 -> 5970.832 | F42: =AP8 -> 0.29548564 | G42: =AQ8 -> 0.35163675 | H42: =AR8 -> 8.1680329 | I42: =AS8 -> 6.3049968 | J42: =AU8 -> 17.930426 | V42: 75th percentile | AD42: =_xlfn.QUARTILE.INC(AD37:AD39,3) -> 0.81170492 | AO42: =_xlfn.QUARTILE.INC(AO37:AO39,3) -> 0.18010499 | AP42: =_xlfn.QUARTILE.INC(AP37:AP39,3) -> 0.155 | AQ42: =_xlfn.QUARTILE.INC(AQ37:AQ39,3) -> 0.43281864 | AR42: =_xlfn.QUARTILE.INC(AR37:AR39,3) -> 9.8664756 | AS42: =_xlfn.QUARTILE.INC(AS37:AS39,3) -> 8.8887167 | AU42: =_xlfn.QUARTILE.INC(AU37:AU39,3) -> 21.319113
...

Sheet Precedents
B2: PRECEDENT TRANSACTIONS – CWAN (as filed with the SC 13E-3: exhibit (c)(ii) TEV / NTM, exhibit (c)(vi) FV / NTM)
B3: $bn; deals as filed with the SC 13E-3 (exhibits (c)(ii) and (c)(vi)); multiples as reported in each exhibit; premium to unaffected per announcement releases
H5: EV / NTM Revenue
B6: Announced | C6: Target | D6: Acquirer | E6: (c)(ii) | F6: (c)(vi) | G6: EV ($bn) | H6: (c)(ii) | I6: (c)(vi) | J6: Selected | K6: EV / NTM EBITDA | L6: Premium | M6: Premium basis | N6: Chart label
B8: =DATE(2025,8,21) -> 45890 | C8: Dayforce | D8: Thoma Bravo | E8: ✓ | F8: ✓ | G8: 12.1 | H8: 5.9 | I8: 5.8 | J8: =IF(ISNUMBER(H8),H8,I8) -> 5.9 | K8: 18.4 | L8: 0.32 | M8: Unaffected close | N8: =C8&" ("&TEXT(B8,"mmm-yy")&")" -> Dayforce (Aug-25)
B9: =DATE(2025,8,13) -> 45882 | C9: Sapiens | D9: Advent International | E9: ✓ | F9: – | G9: 2.3 | H9: 3.8 | J9: =IF(ISNUMBER(H9),H9,I9) -> 3.8 | K9: n.a. | L9: 0.64 | M9: Undisturbed close | N9: =C9&" ("&TEXT(B9,"mmm-yy")&")" -> Sapiens (Aug-25)
B10: =DATE(2025,1,13) -> 45670 | C10: Enfusion | D10: Clearwater Analytics | E10: ✓ | F10: ✓ | G10: 1.4 | H10: 6.2 | I10: 6.1 | J10: =IF(ISNUMBER(H10),H10,I10) -> 6.2 | K10: 26.1 | L10: 0.316 | M10: Undisturbed close | N10: =C10&" ("&TEXT(B10,"mmm-yy")&")" -> Enfusion (Jan-25)
B11: =DATE(2024,9,24) -> 45559 | C11: Smartsheet | D11: Vista / Blackstone | E11: – | F11: ✓ | G11: 7.6 | I11: 6.2 | J11: =IF(ISNUMBER(H11),H11,I11) -> 6.2 | K11: 30.2 | L11: 0.41 | M11: 90-day VWAP | N11: =C11&" ("&TEXT(B11,"mmm-yy")&")" -> Smartsheet (Sep-24)
B12: =DATE(2024,7,25) -> 45498 | C12: Instructure | D12: KKR | E12: ✓ | F12: – | G12: 4.7 | H12: 6.9 | J12: =IF(ISNUMBER(H12),H12,I12) -> 6.9 | K12: n.a. | L12: 0.16 | M12: Unaffected close | N12: =C12&" ("&TEXT(B12,"mmm-yy")&")" -> Instructure (Jul-24)
B13: =DATE(2024,7,11) -> 45484 | C13: Envestnet | D13: Bain Capital | E13: ✓ | F13: – | G13: 4.5 | H13: 3.2 | J13: =IF(ISNUMBER(H13),H13,I13) -> 3.2 | K13: n.a. | L13: n.a. | M13: Not disclosed | N13: =C13&" ("&TEXT(B13,"mmm-yy")&")" -> Envestnet (Jul-24)
B14: =DATE(2024,6,7) -> 45450 | C14: PowerSchool | D14: Bain Capital | E14: ✓ | F14: ✓ | G14: 5.8 | H14: 7.2 | I14: 7.1 | J14: =IF(ISNUMBER(H14),H14,I14) -> 7.2 | K14: 20 | L14: 0.37 | M14: Unaffected close | N14: =C14&" ("&TEXT(B14,"mmm-yy")&")" -> PowerSchool (Jun-24)
B15: =DATE(2023,4,27) -> 45043 | C15: SimCorp | D15: Deutsche Börse | E15: ✓ | F15: ✓ | G15: 4.3 | H15: 6.5 | I15: 6.2 | J15: =IF(ISNUMBER(H15),H15,I15) -> 6.5 | K15: 26.1 | L15: 0.389 | M15: Close | N15: =C15&" ("&TEXT(B15,"mmm-yy")&")" -> SimCorp (Apr-23)
B16: =DATE(2023,3,14) -> 44999 | C16: Cvent | D16: Blackstone | E16: ✓ | F16: – | G16: 4.5 | H16: 6.4 | J16: =IF(ISNUMBER(H16),H16,I16) -> 6.4 | K16: n.a. | L16: 0.52 | M16: 90-day VWAP | N16: =C16&" ("&TEXT(B16,"mmm-yy")&")" -> Cvent (Mar-23)
B17: =DATE(2023,3,1) -> 44986 | C17: Qualtrics | D17: Silver Lake / CPP Investments | E17: – | F17: ✓ | G17: 11.7 | I17: 6.9 | J17: =IF(ISNUMBER(H17),H17,I17) -> 6.9 | K17: 41.6 | L17: 0.62 | M17: Unaffected close | N17: =C17&" ("&TEXT(B17,"mmm-yy")&")" -> Qualtrics (Mar-23)
B18: =DATE(2022,12,12) -> 44907 | C18: Coupa Software | D18: Thoma Bravo | E18: ✓ | F18: ✓ | G18: 8.1 | H18: 8.7 | I18: 8.4 | J18: =IF(ISNUMBER(H18),H18,I18) -> 8.7 | K18: 37.7 | L18: 0.77 | M18: Unaffected close | N18: =C18&" ("&TEXT(B18,"mmm-yy")&")" -> Coupa Software (Dec-22)
B19: =DATE(2022,5,4) -> 44685 | C19: Black Knight | D19: Intercontinental Exchange | E19: ✓ | F19: – | G19: 14.3 | H19: 9 | J19: =IF(ISNUMBER(H19),H19,I19) -> 9 | K19: n.a. | L19: 0.34 | M19: Close | N19: =C19&" ("&TEXT(B19,"mmm-yy")&")" -> Black Knight (May-22)
B20: =DATE(2021,8,19) -> 44427 | C20: Inovalon | D20: Nordic Capital / Insight | E20: ✓ | F20: ✓ | G20: 7.2 | H20: 8.9 | I20: 8.5 | J20: =IF(ISNUMBER(H20),H20,I20) -> 8.9 | K20: 24.5 | L20: 0.253 | M20: Unaffected close | N20: =C20&" ("&TEXT(B20,"mmm-yy")&")" -> Inovalon (Aug-21)
B21: =DATE(2021,4,26) -> 44312 | C21: Proofpoint | D21: Thoma Bravo | E21: – | F21: ✓ | G21: 10.2 | I21: 8 | J21: =IF(ISNUMBER(H21),H21,I21) -> 8 | K21: 51.3 | L21: 0.34 | M21: Close | N21: =C21&" ("&TEXT(B21,"mmm-yy")&")" -> Proofpoint (Apr-21)
B22: =DATE(2020,12,21) -> 44186 | C22: RealPage | D22: Thoma Bravo | E22: ✓ | F22: ✓ | G22: 10.2 | H22: 8.2 | I22: 8 | J22: =IF(ISNUMBER(H22),H22,I22) -> 8.2 | K22: 28.6 | L22: 0.308 | M22: Close | N22: =C22&" ("&TEXT(B22,"mmm-yy")&")" -> RealPage (Dec-20)
B24: Median | H24: =MEDIAN(H8:H22) -> 6.7 | I24: =MEDIAN(I8:I22) -> 7 | J24: =MEDIAN(J8:J22) -> 6.9 | K24: =MEDIAN(K8:K22) -> 27.35 | L24: =MEDIAN(L8:L22) -> 0.355
B25: 25th percentile | H25: =_xlfn.QUARTILE.INC(H8:H22,1) -> 6.125 | I25: =_xlfn.QUARTILE.INC(I8:I22,1) -> 6.2 | J25: =_xlfn.QUARTILE.INC(J8:J22,1) -> 6.2 | K25: =_xlfn.QUARTILE.INC(K8:K22,1) -> 24.9 | L25: =_xlfn.QUARTILE.INC(L8:L22,1) -> 0.317
B26: 75th percentile | H26: =_xlfn.QUARTILE.INC(H8:H22,3) -> 8.325 | I26: =_xlfn.QUARTILE.INC(I8:I22,3) -> 8 | J26: =_xlfn.QUARTILE.INC(J8:J22,3) -> 8.1 | K26: =_xlfn.QUARTILE.INC(K8:K22,3) -> 35.825 | L26: =_xlfn.QUARTILE.INC(L8:L22,3) -> 0.4925
B27: Median as filed with the SC 13E-3 | H27: 6.7 | I27: 7
B29: IMPLIED CWAN PRICE PER SHARE | D29: Metric | F29: 25th | G29: Median | H29: 75th | I29: @ 25th | J29: @ median | K29: @ 75th | L29: Offer vs median
B30: EV / NTM Revenue (mgmt CY26E) | D30: ='Trading Comps'!$X$77 -> 940 | F30: =J25 -> 6.2 | G30: =J24 -> 6.9 | H30: =J26 -> 8.1 | I30: =(F30*D30-'Trading Comps'!$X$67+'Trading Comps'!$X$68+'Trading Comps'!$X$69+'Trading Comps'!$X$64/10^6*'Trading Comps'!$X$65-'Trading Comps'!$X$66)/(('Trading Comps'!$X$60+'Trading Comps'!$X$61+'Trading Comps'!$X$62+'Trading Comps'!$X$63+'Trading Comps'!$X$64)/10^6) -> 16.234048 | J30: =(G30*D30-'Trading Comps'!$X$67+'Trading Comps'!$X$68+'Trading Comps'!$X$69+'Trading Comps'!$X$64/10^6*'Trading Comps'!$X$65-'Trading Comps'!$X$66)/(('Trading Comps'!$X$60+'Trading Comps'!$X$61+'Trading Comps'!$X$62+'Trading Comps'!$X$63+'Trading Comps'!$X$64)/10^6) -> 18.334531 | K30: =(H30*D30-'Trading Comps'!$X$67+'Trading Comps'!$X$68+'Trading Comps'!$X$69+'Trading Comps'!$X$64/10^6*'Trading Comps'!$X$65-'Trading Comps'!$X$66)/(('Trading Comps'!$X$60+'Trading Comps'!$X$61+'Trading Comps'!$X$62+'Trading Comps'!$X$63+'Trading Comps'!$X$64)/10^6) -> 21.935359 | L30: ='Trading Comps'!$X$58/J30-1 -> 0.33900343
B31: EV / NTM EBITDA (mgmt CY26E) | D31: ='Trading Comps'!$X$78 -> 338 | F31: =K25 -> 24.9 | G31: =K24 -> 27.35 | H31: =K26 -> 35.825 | I31: =(F31*D31-'Trading Comps'!$X$67+'Trading Comps'!$X$68+'Trading Comps'!$X$69+'Trading Comps'!$X$64/10^6*'Trading Comps'!$X$65-'Trading Comps'!$X$66)/(('Trading Comps'!$X$60+'Trading Comps'!$X$61+'Trading Comps'!$X$62+'Trading Comps'!$X$63+'Trading Comps'!$X$64)/10^6) -> 24.49616 | J31: =(G31*D31-'Trading Comps'!$X$67+'Trading Comps'!$X$68+'Trading Comps'!$X$69+'Trading Comps'!$X$64/10^6*'Trading Comps'!$X$65-'Trading Comps'!$X$66)/(('Trading Comps'!$X$60+'Trading Comps'!$X$61+'Trading Comps'!$X$62+'Trading Comps'!$X$63+'Trading Comps'!$X$64)/10^6) -> 27.13964 | K31: =(H31*D31-'Trading Comps'!$X$67+'Trading Comps'!$X$68+'Trading Comps'!$X$69+'Trading Comps'!$X$64/10^6*'Trading Comps'!$X$65-'Trading Comps'!$X$66)/(('Trading Comps'!$X$60+'Trading Comps'!$X$61+'Trading Comps'!$X$62+'Trading Comps'!$X$63+'Trading Comps'!$X$64)/10^6) -> 36.283923 | L31: ='Trading Comps'!$X$58/J31-1 -> -0.095419103
B32: Premium to unaffected | D32: ='Trading Comps'!$X$57 -> 16.69 | F32: =L25 -> 0.317 | G32: =L24 -> 0.355 | H32: =L26 -> 0.4925 | I32: =D32*(1+F32) -> 21.98073 | J32: =D32*(1+G32) -> 22.61495 | K32: =D32*(1+H32) -> 24.909825 | L32: ='Trading Comps'!$X$58/J32-1 -> 0.08556508
B33: CWAN offer – EV / NTM Revenue (mgmt) | J33: ='Trading Comps'!AH9/'Trading Comps'!X77 -> 8.9713467
B34: CWAN offer – premium to unaffected | J34: ='Trading Comps'!X58/'Trading Comps'!X57-1 -> 0.47094068
