Workbook

Sheet Returns Output
B2: Clearwater Analytics Take-Private: Sponsor and LP Returns
B3: ="($ in millions; close 25-Jun-26; exit at fiscal year-end on a flat NTM multiple; selected exit "&TEXT(Assumptions!$D$6,"""FY""yyyy")&")" -> ($ in millions; close 25-Jun-26; exit at fiscal year-end on a flat NTM multiple; selected exit FY2030)
B5: Returns by Exit Year
B6: Exit at fiscal year-end | F6: ='Deal Returns'!F6 -> 46752 | G6: ='Deal Returns'!G6 -> 47118 | H6: ='Deal Returns'!H6 -> 47483 | I6: ='Deal Returns'!I6 -> 47848 | J6: ='Deal Returns'!J6 -> 48213
B7: Outside-in case
B8: Exit equity value | F8: ='Deal Returns'!F14 -> 8616.5452 | G8: ='Deal Returns'!G14 -> 10252.001 | H8: ='Deal Returns'!H14 -> 11877.708 | I8: ='Deal Returns'!I14 -> 13617.175 | J8: ='Deal Returns'!J14 -> 15448.117
B9: Gross MOIC | F9: ='Deal Returns'!F26 -> 1.5019169 | G9: ='Deal Returns'!G26 -> 1.7869869 | H9: ='Deal Returns'!H26 -> 2.0703576 | I9: ='Deal Returns'!I26 -> 2.3735575 | J9: ='Deal Returns'!J26 -> 2.692702
B10: Gross XIRR | F10: ='Deal Returns'!F25 -> 0.30732097 | G10: ='Deal Returns'!G25 -> 0.25900198 | H10: ='Deal Returns'!H25 -> 0.22962205 | I10: ='Deal Returns'!I25 -> 0.21071793 | J10: ='Deal Returns'!J25 -> 0.19653367
B11: Marginal IRR of holding one more year | F11: ='Deal Returns'!F53 -> 0.30732097 | G11: ='Deal Returns'!G53 -> 0.18923928 | H11: ='Deal Returns'!H53 -> 0.1585746 | I11: ='Deal Returns'!I53 -> 0.14644806 | J11: ='Deal Returns'!J53 -> 0.1344583
B12: LP net MOIC (European waterfall) | F12: ='Fund Waterfall'!F44 -> 1.3312547 | G12: ='Fund Waterfall'!G44 -> 1.5060667 | H12: ='Fund Waterfall'!H44 -> 1.672577 | I12: ='Fund Waterfall'!I44 -> 1.8456244 | J12: ='Fund Waterfall'!J44 -> 2.0241438
B13: LP net XIRR (European waterfall) | F13: ='Fund Waterfall'!F45 -> 0.20905277 | G13: ='Fund Waterfall'!G45 -> 0.17940716 | H13: ='Fund Waterfall'!H45 -> 0.16136125 | I13: ='Fund Waterfall'!I45 -> 0.15008512 | J13: ='Fund Waterfall'!J45 -> 0.14177312
B14: Management case
B15: Exit equity value | F15: ='Deal Returns'!F75 -> 10156.293 | G15: ='Deal Returns'!G75 -> 13225.344 | H15: ='Deal Returns'!H75 -> 16723.03 | I15: ='Deal Returns'!I75 -> 20418.83 | J15: ='Deal Returns'!J75 -> 24552.556
B16: Gross MOIC | F16: ='Deal Returns'!F87 -> 1.7703044 | G16: ='Deal Returns'!G87 -> 2.3052589 | H16: ='Deal Returns'!H87 -> 2.9149271 | I16: ='Deal Returns'!I87 -> 3.5591278 | J16: ='Deal Returns'!J87 -> 4.2796617
B17: Gross XIRR | F17: ='Deal Returns'!F86 -> 0.45688438 | G17: ='Deal Returns'!G86 -> 0.39285242 | H17: ='Deal Returns'!H86 -> 0.35511439 | I17: ='Deal Returns'!I86 -> 0.3242314 | J17: ='Deal Returns'!J86 -> 0.30129097
B18: Marginal IRR of holding one more year | F18: ='Deal Returns'!F114 -> 0.45688438 | G18: ='Deal Returns'!G114 -> 0.30124316 | H18: ='Deal Returns'!H114 -> 0.26446842 | I18: ='Deal Returns'!I114 -> 0.22100061 | J18: ='Deal Returns'!J114 -> 0.20244678
B19: LP net MOIC (European waterfall) | F19: ='Fund Waterfall'!F135 -> 1.5223426 | G19: ='Fund Waterfall'!G135 -> 1.8672824 | H19: ='Fund Waterfall'!H135 -> 2.249078 | I19: ='Fund Waterfall'!I135 -> 2.6385496 | J19: ='Fund Waterfall'!J135 -> 3.0655821
B20: LP net XIRR (European waterfall) | F20: ='Fund Waterfall'!F136 -> 0.32152497 | G20: ='Fund Waterfall'!G136 -> 0.28588825 | H20: ='Fund Waterfall'!H136 -> 0.26532003 | I20: ='Fund Waterfall'!I136 -> 0.24706147 | J20: ='Fund Waterfall'!J136 -> 0.23347705
B22: ="Value-Creation Bridge: "&TEXT(Assumptions!$D$6,"""FY""yyyy")&" Exit" -> Value-Creation Bridge: FY2030 Exit
F23: Outside-in | H23: Management
F24: $m | G24: % of value | H24: $m | I24: % of value
B25: Sponsor equity invested | F25: =INDEX('Value Creation'!$F$12:$J$12,MATCH(Assumptions!$D$6,'Value Creation'!$F$6:$J$6,0)) -> 5737.032 | H25: =INDEX('Value Creation'!$F$41:$J$41,MATCH(Assumptions!$D$6,'Value Creation'!$F$35:$J$35,0)) -> 5737.032
B26: (+) Revenue growth | F26: =INDEX('Value Creation'!$F$13:$J$13,MATCH(Assumptions!$D$6,'Value Creation'!$F$6:$J$6,0)) -> 6185.0389 | G26: =F26/(F$31-F$25) -> 0.78488916 | H26: =INDEX('Value Creation'!$F$42:$J$42,MATCH(Assumptions!$D$6,'Value Creation'!$F$35:$J$35,0)) -> 10308.85 | I26: =H26/(H$31-H$25) -> 0.70215176
B27: (+) Margin expansion | F27: =INDEX('Value Creation'!$F$14:$J$14,MATCH(Assumptions!$D$6,'Value Creation'!$F$6:$J$6,0)) -> 1360.1508 | G27: =F27/(F$31-F$25) -> 0.17260483 | H27: =INDEX('Value Creation'!$F$43:$J$43,MATCH(Assumptions!$D$6,'Value Creation'!$F$35:$J$35,0)) -> 3504.7657 | I27: =H27/(H$31-H$25) -> 0.23871502
B28: (+) Multiple change | F28: =INDEX('Value Creation'!$F$15:$J$15,MATCH(Assumptions!$D$6,'Value Creation'!$F$6:$J$6,0)) -> 0 | G28: =F28/(F$31-F$25) -> 0 | H28: =INDEX('Value Creation'!$F$44:$J$44,MATCH(Assumptions!$D$6,'Value Creation'!$F$35:$J$35,0)) -> 0 | I28: =H28/(H$31-H$25) -> 0
B29: (+) Debt paydown and cash build, less unpaid deferred awards | F29: =INDEX('Value Creation'!$F$16:$J$16,MATCH(Assumptions!$D$6,'Value Creation'!$F$6:$J$6,0)) -> 315.22651 | G29: =F29/(F$31-F$25) -> 0.040002638 | H29: =INDEX('Value Creation'!$F$45:$J$45,MATCH(Assumptions!$D$6,'Value Creation'!$F$35:$J$35,0)) -> 848.45498 | I29: =H29/(H$31-H$25) -> 0.057789583
B30: (+) Deferred awards assumed at close, less fees | F30: =INDEX('Value Creation'!$F$17:$J$17,MATCH(Assumptions!$D$6,'Value Creation'!$F$6:$J$6,0)) -> 19.726949 | G30: =F30/(F$31-F$25) -> 0.0025033745 | H30: =INDEX('Value Creation'!$F$46:$J$46,MATCH(Assumptions!$D$6,'Value Creation'!$F$35:$J$35,0)) -> 19.726949 | I30: =H30/(H$31-H$25) -> 0.0013436331
B31: Exit equity value ($m) | F31: =INDEX('Value Creation'!$F$18:$J$18,MATCH(Assumptions!$D$6,'Value Creation'!$F$6:$J$6,0)) -> 13617.175 | H31: =INDEX('Value Creation'!$F$47:$J$47,MATCH(Assumptions!$D$6,'Value Creation'!$F$35:$J$35,0)) -> 20418.83
B32: (–) Management incentive pool | F32: =INDEX('Value Creation'!$F$21:$J$21,MATCH(Assumptions!$D$6,'Value Creation'!$F$6:$J$6,0)) -> -630.41145 | H32: =INDEX('Value Creation'!$F$50:$J$50,MATCH(Assumptions!$D$6,'Value Creation'!$F$35:$J$35,0)) -> -1174.5438
B33: Sponsor proceeds after incentive pool ($m) | F33: =INDEX('Value Creation'!$F$22:$J$22,MATCH(Assumptions!$D$6,'Value Creation'!$F$6:$J$6,0)) -> 12986.764 | H33: =INDEX('Value Creation'!$F$51:$J$51,MATCH(Assumptions!$D$6,'Value Creation'!$F$35:$J$35,0)) -> 19244.286
B35: ="Fund Waterfall: "&TEXT(Assumptions!$D$6,"""FY""yyyy")&" Exit (Illustrative LPA Terms)" -> Fund Waterfall: FY2030 Exit (Illustrative LPA Terms)
F36: Outside-in | H36: Management
F37: European | G37: American | H37: European | I37: American
B38: Distributable proceeds (after incentive pool) | F38: =INDEX('Fund Waterfall'!$F$30:$J$30,MATCH(Assumptions!$D$6,'Fund Waterfall'!$F$22:$J$22,0)) -> 12986.764 | G38: =INDEX('Fund Waterfall'!$F$30:$J$30,MATCH(Assumptions!$D$6,'Fund Waterfall'!$F$22:$J$22,0)) -> 12986.764 | H38: =INDEX('Fund Waterfall'!$F$121:$J$121,MATCH(Assumptions!$D$6,'Fund Waterfall'!$F$113:$J$113,0)) -> 19244.286 | I38: =INDEX('Fund Waterfall'!$F$121:$J$121,MATCH(Assumptions!$D$6,'Fund Waterfall'!$F$113:$J$113,0)) -> 19244.286
B39: Tier 1: return of capital | F39: =INDEX('Fund Waterfall'!$F$32:$J$32,MATCH(Assumptions!$D$6,'Fund Waterfall'!$F$22:$J$22,0)) -> 6313.3548 | G39: =INDEX('Fund Waterfall'!$F$48:$J$48,MATCH(Assumptions!$D$6,'Fund Waterfall'!$F$22:$J$22,0)) -> 5737.032 | H39: =INDEX('Fund Waterfall'!$F$123:$J$123,MATCH(Assumptions!$D$6,'Fund Waterfall'!$F$113:$J$113,0)) -> 6313.3548 | I39: =INDEX('Fund Waterfall'!$F$139:$J$139,MATCH(Assumptions!$D$6,'Fund Waterfall'!$F$113:$J$113,0)) -> 5737.032
B40: Tier 2: 8% preferred return | F40: =INDEX('Fund Waterfall'!$F$34:$J$34,MATCH(Assumptions!$D$6,'Fund Waterfall'!$F$22:$J$22,0)) -> 2525.2874 | G40: =INDEX('Fund Waterfall'!$F$50:$J$50,MATCH(Assumptions!$D$6,'Fund Waterfall'!$F$22:$J$22,0)) -> 2387.1746 | H40: =INDEX('Fund Waterfall'!$F$125:$J$125,MATCH(Assumptions!$D$6,'Fund Waterfall'!$F$113:$J$113,0)) -> 2525.2874 | I40: =INDEX('Fund Waterfall'!$F$141:$J$141,MATCH(Assumptions!$D$6,'Fund Waterfall'!$F$113:$J$113,0)) -> 2387.1746
B41: Tier 3: 100% GP catch-up | F41: =INDEX('Fund Waterfall'!$F$36:$J$36,MATCH(Assumptions!$D$6,'Fund Waterfall'!$F$22:$J$22,0)) -> 631.32184 | G41: =INDEX('Fund Waterfall'!$F$52:$J$52,MATCH(Assumptions!$D$6,'Fund Waterfall'!$F$22:$J$22,0)) -> 596.79366 | H41: =INDEX('Fund Waterfall'!$F$127:$J$127,MATCH(Assumptions!$D$6,'Fund Waterfall'!$F$113:$J$113,0)) -> 631.32184 | I41: =INDEX('Fund Waterfall'!$F$143:$J$143,MATCH(Assumptions!$D$6,'Fund Waterfall'!$F$113:$J$113,0)) -> 596.79366
B42: Tier 4: 80/20 split | F42: =INDEX('Fund Waterfall'!$F$38:$J$38,MATCH(Assumptions!$D$6,'Fund Waterfall'!$F$22:$J$22,0)) -> 3516.7996 | G42: =INDEX('Fund Waterfall'!$F$54:$J$54,MATCH(Assumptions!$D$6,'Fund Waterfall'!$F$22:$J$22,0)) -> 4265.7634 | H42: =INDEX('Fund Waterfall'!$F$129:$J$129,MATCH(Assumptions!$D$6,'Fund Waterfall'!$F$113:$J$113,0)) -> 9774.3219 | I42: =INDEX('Fund Waterfall'!$F$145:$J$145,MATCH(Assumptions!$D$6,'Fund Waterfall'!$F$113:$J$113,0)) -> 10523.286
B43: LP distributions ($m) | F43: =INDEX('Fund Waterfall'!$F$41:$J$41,MATCH(Assumptions!$D$6,'Fund Waterfall'!$F$22:$J$22,0)) -> 11652.082 | G43: =INDEX('Fund Waterfall'!$F$57:$J$57,MATCH(Assumptions!$D$6,'Fund Waterfall'!$F$22:$J$22,0)) -> 11536.817 | H43: =INDEX('Fund Waterfall'!$F$132:$J$132,MATCH(Assumptions!$D$6,'Fund Waterfall'!$F$113:$J$113,0)) -> 16658.1 | I43: =INDEX('Fund Waterfall'!$F$148:$J$148,MATCH(Assumptions!$D$6,'Fund Waterfall'!$F$113:$J$113,0)) -> 16542.835
B44: GP carried interest, before clawback ($m) | F44: =INDEX('Fund Waterfall'!$F$42:$J$42,MATCH(Assumptions!$D$6,'Fund Waterfall'!$F$22:$J$22,0)) -> 1334.6818 | G44: =INDEX('Fund Waterfall'!$F$58:$J$58,MATCH(Assumptions!$D$6,'Fund Waterfall'!$F$22:$J$22,0)) -> 1449.9463 | H44: =INDEX('Fund Waterfall'!$F$133:$J$133,MATCH(Assumptions!$D$6,'Fund Waterfall'!$F$113:$J$113,0)) -> 2586.1862 | I44: =INDEX('Fund Waterfall'!$F$149:$J$149,MATCH(Assumptions!$D$6,'Fund Waterfall'!$F$113:$J$113,0)) -> 2701.4508
...

Sheet Assumptions
B2: Assumptions
B3: (illustrative inputs; each is an assumption unless sourced on LBO Inputs)
B5: Exit and Extrapolation
B6: Selected exit (fiscal year-end) | D6: 47848 | F6: << Flat-multiple exit at each fiscal year-end, as in the LBO model; FY2030 is the base exit
B7: Exit NTM multiple vs. entry (turns) | D7: 0 | F7: << Zero keeps the LBO's flat exit multiple; the multiple-change bar in the bridge is then zero
B8: FY2032E revenue growth vs. FY2031E (pp) | D8: 0 | F8: << FY2031 exit only: the LBO forecast ends at FY2031E, so FY2032E (NTM) grows at FY2031E's rate plus this shift
B9: FY2032E Adj. EBITDA margin vs. FY2031E (pp) | D9: 0 | F9: << FY2031 exit only: FY2032E margin held at FY2031E plus this shift
B11: Management Incentive Pool (Illustrative)
B12: Pool, % of exit equity value above hurdle | D12: 0.08 | F12: << Proxy: Parent agreed to a post-closing equity incentive program for key employees; size not disclosed
B13: Hurdle: MOIC on sponsor equity invested | D13: 1 | F13: << Pool shares value created above invested capital (1.00x); nothing paid below it
B14: Time vesting period (years, ratable) | D14: 5 | F14: << Five-year ratable time vesting from close
B15: Full acceleration on a sale (1 = yes, 0 = no) | D15: 1 | F15: << With acceleration, the whole pool vests at any exit; set 0 to forfeit the unvested part
B17: Fund Terms (Illustrative LPA)
B18: Management fee, % of committed capital (investment period) | D18: 0.02 | F18: << On LP commitments; commitments sized so the deal plus investment-period fees fill them
B19: Investment period (years from close) | D19: 5 | F19: << Fees switch to invested capital after the investment period (FY2031 exit only)
B20: Management fee after investment period, % of invested capital | D20: 0.02 | F20: << Same rate on invested capital after the investment period
B21: Preferred return (annual compounding) | D21: 0.08 | F21: << Accrues on contributed capital (deal equity and fees) from each contribution date
B22: GP catch-up rate | D22: 1 | F22: << 100%: all cash after the preferred return goes to the GP until it holds 20% of profit
B23: Carried interest | D23: 0.2 | F23: << 80/20 LP/GP split above the catch-up
B24: Day count (days per year) | D24: 365 | F24: << Fee pro-ration and preferred return on actual days / 365, as XIRR

Sheet LBO Inputs
B2: LBO Inputs: outputs copied from CWAN LBO Model (Compound, 2026-10-20)
B3: ($ in millions)
B5: Transaction at Close (Both Cases)
B6: Close date | D6: 46198
B7: Transaction enterprise value | D7: 8381.7589
B8: Company merger costs | D8: 124.14263
B9: Financing fees & OID | D9: 54
B10: Sponsor equity invested (excl. rollover) | D10: 5737.032
B11: Management rollover | D11: 0
B12: Net debt at close | D12: 2625
B13: Memo: equity funded per closing 8-K (approx.) | D13: 5700
B14: Deferred award liability at close (paid within SBC as cash) | D14: 197.86958
B15: Deferred award payout above SBC as cash (FY2026E from close) | E15: 0 | F15: 0 | G15: 0 | H15: 0 | I15: 0 | J15: 0
B16: Deferred award liability, net of tax, at fiscal year-end | E16: 122.81093 | F16: 73.388672 | G16: 23.831008 | H16: 0 | I16: 0 | J16: 0
B18: Outside-in Case
B19: Fiscal year ending 31-Dec | E19: =DATE(2026,12,31) -> 46387 | F19: =EOMONTH(E19,12) -> 46752 | G19: =EOMONTH(F19,12) -> 47118 | H19: =EOMONTH(G19,12) -> 47483 | I19: =EOMONTH(H19,12) -> 47848 | J19: =EOMONTH(I19,12) -> 48213
B20: Revenue | E20: 936.446 | F20: 1063.9841 | G20: 1198.2522 | H20: 1337.4815 | I20: 1479.5137 | J20: 1627.465
B21: Adj. EBITDA (pre-SBC) | E21: 334.718 | F21: 395.47459 | G21: 453.01666 | H21: 514.17724 | I21: 573.49361 | J21: 636.02835
B22: FCF after tax and capex, pre-interest (FY2026E from close) | E22: 89.170614 | F22: 227.10955 | G22: 270.92516 | H22: 318.25226 | I22: 363.96907 | J22: 412.67992
B23: Net debt (incl. PIK) | E23: 2652.4225 | F23: 2654.1722 | G23: 2599.8118 | H23: 2483.2923 | I23: 2309.7735 | J23: 2071.5261
B24: Entry / exit NTM multiple (flat) | D24: 25.041256
B25: Exit equity value | F25: 8616.5452 | G25: 10252.001 | H25: 11877.708 | I25: 13617.175
B26: MOIC (LBO) | F26: 1.5019169 | G26: 1.7869869 | H26: 2.0703576 | I26: 2.3735575
B27: IRR (LBO convention) | F27: 0.30732097 | G27: 0.25926681 | H27: 0.22979615 | I27: 0.21084479
B28: XIRR, FY2030 exit (LBO) | I28: 0.21071793
B29: Exit enterprise value | F29: 11344.106 | G29: 12875.644 | H29: 14361 | I29: 15926.949
B31: Management Case
B32: Fiscal year ending 31-Dec | E32: =DATE(2026,12,31) -> 46387 | F32: =EOMONTH(E32,12) -> 46752 | G32: =EOMONTH(F32,12) -> 47118 | H32: =EOMONTH(G32,12) -> 47483 | I32: =EOMONTH(H32,12) -> 47848 | J32: =EOMONTH(I32,12) -> 48213
B33: Revenue | E33: 941.76153 | F33: 1102.0614 | G33: 1300.4324 | H33: 1533.8691 | I33: 1810.3863 | J33: 2100.0481
B34: Adj. EBITDA (pre-SBC) | E34: 338.6334 | F34: 418.78332 | G34: 518.97072 | H34: 635.1881 | I34: 764.42984 | J34: 896.72053
B35: FCF after tax and capex, pre-interest (FY2026E from close) | E35: 92.929947 | F35: 260.09338 | G35: 352.94338 | H35: 460.59154 | I35: 579.98473 | J35: 702.02363
B36: Net debt (incl. PIK) | E36: 2648.6285 | F36: 2615.7361 | G36: 2472.8225 | H36: 2197.9229 | I36: 1776.545 | J36: 1194.0787
B37: Entry / exit NTM multiple (flat) | D37: 24.751719
B38: Exit equity value | F38: 10156.293 | G38: 13225.344 | H38: 16723.03 | I38: 20418.83
B39: MOIC (LBO) | F39: 1.7703044 | G39: 2.3052589 | H39: 2.9149271 | I39: 3.5591278
B40: IRR (LBO convention) | F40: 0.45688438 | G40: 0.39327396 | H40: 0.35539648 | I40: 0.32443519
B41: XIRR, FY2030 exit (LBO) | I41: 0.3242314
B42: Exit enterprise value | F42: 12845.418 | G42: 15721.998 | H42: 18920.953 | I42: 22195.375

Sheet Deal Returns
B2: Deal Returns: Sponsor Equity, Dated Cash Flows by Exit Year
B3: ($ in millions)
B5: Outside-in Case: Exit Build
B6: Exit at fiscal year-end | F6: ='LBO Inputs'!F19 -> 46752 | G6: ='LBO Inputs'!G19 -> 47118 | H6: ='LBO Inputs'!H19 -> 47483 | I6: ='LBO Inputs'!I19 -> 47848 | J6: ='LBO Inputs'!J19 -> 48213
B7: Years from close | F7: =YEARFRAC('LBO Inputs'!$D$6,F$6,1) -> 1.5178082 | G7: =YEARFRAC('LBO Inputs'!$D$6,G$6,1) -> 2.5182482 | H7: =YEARFRAC('LBO Inputs'!$D$6,H$6,1) -> 3.5181383 | I7: =YEARFRAC('LBO Inputs'!$D$6,I$6,1) -> 4.5180723 | J7: =YEARFRAC('LBO Inputs'!$D$6,J$6,1) -> 5.5180283
B8: NTM revenue (next fiscal year) | F8: ='LBO Inputs'!G20 -> 1198.2522 | G8: ='LBO Inputs'!H20 -> 1337.4815 | H8: ='LBO Inputs'!I20 -> 1479.5137 | I8: ='LBO Inputs'!J20 -> 1627.465 | J8: ='LBO Inputs'!J20*('LBO Inputs'!J20/'LBO Inputs'!I20+Assumptions!$D$8) -> 1790.2115
B9: NTM Adj. EBITDA margin | F9: ='LBO Inputs'!G21/'LBO Inputs'!G20 -> 0.37806455 | G9: ='LBO Inputs'!H21/'LBO Inputs'!H20 -> 0.38443689 | H9: ='LBO Inputs'!I21/'LBO Inputs'!I20 -> 0.38762306 | I9: ='LBO Inputs'!J21/'LBO Inputs'!J20 -> 0.39080923 | J9: ='LBO Inputs'!J21/'LBO Inputs'!J20+Assumptions!$D$9 -> 0.39080923
B10: NTM Adj. EBITDA (pre-SBC) | F10: ='LBO Inputs'!G21 -> 453.01666 | G10: ='LBO Inputs'!H21 -> 514.17724 | H10: ='LBO Inputs'!I21 -> 573.49361 | I10: ='LBO Inputs'!J21 -> 636.02835 | J10: =J8*J9 -> 699.63119
B11: (×) Exit NTM multiple | F11: ='LBO Inputs'!$D$24+Assumptions!$D$7 -> 25.041256 | G11: ='LBO Inputs'!$D$24+Assumptions!$D$7 -> 25.041256 | H11: ='LBO Inputs'!$D$24+Assumptions!$D$7 -> 25.041256 | I11: ='LBO Inputs'!$D$24+Assumptions!$D$7 -> 25.041256 | J11: ='LBO Inputs'!$D$24+Assumptions!$D$7 -> 25.041256
B12: Exit enterprise value ($m) | F12: =F10*F11 -> 11344.106 | G12: =G10*G11 -> 12875.644 | H12: =H10*H11 -> 14361 | I12: =I10*I11 -> 15926.949 | J12: =J10*J11 -> 17519.643
B13: (–) Net debt and unpaid deferred awards (net of tax) at exit | F13: =-'LBO Inputs'!F23-'LBO Inputs'!F16 -> -2727.5609 | G13: =-'LBO Inputs'!G23-'LBO Inputs'!G16 -> -2623.6428 | H13: =-'LBO Inputs'!H23-'LBO Inputs'!H16 -> -2483.2923 | I13: =-'LBO Inputs'!I23-'LBO Inputs'!I16 -> -2309.7735 | J13: =-'LBO Inputs'!J23-'LBO Inputs'!J16 -> -2071.5261
B14: Exit equity value ($m) | F14: =F12+F13 -> 8616.5452 | G14: =G12+G13 -> 10252.001 | H14: =H12+H13 -> 11877.708 | I14: =I12+I13 -> 13617.175 | J14: =J12+J13 -> 15448.117
B16: Sponsor equity cash flows by exit year (dated; before incentive pool)
C17: Date | F17: =F$6 -> 46752 | G17: =G$6 -> 47118 | H17: =H$6 -> 47483 | I17: =I$6 -> 47848 | J17: =J$6 -> 48213
B18: (–) Sponsor equity invested at close | C18: ='LBO Inputs'!$D$6 -> 46198 | F18: =IF($C18='LBO Inputs'!$D$6,-'LBO Inputs'!$D$10,0)+IF($C18=F$6,F$14,0) -> -5737.032 | G18: =IF($C18='LBO Inputs'!$D$6,-'LBO Inputs'!$D$10,0)+IF($C18=G$6,G$14,0) -> -5737.032 | H18: =IF($C18='LBO Inputs'!$D$6,-'LBO Inputs'!$D$10,0)+IF($C18=H$6,H$14,0) -> -5737.032 | I18: =IF($C18='LBO Inputs'!$D$6,-'LBO Inputs'!$D$10,0)+IF($C18=I$6,I$14,0) -> -5737.032 | J18: =IF($C18='LBO Inputs'!$D$6,-'LBO Inputs'!$D$10,0)+IF($C18=J$6,J$14,0) -> -5737.032
B19: (+) Exit proceeds: FY2026E year-end | C19: ='LBO Inputs'!$E$19 -> 46387 | F19: =IF($C19='LBO Inputs'!$D$6,-'LBO Inputs'!$D$10,0)+IF($C19=F$6,F$14,0) -> 0 | G19: =IF($C19='LBO Inputs'!$D$6,-'LBO Inputs'!$D$10,0)+IF($C19=G$6,G$14,0) -> 0 | H19: =IF($C19='LBO Inputs'!$D$6,-'LBO Inputs'!$D$10,0)+IF($C19=H$6,H$14,0) -> 0 | I19: =IF($C19='LBO Inputs'!$D$6,-'LBO Inputs'!$D$10,0)+IF($C19=I$6,I$14,0) -> 0 | J19: =IF($C19='LBO Inputs'!$D$6,-'LBO Inputs'!$D$10,0)+IF($C19=J$6,J$14,0) -> 0
B20: (+) Exit proceeds: FY2027E year-end | C20: ='LBO Inputs'!$F$19 -> 46752 | F20: =IF($C20='LBO Inputs'!$D$6,-'LBO Inputs'!$D$10,0)+IF($C20=F$6,F$14,0) -> 8616.5452 | G20: =IF($C20='LBO Inputs'!$D$6,-'LBO Inputs'!$D$10,0)+IF($C20=G$6,G$14,0) -> 0 | H20: =IF($C20='LBO Inputs'!$D$6,-'LBO Inputs'!$D$10,0)+IF($C20=H$6,H$14,0) -> 0 | I20: =IF($C20='LBO Inputs'!$D$6,-'LBO Inputs'!$D$10,0)+IF($C20=I$6,I$14,0) -> 0 | J20: =IF($C20='LBO Inputs'!$D$6,-'LBO Inputs'!$D$10,0)+IF($C20=J$6,J$14,0) -> 0
B21: (+) Exit proceeds: FY2028E year-end | C21: ='LBO Inputs'!$G$19 -> 47118 | F21: =IF($C21='LBO Inputs'!$D$6,-'LBO Inputs'!$D$10,0)+IF($C21=F$6,F$14,0) -> 0 | G21: =IF($C21='LBO Inputs'!$D$6,-'LBO Inputs'!$D$10,0)+IF($C21=G$6,G$14,0) -> 10252.001 | H21: =IF($C21='LBO Inputs'!$D$6,-'LBO Inputs'!$D$10,0)+IF($C21=H$6,H$14,0) -> 0 | I21: =IF($C21='LBO Inputs'!$D$6,-'LBO Inputs'!$D$10,0)+IF($C21=I$6,I$14,0) -> 0 | J21: =IF($C21='LBO Inputs'!$D$6,-'LBO Inputs'!$D$10,0)+IF($C21=J$6,J$14,0) -> 0
B22: (+) Exit proceeds: FY2029E year-end | C22: ='LBO Inputs'!$H$19 -> 47483 | F22: =IF($C22='LBO Inputs'!$D$6,-'LBO Inputs'!$D$10,0)+IF($C22=F$6,F$14,0) -> 0 | G22: =IF($C22='LBO Inputs'!$D$6,-'LBO Inputs'!$D$10,0)+IF($C22=G$6,G$14,0) -> 0 | H22: =IF($C22='LBO Inputs'!$D$6,-'LBO Inputs'!$D$10,0)+IF($C22=H$6,H$14,0) -> 11877.708 | I22: =IF($C22='LBO Inputs'!$D$6,-'LBO Inputs'!$D$10,0)+IF($C22=I$6,I$14,0) -> 0 | J22: =IF($C22='LBO Inputs'!$D$6,-'LBO Inputs'!$D$10,0)+IF($C22=J$6,J$14,0) -> 0
B23: (+) Exit proceeds: FY2030E year-end | C23: ='LBO Inputs'!$I$19 -> 47848 | F23: =IF($C23='LBO Inputs'!$D$6,-'LBO Inputs'!$D$10,0)+IF($C23=F$6,F$14,0) -> 0 | G23: =IF($C23='LBO Inputs'!$D$6,-'LBO Inputs'!$D$10,0)+IF($C23=G$6,G$14,0) -> 0 | H23: =IF($C23='LBO Inputs'!$D$6,-'LBO Inputs'!$D$10,0)+IF($C23=H$6,H$14,0) -> 0 | I23: =IF($C23='LBO Inputs'!$D$6,-'LBO Inputs'!$D$10,0)+IF($C23=I$6,I$14,0) -> 13617.175 | J23: =IF($C23='LBO Inputs'!$D$6,-'LBO Inputs'!$D$10,0)+IF($C23=J$6,J$14,0) -> 0
B24: (+) Exit proceeds: FY2031E year-end | C24: ='LBO Inputs'!$J$19 -> 48213 | F24: =IF($C24='LBO Inputs'!$D$6,-'LBO Inputs'!$D$10,0)+IF($C24=F$6,F$14,0) -> 0 | G24: =IF($C24='LBO Inputs'!$D$6,-'LBO Inputs'!$D$10,0)+IF($C24=G$6,G$14,0) -> 0 | H24: =IF($C24='LBO Inputs'!$D$6,-'LBO Inputs'!$D$10,0)+IF($C24=H$6,H$14,0) -> 0 | I24: =IF($C24='LBO Inputs'!$D$6,-'LBO Inputs'!$D$10,0)+IF($C24=I$6,I$14,0) -> 0 | J24: =IF($C24='LBO Inputs'!$D$6,-'LBO Inputs'!$D$10,0)+IF($C24=J$6,J$14,0) -> 15448.117
B25: XIRR (dated cash flows) | F25: =XIRR(F18:F24,$C$18:$C$24) -> 0.30732097 | G25: =XIRR(G18:G24,$C$18:$C$24) -> 0.25900198 | H25: =XIRR(H18:H24,$C$18:$C$24) -> 0.22962205 | I25: =XIRR(I18:I24,$C$18:$C$24) -> 0.21071793 | J25: =XIRR(J18:J24,$C$18:$C$24) -> 0.19653367
B26: MOIC | F26: =SUMIF(F18:F24,">0")/-SUMIF(F18:F24,"<0") -> 1.5019169 | G26: =SUMIF(G18:G24,">0")/-SUMIF(G18:G24,"<0") -> 1.7869869 | H26: =SUMIF(H18:H24,">0")/-SUMIF(H18:H24,"<0") -> 2.0703576 | I26: =SUMIF(I18:I24,">0")/-SUMIF(I18:I24,"<0") -> 2.3735575 | J26: =SUMIF(J18:J24,">0")/-SUMIF(J18:J24,"<0") -> 2.692702
B27: IRR, LBO convention: MOIC^(1 / years from close) – 1 | F27: =F26^(1/F7)-1 -> 0.30732097 | G27: =G26^(1/G7)-1 -> 0.25926681 | H27: =H26^(1/H7)-1 -> 0.22979615 | I27: =I26^(1/I7)-1 -> 0.21084479 | J27: =J26^(1/J7)-1 -> 0.19663171
B28: IRR(), annual periods (close–FY2026E stub counted as a full year) | F28: =IRR(F18:F24) -> 0.22552719 | G28: =IRR(G18:G24) -> 0.21350188 | H28: =IRR(H18:H24) -> 0.19953063 | I28: =IRR(I18:I24) -> 0.18872104 | J28: =IRR(J18:J24) -> 0.17950028
B29: XIRR less IRR() (bps) | F29: =(F25-F28)*10000 -> 817.93784 | G29: =(G25-G28)*10000 -> 455.00094 | H29: =(H25-H28)*10000 -> 300.91419 | I29: =(I25-I28)*10000 -> 219.96893 | J29: =(J25-J28)*10000 -> 170.33395
B30: XIRR less LBO convention (bps) | F30: =(F25-F27)*10000 -> 4.3743178e-05 | G30: =(G25-G27)*10000 -> -2.6483874 | H30: =(H25-H27)*10000 -> -1.7410099 | I30: =(I25-I27)*10000 -> -1.2685754 | J30: =(J25-J27)*10000 -> -0.98037495
B32: Unlevered cash flows by exit year (dated; deferred awards paid within SBC as cash)
C33: Date | D33: Unlevered FCF | F33: =F$6 -> 46752 | G33: =G$6 -> 47118 | H33: =H$6 -> 47483 | I33: =I$6 -> 47848 | J33: =J$6 -> 48213
B34: (–) TEV less deferred awards, plus merger costs, at close | C34: ='LBO Inputs'!$D$6 -> 46198 | F34: =-('LBO Inputs'!$D$7-'LBO Inputs'!$D$14+'LBO Inputs'!$D$8) -> -8308.032 | G34: =-('LBO Inputs'!$D$7-'LBO Inputs'!$D$14+'LBO Inputs'!$D$8) -> -8308.032 | H34: =-('LBO Inputs'!$D$7-'LBO Inputs'!$D$14+'LBO Inputs'!$D$8) -> -8308.032 | I34: =-('LBO Inputs'!$D$7-'LBO Inputs'!$D$14+'LBO Inputs'!$D$8) -> -8308.032 | J34: =-('LBO Inputs'!$D$7-'LBO Inputs'!$D$14+'LBO Inputs'!$D$8) -> -8308.032
B35: (+) FCF, FY2026E (from close) and exit EV in exit year | C35: ='LBO Inputs'!$E$19 -> 46387 | D35: ='LBO Inputs'!E22+'LBO Inputs'!E15 -> 89.170614 | F35: =IF($C35<=F$6,$D35,0)+IF($C35=F$6,F$12-'LBO Inputs'!F$16,0) -> 89.170614 | G35: =IF($C35<=G$6,$D35,0)+IF($C35=G$6,G$12-'LBO Inputs'!G$16,0) -> 89.170614 | H35: =IF($C35<=H$6,$D35,0)+IF($C35=H$6,H$12-'LBO Inputs'!H$16,0) -> 89.170614 | I35: =IF($C35<=I$6,$D35,0)+IF($C35=I$6,I$12-'LBO Inputs'!I$16,0) -> 89.170614 | J35: =IF($C35<=J$6,$D35,0)+IF($C35=J$6,J$12-'LBO Inputs'!J$16,0) -> 89.170614
B36: (+) FCF, FY2027E and exit EV in exit year | C36: ='LBO Inputs'!$F$19 -> 46752 | D36: ='LBO Inputs'!F22+'LBO Inputs'!F15 -> 227.10955 | F36: =IF($C36<=F$6,$D36,0)+IF($C36=F$6,F$12-'LBO Inputs'!F$16,0) -> 11497.827 | G36: =IF($C36<=G$6,$D36,0)+IF($C36=G$6,G$12-'LBO Inputs'!G$16,0) -> 227.10955 | H36: =IF($C36<=H$6,$D36,0)+IF($C36=H$6,H$12-'LBO Inputs'!H$16,0) -> 227.10955 | I36: =IF($C36<=I$6,$D36,0)+IF($C36=I$6,I$12-'LBO Inputs'!I$16,0) -> 227.10955 | J36: =IF($C36<=J$6,$D36,0)+IF($C36=J$6,J$12-'LBO Inputs'!J$16,0) -> 227.10955
B37: (+) FCF, FY2028E and exit EV in exit year | C37: ='LBO Inputs'!$G$19 -> 47118 | D37: ='LBO Inputs'!G22+'LBO Inputs'!G15 -> 270.92516 | F37: =IF($C37<=F$6,$D37,0)+IF($C37=F$6,F$12-'LBO Inputs'!F$16,0) -> 0 | G37: =IF($C37<=G$6,$D37,0)+IF($C37=G$6,G$12-'LBO Inputs'!G$16,0) -> 13122.738 | H37: =IF($C37<=H$6,$D37,0)+IF($C37=H$6,H$12-'LBO Inputs'!H$16,0) -> 270.92516 | I37: =IF($C37<=I$6,$D37,0)+IF($C37=I$6,I$12-'LBO Inputs'!I$16,0) -> 270.92516 | J37: =IF($C37<=J$6,$D37,0)+IF($C37=J$6,J$12-'LBO Inputs'!J$16,0) -> 270.92516
B38: (+) FCF, FY2029E and exit EV in exit year | C38: ='LBO Inputs'!$H$19 -> 47483 | D38: ='LBO Inputs'!H22+'LBO Inputs'!H15 -> 318.25226 | F38: =IF($C38<=F$6,$D38,0)+IF($C38=F$6,F$12-'LBO Inputs'!F$16,0) -> 0 | G38: =IF($C38<=G$6,$D38,0)+IF($C38=G$6,G$12-'LBO Inputs'!G$16,0) -> 0 | H38: =IF($C38<=H$6,$D38,0)+IF($C38=H$6,H$12-'LBO Inputs'!H$16,0) -> 14679.252 | I38: =IF($C38<=I$6,$D38,0)+IF($C38=I$6,I$12-'LBO Inputs'!I$16,0) -> 318.25226 | J38: =IF($C38<=J$6,$D38,0)+IF($C38=J$6,J$12-'LBO Inputs'!J$16,0) -> 318.25226
B39: (+) FCF, FY2030E and exit EV in exit year | C39: ='LBO Inputs'!$I$19 -> 47848 | D39: ='LBO Inputs'!I22+'LBO Inputs'!I15 -> 363.96907 | F39: =IF($C39<=F$6,$D39,0)+IF($C39=F$6,F$12-'LBO Inputs'!F$16,0) -> 0 | G39: =IF($C39<=G$6,$D39,0)+IF($C39=G$6,G$12-'LBO Inputs'!G$16,0) -> 0 | H39: =IF($C39<=H$6,$D39,0)+IF($C39=H$6,H$12-'LBO Inputs'!H$16,0) -> 0 | I39: =IF($C39<=I$6,$D39,0)+IF($C39=I$6,I$12-'LBO Inputs'!I$16,0) -> 16290.918 | J39: =IF($C39<=J$6,$D39,0)+IF($C39=J$6,J$12-'LBO Inputs'!J$16,0) -> 363.96907
B40: (+) FCF, FY2031E and exit EV in exit year | C40: ='LBO Inputs'!$J$19 -> 48213 | D40: ='LBO Inputs'!J22+'LBO Inputs'!J15 -> 412.67992 | F40: =IF($C40<=F$6,$D40,0)+IF($C40=F$6,F$12-'LBO Inputs'!F$16,0) -> 0 | G40: =IF($C40<=G$6,$D40,0)+IF($C40=G$6,G$12-'LBO Inputs'!G$16,0) -> 0 | H40: =IF($C40<=H$6,$D40,0)+IF($C40=H$6,H$12-'LBO Inputs'!H$16,0) -> 0 | I40: =IF($C40<=I$6,$D40,0)+IF($C40=I$6,I$12-'LBO Inputs'!I$16,0) -> 0 | J40: =IF($C40<=J$6,$D40,0)+IF($C40=J$6,J$12-'LBO Inputs'!J$16,0) -> 17932.323
B41: Unlevered XIRR | F41: =XIRR(F34:F40,$C$34:$C$40) -> 0.24660143 | G41: =XIRR(G34:G40,$C$34:$C$40) -> 0.21346498 | H41: =XIRR(H34:H40,$C$34:$C$40) -> 0.19330584 | I41: =XIRR(I34:I40,$C$34:$C$40) -> 0.18051246 | J41: =XIRR(J34:J40,$C$34:$C$40) -> 0.17093307
B42: Unlevered MOIC | F42: =SUMIF(F34:F40,">0")/-SUMIF(F34:F40,"<0") -> 1.3946742 | G42: =SUMIF(G34:G40,">0")/-SUMIF(G34:G40,"<0") -> 1.6175934 | H42: =SUMIF(H34:H40,">0")/-SUMIF(H34:H40,"<0") -> 1.837554 | I42: =SUMIF(I34:I40,">0")/-SUMIF(I34:I40,"<0") -> 2.0698494 | J42: =SUMIF(J34:J40,">0")/-SUMIF(J34:J40,"<0") -> 2.3112273
B43: Levered XIRR (sponsor equity) | F43: =F25 -> 0.30732097 | G43: =G25 -> 0.25900198 | H43: =H25 -> 0.22962205 | I43: =I25 -> 0.21071793 | J43: =J25 -> 0.19653367
B44: Leverage effect: levered less unlevered (bps) | F44: =(F43-F41)*10000 -> 607.19538 | G44: =(G43-G41)*10000 -> 455.36995 | H44: =(H43-H41)*10000 -> 363.16204 | I44: =(I43-I41)*10000 -> 302.05476 | J44: =(J43-J41)*10000 -> 256.006
...

Sheet Equity Funding
B2: Equity Funding, Incentive Pool and Proceeds by Investor
B3: ($ in millions)
B5: Equity Commitment Letters vs. Equity Funded at Close
B6: Investor | D6: Commitment | E6: % of total | F6: Funded at close | G6: Reduction | H6: Funded (LBO) | I6: Difference
B7: Permira | D7: 2577.4849 | E7: =D7/$D$11 -> 0.43649417 | F7: =E7*'LBO Inputs'!$D$10 -> 2504.181 | G7: =F7-D7 -> -73.303878 | H7: 2504.181 | I7: =F7-H7 -> 0 | K7: << Reduction from commitments to funded equity split pro rata to commitments (assumption; the letters leave the split to the manner agreed among the investors)
B8: Warburg Pincus | D8: 1827.4849 | E8: =D8/$D$11 -> 0.30948251 | F8: =E8*'LBO Inputs'!$D$10 -> 1775.5111 | G8: =F8-D8 -> -51.973818 | H8: 1775.5111 | I8: =F8-H8 -> 0
B9: Francisco Partners | D9: 750 | E9: =D9/$D$11 -> 0.12701166 | F9: =E9*'LBO Inputs'!$D$10 -> 728.66994 | G9: =F9-D9 -> -21.33006 | H9: 728.66994 | I9: =F9-H9 -> 0
B10: Temasek (Robson) | D10: 750 | E10: =D10/$D$11 -> 0.12701166 | F10: =E10*'LBO Inputs'!$D$10 -> 728.66994 | G10: =F10-D10 -> -21.33006 | H10: 728.66994 | I10: =F10-H10 -> 0
B11: Total sponsor equity ($m) | D11: =SUM(D7:D10) -> 5904.9698 | E11: =SUM(E7:E10) -> 1 | F11: =SUM(F7:F10) -> 5737.032 | G11: =SUM(G7:G10) -> -167.93782 | H11: =SUM(H7:H10) -> 5737.032 | I11: =SUM(I7:I10) -> 0
B12: Memo: aggregate equity commitment per merger proxy | D12: 5904.9698
B13: Difference vs. sum of letters | D13: =D11-D12 -> 0
B14: Memo: equity funded per closing 8-K (approx.) | D14: ='LBO Inputs'!D13 -> 5700
B15: Modeled funded equity less 8-K figure | D15: =F11-D14 -> 37.031986
B16: Management rollover | D16: ='LBO Inputs'!D11 -> 0 | K16: << No rollover: executives' closing Form 4s show all Class A shares disposed at $24.55, nil held after
B17: CEO Class A shares held after closing (Form 4, 25-Jun-26) | D17: 0
B18: CFO Class A shares held after closing (Form 4, 25-Jun-26) | D18: 0
B21: Management Incentive Pool (Illustrative) and Sponsor Returns Before and After
B22: Outside-in case
B23: Exit at fiscal year-end | F23: ='Deal Returns'!F6 -> 46752 | G23: ='Deal Returns'!G6 -> 47118 | H23: ='Deal Returns'!H6 -> 47483 | I23: ='Deal Returns'!I6 -> 47848 | J23: ='Deal Returns'!J6 -> 48213
B24: Exit equity value | F24: ='Deal Returns'!F14 -> 8616.5452 | G24: ='Deal Returns'!G14 -> 10252.001 | H24: ='Deal Returns'!H14 -> 11877.708 | I24: ='Deal Returns'!I14 -> 13617.175 | J24: ='Deal Returns'!J14 -> 15448.117
B25: (–) Hurdle: sponsor equity invested × hurdle MOIC | F25: =-'LBO Inputs'!$D$10*Assumptions!$D$13 -> -5737.032 | G25: =-'LBO Inputs'!$D$10*Assumptions!$D$13 -> -5737.032 | H25: =-'LBO Inputs'!$D$10*Assumptions!$D$13 -> -5737.032 | I25: =-'LBO Inputs'!$D$10*Assumptions!$D$13 -> -5737.032 | J25: =-'LBO Inputs'!$D$10*Assumptions!$D$13 -> -5737.032
B26: Value above hurdle | F26: =MAX(0,F24+F25) -> 2879.5132 | G26: =MAX(0,G24+G25) -> 4514.9689 | H26: =MAX(0,H24+H25) -> 6140.6759 | I26: =MAX(0,I24+I25) -> 7880.1431 | J26: =MAX(0,J24+J25) -> 9711.0853
B27: (×) Pool, % of value above hurdle | F27: =Assumptions!$D$12 -> 0.08 | G27: =Assumptions!$D$12 -> 0.08 | H27: =Assumptions!$D$12 -> 0.08 | I27: =Assumptions!$D$12 -> 0.08 | J27: =Assumptions!$D$12 -> 0.08
B28: (×) Vested at exit | F28: =IF(Assumptions!$D$15=1,1,MIN(1,'Deal Returns'!F7/Assumptions!$D$14)) -> 1 | G28: =IF(Assumptions!$D$15=1,1,MIN(1,'Deal Returns'!G7/Assumptions!$D$14)) -> 1 | H28: =IF(Assumptions!$D$15=1,1,MIN(1,'Deal Returns'!H7/Assumptions!$D$14)) -> 1 | I28: =IF(Assumptions!$D$15=1,1,MIN(1,'Deal Returns'!I7/Assumptions!$D$14)) -> 1 | J28: =IF(Assumptions!$D$15=1,1,MIN(1,'Deal Returns'!J7/Assumptions!$D$14)) -> 1
B29: (–) Management incentive pool | F29: =-F26*F27*F28 -> -230.36106 | G29: =-G26*G27*G28 -> -361.19751 | H29: =-H26*H27*H28 -> -491.25407 | I29: =-I26*I27*I28 -> -630.41145 | J29: =-J26*J27*J28 -> -776.88683
B30: Sponsor proceeds after incentive pool ($m) | F30: =F24+F29 -> 8386.1841 | G30: =G24+G29 -> 9890.8034 | H30: =H24+H29 -> 11386.454 | I30: =I24+I29 -> 12986.764 | J30: =J24+J29 -> 14671.23
B31: Pool, % of exit equity value | F31: =-F29/F24 -> 0.026734736 | G31: =-G29/G24 -> 0.035231904 | H31: =-H29/H24 -> 0.041359333 | I31: =-I29/I24 -> 0.046295318 | J31: =-J29/J24 -> 0.050290065
B32: Sponsor MOIC, before pool | F32: ='Deal Returns'!F26 -> 1.5019169 | G32: ='Deal Returns'!G26 -> 1.7869869 | H32: ='Deal Returns'!H26 -> 2.0703576 | I32: ='Deal Returns'!I26 -> 2.3735575 | J32: ='Deal Returns'!J26 -> 2.692702
B33: Sponsor MOIC, after pool | F33: =SUMIF(F40:F46,">0")/-SUMIF(F40:F46,"<0") -> 1.4617635 | G33: =SUMIF(G40:G46,">0")/-SUMIF(G40:G46,"<0") -> 1.7240279 | H33: =SUMIF(H40:H46,">0")/-SUMIF(H40:H46,"<0") -> 1.984729 | I33: =SUMIF(I40:I46,">0")/-SUMIF(I40:I46,"<0") -> 2.2636729 | J33: =SUMIF(J40:J46,">0")/-SUMIF(J40:J46,"<0") -> 2.5572858
B34: Sponsor XIRR, before pool | F34: ='Deal Returns'!F25 -> 0.30732097 | G34: ='Deal Returns'!G25 -> 0.25900198 | H34: ='Deal Returns'!H25 -> 0.22962205 | I34: ='Deal Returns'!I25 -> 0.21071793 | J34: ='Deal Returns'!J25 -> 0.19653367
B35: Sponsor XIRR, after pool | F35: =XIRR(F40:F46,$C$40:$C$46) -> 0.28418748 | G35: =XIRR(G40:G46,$C$40:$C$46) -> 0.24121318 | H35: =XIRR(H40:H46,$C$40:$C$46) -> 0.21495739 | I35: =XIRR(I40:I46,$C$40:$C$46) -> 0.19808901 | J35: =XIRR(J40:J46,$C$40:$C$46) -> 0.18540218
B36: Pool cost to sponsor XIRR (bps) | F36: =(F34-F35)*10000 -> 231.33492 | G36: =(G34-G35)*10000 -> 177.88792 | H36: =(H34-H35)*10000 -> 146.64662 | I36: =(I34-I35)*10000 -> 126.28925 | J36: =(J34-J35)*10000 -> 111.31489
B38: Sponsor cash flows after incentive pool (dated)
C39: Date | F39: =F$23 -> 46752 | G39: =G$23 -> 47118 | H39: =H$23 -> 47483 | I39: =I$23 -> 47848 | J39: =J$23 -> 48213
B40: (–) Sponsor equity invested at close | C40: ='LBO Inputs'!$D$6 -> 46198 | F40: =IF($C40='LBO Inputs'!$D$6,-'LBO Inputs'!$D$10,0)+IF($C40=F$23,F$30,0) -> -5737.032 | G40: =IF($C40='LBO Inputs'!$D$6,-'LBO Inputs'!$D$10,0)+IF($C40=G$23,G$30,0) -> -5737.032 | H40: =IF($C40='LBO Inputs'!$D$6,-'LBO Inputs'!$D$10,0)+IF($C40=H$23,H$30,0) -> -5737.032 | I40: =IF($C40='LBO Inputs'!$D$6,-'LBO Inputs'!$D$10,0)+IF($C40=I$23,I$30,0) -> -5737.032 | J40: =IF($C40='LBO Inputs'!$D$6,-'LBO Inputs'!$D$10,0)+IF($C40=J$23,J$30,0) -> -5737.032
B41: (+) Proceeds after pool, if exited at this date | C41: ='LBO Inputs'!$E$19 -> 46387 | F41: =IF($C41='LBO Inputs'!$D$6,-'LBO Inputs'!$D$10,0)+IF($C41=F$23,F$30,0) -> 0 | G41: =IF($C41='LBO Inputs'!$D$6,-'LBO Inputs'!$D$10,0)+IF($C41=G$23,G$30,0) -> 0 | H41: =IF($C41='LBO Inputs'!$D$6,-'LBO Inputs'!$D$10,0)+IF($C41=H$23,H$30,0) -> 0 | I41: =IF($C41='LBO Inputs'!$D$6,-'LBO Inputs'!$D$10,0)+IF($C41=I$23,I$30,0) -> 0 | J41: =IF($C41='LBO Inputs'!$D$6,-'LBO Inputs'!$D$10,0)+IF($C41=J$23,J$30,0) -> 0
B42: (+) Proceeds after pool, if exited at this date | C42: ='LBO Inputs'!$F$19 -> 46752 | F42: =IF($C42='LBO Inputs'!$D$6,-'LBO Inputs'!$D$10,0)+IF($C42=F$23,F$30,0) -> 8386.1841 | G42: =IF($C42='LBO Inputs'!$D$6,-'LBO Inputs'!$D$10,0)+IF($C42=G$23,G$30,0) -> 0 | H42: =IF($C42='LBO Inputs'!$D$6,-'LBO Inputs'!$D$10,0)+IF($C42=H$23,H$30,0) -> 0 | I42: =IF($C42='LBO Inputs'!$D$6,-'LBO Inputs'!$D$10,0)+IF($C42=I$23,I$30,0) -> 0 | J42: =IF($C42='LBO Inputs'!$D$6,-'LBO Inputs'!$D$10,0)+IF($C42=J$23,J$30,0) -> 0
B43: (+) Proceeds after pool, if exited at this date | C43: ='LBO Inputs'!$G$19 -> 47118 | F43: =IF($C43='LBO Inputs'!$D$6,-'LBO Inputs'!$D$10,0)+IF($C43=F$23,F$30,0) -> 0 | G43: =IF($C43='LBO Inputs'!$D$6,-'LBO Inputs'!$D$10,0)+IF($C43=G$23,G$30,0) -> 9890.8034 | H43: =IF($C43='LBO Inputs'!$D$6,-'LBO Inputs'!$D$10,0)+IF($C43=H$23,H$30,0) -> 0 | I43: =IF($C43='LBO Inputs'!$D$6,-'LBO Inputs'!$D$10,0)+IF($C43=I$23,I$30,0) -> 0 | J43: =IF($C43='LBO Inputs'!$D$6,-'LBO Inputs'!$D$10,0)+IF($C43=J$23,J$30,0) -> 0
B44: (+) Proceeds after pool, if exited at this date | C44: ='LBO Inputs'!$H$19 -> 47483 | F44: =IF($C44='LBO Inputs'!$D$6,-'LBO Inputs'!$D$10,0)+IF($C44=F$23,F$30,0) -> 0 | G44: =IF($C44='LBO Inputs'!$D$6,-'LBO Inputs'!$D$10,0)+IF($C44=G$23,G$30,0) -> 0 | H44: =IF($C44='LBO Inputs'!$D$6,-'LBO Inputs'!$D$10,0)+IF($C44=H$23,H$30,0) -> 11386.454 | I44: =IF($C44='LBO Inputs'!$D$6,-'LBO Inputs'!$D$10,0)+IF($C44=I$23,I$30,0) -> 0 | J44: =IF($C44='LBO Inputs'!$D$6,-'LBO Inputs'!$D$10,0)+IF($C44=J$23,J$30,0) -> 0
B45: (+) Proceeds after pool, if exited at this date | C45: ='LBO Inputs'!$I$19 -> 47848 | F45: =IF($C45='LBO Inputs'!$D$6,-'LBO Inputs'!$D$10,0)+IF($C45=F$23,F$30,0) -> 0 | G45: =IF($C45='LBO Inputs'!$D$6,-'LBO Inputs'!$D$10,0)+IF($C45=G$23,G$30,0) -> 0 | H45: =IF($C45='LBO Inputs'!$D$6,-'LBO Inputs'!$D$10,0)+IF($C45=H$23,H$30,0) -> 0 | I45: =IF($C45='LBO Inputs'!$D$6,-'LBO Inputs'!$D$10,0)+IF($C45=I$23,I$30,0) -> 12986.764 | J45: =IF($C45='LBO Inputs'!$D$6,-'LBO Inputs'!$D$10,0)+IF($C45=J$23,J$30,0) -> 0
...

Sheet Value Creation
B2: Value-Creation Bridge: Sponsor Equity Invested to Exit Equity Value
B3: ($ in millions)
B5: Outside-in Case: Value-Creation Bridge by Exit Year
B6: Exit at fiscal year-end | F6: ='Deal Returns'!F6 -> 46752 | G6: ='Deal Returns'!G6 -> 47118 | H6: ='Deal Returns'!H6 -> 47483 | I6: ='Deal Returns'!I6 -> 47848 | J6: ='Deal Returns'!J6 -> 48213
B7: Entry: FY2026E revenue | D7: ='LBO Inputs'!E20 -> 936.446
B8: Entry: FY2026E Adj. EBITDA margin | D8: =D9/D7 -> 0.35743438
B9: Entry: FY2026E Adj. EBITDA (pre-SBC) | D9: ='LBO Inputs'!E21 -> 334.718
B10: Entry NTM multiple: TEV / FY2026E Adj. EBITDA | D10: ='LBO Inputs'!$D$24 -> 25.041256
B12: Sponsor equity invested | F12: ='LBO Inputs'!$D$10 -> 5737.032 | G12: ='LBO Inputs'!$D$10 -> 5737.032 | H12: ='LBO Inputs'!$D$10 -> 5737.032 | I12: ='LBO Inputs'!$D$10 -> 5737.032 | J12: ='LBO Inputs'!$D$10 -> 5737.032
B13: (+) Revenue growth (at entry margin and multiple) | F13: =$D$10*('Deal Returns'!F8-$D$7)*$D$8 -> 2343.3237 | G13: =$D$10*('Deal Returns'!G8-$D$7)*$D$8 -> 3589.5109 | H13: =$D$10*('Deal Returns'!H8-$D$7)*$D$8 -> 4860.7845 | I13: =$D$10*('Deal Returns'!I8-$D$7)*$D$8 -> 6185.0389 | J13: =$D$10*('Deal Returns'!J8-$D$7)*$D$8 -> 7641.7187
B14: (+) Margin expansion (at entry multiple) | F14: =$D$10*'Deal Returns'!F8*('Deal Returns'!F9-$D$8) -> 619.02342 | G14: =$D$10*'Deal Returns'!G8*('Deal Returns'!G9-$D$8) -> 904.37384 | H14: =$D$10*'Deal Returns'!H8*('Deal Returns'!H9-$D$8) -> 1118.4567 | I14: =$D$10*'Deal Returns'!I8*('Deal Returns'!I9-$D$8) -> 1360.1508 | J14: =$D$10*'Deal Returns'!J8*('Deal Returns'!J9-$D$8) -> 1496.1659
B15: (+) Multiple change (exit vs. entry NTM multiple) | F15: =('Deal Returns'!F11-$D$10)*'Deal Returns'!F10 -> 0 | G15: =('Deal Returns'!G11-$D$10)*'Deal Returns'!G10 -> 0 | H15: =('Deal Returns'!H11-$D$10)*'Deal Returns'!H10 -> 0 | I15: =('Deal Returns'!I11-$D$10)*'Deal Returns'!I10 -> 0 | J15: =('Deal Returns'!J11-$D$10)*'Deal Returns'!J10 -> 0
B16: (+) Debt paydown and cash build, less unpaid deferred awards | F16: ='LBO Inputs'!$D$12+'Deal Returns'!F13 -> -102.56088 | G16: ='LBO Inputs'!$D$12+'Deal Returns'!G13 -> 1.3571832 | H16: ='LBO Inputs'!$D$12+'Deal Returns'!H13 -> 141.7077 | I16: ='LBO Inputs'!$D$12+'Deal Returns'!I13 -> 315.22651 | J16: ='LBO Inputs'!$D$12+'Deal Returns'!J13 -> 553.47388
B17: (+) Deferred awards assumed at close, less fees | F17: =('LBO Inputs'!$D$7-'LBO Inputs'!$D$12)-'LBO Inputs'!$D$10 -> 19.726949 | G17: =('LBO Inputs'!$D$7-'LBO Inputs'!$D$12)-'LBO Inputs'!$D$10 -> 19.726949 | H17: =('LBO Inputs'!$D$7-'LBO Inputs'!$D$12)-'LBO Inputs'!$D$10 -> 19.726949 | I17: =('LBO Inputs'!$D$7-'LBO Inputs'!$D$12)-'LBO Inputs'!$D$10 -> 19.726949 | J17: =('LBO Inputs'!$D$7-'LBO Inputs'!$D$12)-'LBO Inputs'!$D$10 -> 19.726949
B18: Exit equity value, bridge ($m) | F18: =SUM(F12:F17) -> 8616.5452 | G18: =SUM(G12:G17) -> 10252.001 | H18: =SUM(H12:H17) -> 11877.708 | I18: =SUM(I12:I17) -> 13617.175 | J18: =SUM(J12:J17) -> 15448.117
B19: Exit equity value, exit build | F19: ='Deal Returns'!F14 -> 8616.5452 | G19: ='Deal Returns'!G14 -> 10252.001 | H19: ='Deal Returns'!H14 -> 11877.708 | I19: ='Deal Returns'!I14 -> 13617.175 | J19: ='Deal Returns'!J14 -> 15448.117
B20: Difference | F20: =F18-F19 -> 0 | G20: =G18-G19 -> 0 | H20: =H18-H19 -> 0 | I20: =I18-I19 -> 0 | J20: =J18-J19 -> 0
B21: (–) Management incentive pool | F21: ='Equity Funding'!F29 -> -230.36106 | G21: ='Equity Funding'!G29 -> -361.19751 | H21: ='Equity Funding'!H29 -> -491.25407 | I21: ='Equity Funding'!I29 -> -630.41145 | J21: ='Equity Funding'!J29 -> -776.88683
B22: Sponsor proceeds after incentive pool ($m) | F22: =F18+F21 -> 8386.1841 | G22: =G18+G21 -> 9890.8034 | H22: =H18+H21 -> 11386.454 | I22: =I18+I21 -> 12986.764 | J22: =J18+J21 -> 14671.23
B24: Share of value created (exit equity value less equity invested)
B25: Revenue growth | F25: =F13/(F18-F12) -> 0.81379162 | G25: =G13/(G18-G12) -> 0.79502451 | H25: =H13/(H18-H12) -> 0.79157159 | I25: =I13/(I18-I12) -> 0.78488916 | J25: =J13/(J18-J12) -> 0.78690676
B26: Margin expansion | F26: =F14/(F18-F12) -> 0.21497502 | G26: =G14/(G18-G12) -> 0.20030566 | H26: =H14/(H18-H12) -> 0.18213902 | I26: =I14/(I18-I12) -> 0.17260483 | J26: =J14/(J18-J12) -> 0.15406783
B27: Multiple change | F27: =F15/(F18-F12) -> 0 | G27: =G15/(G18-G12) -> 0 | H27: =H15/(H18-H12) -> 0 | I27: =I15/(I18-I12) -> 0 | J27: =J15/(J18-J12) -> 0
B28: Debt paydown, cash build and unpaid deferred awards | F28: =F16/(F18-F12) -> -0.035617435 | G28: =G16/(G18-G12) -> 0.00030059635 | H28: =H16/(H18-H12) -> 0.02307689 | I28: =I16/(I18-I12) -> 0.040002638 | J28: =J16/(J18-J12) -> 0.056994029
B29: Deferred awards assumed, less fees | F29: =F17/(F18-F12) -> 0.006850793 | G29: =G17/(G18-G12) -> 0.0043692325 | H29: =H17/(H18-H12) -> 0.0032125045 | I29: =I17/(I18-I12) -> 0.0025033745 | J29: =J17/(J18-J12) -> 0.0020313846
B30: Total | F30: =SUM(F25:F29) -> 1 | G30: =SUM(G25:G29) -> 1 | H30: =SUM(H25:H29) -> 1 | I30: =SUM(I25:I29) -> 1 | J30: =SUM(J25:J29) -> 1
B34: Management Case: Value-Creation Bridge by Exit Year
B35: Exit at fiscal year-end | F35: ='Deal Returns'!F67 -> 46752 | G35: ='Deal Returns'!G67 -> 47118 | H35: ='Deal Returns'!H67 -> 47483 | I35: ='Deal Returns'!I67 -> 47848 | J35: ='Deal Returns'!J67 -> 48213
B36: Entry: FY2026E revenue | D36: ='LBO Inputs'!E33 -> 941.76153
B37: Entry: FY2026E Adj. EBITDA margin | D37: =D38/D36 -> 0.35957447
B38: Entry: FY2026E Adj. EBITDA (pre-SBC) | D38: ='LBO Inputs'!E34 -> 338.6334
B39: Entry NTM multiple: TEV / FY2026E Adj. EBITDA | D39: ='LBO Inputs'!$D$37 -> 24.751719
B41: Sponsor equity invested | F41: ='LBO Inputs'!$D$10 -> 5737.032 | G41: ='LBO Inputs'!$D$10 -> 5737.032 | H41: ='LBO Inputs'!$D$10 -> 5737.032 | I41: ='LBO Inputs'!$D$10 -> 5737.032 | J41: ='LBO Inputs'!$D$10 -> 5737.032
B42: (+) Revenue growth (at entry margin and multiple) | F42: =$D$39*('Deal Returns'!F69-$D$36)*$D$37 -> 3192.2018 | G42: =$D$39*('Deal Returns'!G69-$D$36)*$D$37 -> 5269.808 | H42: =$D$39*('Deal Returns'!H69-$D$36)*$D$37 -> 7730.8351 | I42: =$D$39*('Deal Returns'!I69-$D$36)*$D$37 -> 10308.85 | J42: =$D$39*('Deal Returns'!J69-$D$36)*$D$37 -> 13299.348
B43: (+) Margin expansion (at entry multiple) | F43: =$D$39*'Deal Returns'!F69*('Deal Returns'!F70-$D$37) -> 1271.4568 | G43: =$D$39*'Deal Returns'!G69*('Deal Returns'!G70-$D$37) -> 2070.4306 | H43: =$D$39*'Deal Returns'!H69*('Deal Returns'!H70-$D$37) -> 2808.3588 | I43: =$D$39*'Deal Returns'!I69*('Deal Returns'!I70-$D$37) -> 3504.7657 | J43: =$D$39*'Deal Returns'!J69*('Deal Returns'!J70-$D$37) -> 4065.5282
B44: (+) Multiple change (exit vs. entry NTM multiple) | F44: =('Deal Returns'!F72-$D$39)*'Deal Returns'!F71 -> 0 | G44: =('Deal Returns'!G72-$D$39)*'Deal Returns'!G71 -> 0 | H44: =('Deal Returns'!H72-$D$39)*'Deal Returns'!H71 -> 0 | I44: =('Deal Returns'!I72-$D$39)*'Deal Returns'!I71 -> 0 | J44: =('Deal Returns'!J72-$D$39)*'Deal Returns'!J71 -> 0
B45: (+) Debt paydown and cash build, less unpaid deferred awards | F45: ='LBO Inputs'!$D$12+'Deal Returns'!F74 -> -64.124817 | G45: ='LBO Inputs'!$D$12+'Deal Returns'!G74 -> 128.34651 | H45: ='LBO Inputs'!$D$12+'Deal Returns'!H74 -> 427.07706 | I45: ='LBO Inputs'!$D$12+'Deal Returns'!I74 -> 848.45498 | J45: ='LBO Inputs'!$D$12+'Deal Returns'!J74 -> 1430.9213
B46: (+) Deferred awards assumed at close, less fees | F46: =('LBO Inputs'!$D$7-'LBO Inputs'!$D$12)-'LBO Inputs'!$D$10 -> 19.726949 | G46: =('LBO Inputs'!$D$7-'LBO Inputs'!$D$12)-'LBO Inputs'!$D$10 -> 19.726949 | H46: =('LBO Inputs'!$D$7-'LBO Inputs'!$D$12)-'LBO Inputs'!$D$10 -> 19.726949 | I46: =('LBO Inputs'!$D$7-'LBO Inputs'!$D$12)-'LBO Inputs'!$D$10 -> 19.726949 | J46: =('LBO Inputs'!$D$7-'LBO Inputs'!$D$12)-'LBO Inputs'!$D$10 -> 19.726949
B47: Exit equity value, bridge ($m) | F47: =SUM(F41:F46) -> 10156.293 | G47: =SUM(G41:G46) -> 13225.344 | H47: =SUM(H41:H46) -> 16723.03 | I47: =SUM(I41:I46) -> 20418.83 | J47: =SUM(J41:J46) -> 24552.556
B48: Exit equity value, exit build | F48: ='Deal Returns'!F75 -> 10156.293 | G48: ='Deal Returns'!G75 -> 13225.344 | H48: ='Deal Returns'!H75 -> 16723.03 | I48: ='Deal Returns'!I75 -> 20418.83 | J48: ='Deal Returns'!J75 -> 24552.556
...

Sheet Fund Waterfall
B2: Fund Waterfall: European (Whole-Fund) and American (Deal-by-Deal), by Exit Year
B3: ($ in millions; illustrative LPA terms on Assumptions; this deal treated as the fund's only investment)
B5: Fund Terms and Fee Schedule
B6: Sponsor equity invested (deal capital) | D6: ='LBO Inputs'!D10 -> 5737.032
B7: LP commitments: deal capital ÷ (1 – fee rate × investment period) | D7: =D6/(1-Assumptions!D18*Assumptions!D19) -> 6374.48
B8: Investment period ends | D8: =EDATE('LBO Inputs'!D6,12*Assumptions!D19) -> 48024
B9: Management fee, investment period (per year) | D9: =Assumptions!D18*D7 -> 127.4896
B11: Fee schedule (paid in advance at each date) | D11: ='LBO Inputs'!$D$6 -> 46198 | E11: ='LBO Inputs'!$E$19 -> 46387 | F11: ='LBO Inputs'!$F$19 -> 46752 | G11: ='LBO Inputs'!$G$19 -> 47118 | H11: ='LBO Inputs'!$H$19 -> 47483 | I11: ='LBO Inputs'!$I$19 -> 47848 | J11: ='LBO Inputs'!$J$19 -> 48213
B12: Fee period ends | D12: =E11 -> 46387 | E12: =F11 -> 46752 | F12: =G11 -> 47118 | G12: =H11 -> 47483 | H12: =I11 -> 47848 | I12: =J11 -> 48213 | J12: =J11 -> 48213
B13: Days in investment period | D13: =MAX(0,MIN(D12,$D$8)-MIN(D11,$D$8)) -> 189 | E13: =MAX(0,MIN(E12,$D$8)-MIN(E11,$D$8)) -> 365 | F13: =MAX(0,MIN(F12,$D$8)-MIN(F11,$D$8)) -> 366 | G13: =MAX(0,MIN(G12,$D$8)-MIN(G11,$D$8)) -> 365 | H13: =MAX(0,MIN(H12,$D$8)-MIN(H11,$D$8)) -> 365 | I13: =MAX(0,MIN(I12,$D$8)-MIN(I11,$D$8)) -> 176 | J13: =MAX(0,MIN(J12,$D$8)-MIN(J11,$D$8)) -> 0
B14: Days after investment period | D14: =MAX(0,D12-MAX(D11,$D$8)) -> 0 | E14: =MAX(0,E12-MAX(E11,$D$8)) -> 0 | F14: =MAX(0,F12-MAX(F11,$D$8)) -> 0 | G14: =MAX(0,G12-MAX(G11,$D$8)) -> 0 | H14: =MAX(0,H12-MAX(H11,$D$8)) -> 0 | I14: =MAX(0,I12-MAX(I11,$D$8)) -> 189 | J14: =MAX(0,J12-MAX(J11,$D$8)) -> 0
B15: Fee on committed capital | D15: =Assumptions!$D$18*$D$7*D13/Assumptions!$D$24 -> 66.015163 | E15: =Assumptions!$D$18*$D$7*E13/Assumptions!$D$24 -> 127.4896 | F15: =Assumptions!$D$18*$D$7*F13/Assumptions!$D$24 -> 127.83889 | G15: =Assumptions!$D$18*$D$7*G13/Assumptions!$D$24 -> 127.4896 | H15: =Assumptions!$D$18*$D$7*H13/Assumptions!$D$24 -> 127.4896 | I15: =Assumptions!$D$18*$D$7*I13/Assumptions!$D$24 -> 61.474437 | J15: =Assumptions!$D$18*$D$7*J13/Assumptions!$D$24 -> 0
B16: Fee on invested capital | D16: =Assumptions!$D$20*$D$6*D14/Assumptions!$D$24 -> 0 | E16: =Assumptions!$D$20*$D$6*E14/Assumptions!$D$24 -> 0 | F16: =Assumptions!$D$20*$D$6*F14/Assumptions!$D$24 -> 0 | G16: =Assumptions!$D$20*$D$6*G14/Assumptions!$D$24 -> 0 | H16: =Assumptions!$D$20*$D$6*H14/Assumptions!$D$24 -> 0 | I16: =Assumptions!$D$20*$D$6*I14/Assumptions!$D$24 -> 59.413646 | J16: =Assumptions!$D$20*$D$6*J14/Assumptions!$D$24 -> 0
B17: Management fee paid ($m) | D17: =D15+D16 -> 66.015163 | E17: =E15+E16 -> 127.4896 | F17: =F15+F16 -> 127.83889 | G17: =G15+G16 -> 127.4896 | H17: =H15+H16 -> 127.4896 | I17: =I15+I16 -> 120.88808 | J17: =J15+J16 -> 0
B18: Cumulative management fees paid | D18: =SUM($D17:D17) -> 66.015163 | E18: =SUM($D17:E17) -> 193.50476 | F18: =SUM($D17:F17) -> 321.34365 | G18: =SUM($D17:G17) -> 448.83325 | H18: =SUM($D17:H17) -> 576.32285 | I18: =SUM($D17:I17) -> 697.21093 | J18: =SUM($D17:J17) -> 697.21093
B21: Outside-in Case: Distribution Waterfall by Exit Year
B22: Exit at fiscal year-end | F22: ='Deal Returns'!F6 -> 46752 | G22: ='Deal Returns'!G6 -> 47118 | H22: ='Deal Returns'!H6 -> 47483 | I22: ='Deal Returns'!I6 -> 47848 | J22: ='Deal Returns'!J6 -> 48213
B23: Sponsor equity invested (deal capital) | F23: =$D$6 -> 5737.032 | G23: =$D$6 -> 5737.032 | H23: =$D$6 -> 5737.032 | I23: =$D$6 -> 5737.032 | J23: =$D$6 -> 5737.032
B24: Management fees paid before exit | F24: =SUMPRODUCT($D$17:$J$17*($D$11:$J$11<F$22)) -> 193.50476 | G24: =SUMPRODUCT($D$17:$J$17*($D$11:$J$11<G$22)) -> 321.34365 | H24: =SUMPRODUCT($D$17:$J$17*($D$11:$J$11<H$22)) -> 448.83325 | I24: =SUMPRODUCT($D$17:$J$17*($D$11:$J$11<I$22)) -> 576.32285 | J24: =SUMPRODUCT($D$17:$J$17*($D$11:$J$11<J$22)) -> 697.21093
B25: Total paid-in capital ($m) | F25: =F23+F24 -> 5930.5367 | G25: =G23+G24 -> 6058.3756 | H25: =H23+H24 -> 6185.8652 | I25: =I23+I24 -> 6313.3548 | J25: =J23+J24 -> 6434.2429
B26: Preferred return accrued on deal capital | F26: =$D$6*((1+Assumptions!$D$21)^((F$22-$D$11)/Assumptions!$D$24)-1) -> 710.86547 | G26: =$D$6*((1+Assumptions!$D$21)^((G$22-$D$11)/Assumptions!$D$24)-1) -> 1228.1657 | H26: =$D$6*((1+Assumptions!$D$21)^((H$22-$D$11)/Assumptions!$D$24)-1) -> 1785.3816 | I26: =$D$6*((1+Assumptions!$D$21)^((I$22-$D$11)/Assumptions!$D$24)-1) -> 2387.1746 | J26: =$D$6*((1+Assumptions!$D$21)^((J$22-$D$11)/Assumptions!$D$24)-1) -> 3037.1112
B27: Preferred return accrued on fees | F27: =SUMPRODUCT($D$17:$J$17*((1+Assumptions!$D$21)^((F$22-$D$11:$J$11)/Assumptions!$D$24)-1)*($D$11:$J$11<F$22)) -> 18.37899 | G27: =SUMPRODUCT($D$17:$J$17*((1+Assumptions!$D$21)^((G$22-$D$11:$J$11)/Assumptions!$D$24)-1)*($D$11:$J$11<G$22)) -> 45.634171 | H27: =SUMPRODUCT($D$17:$J$17*((1+Assumptions!$D$21)^((H$22-$D$11:$J$11)/Assumptions!$D$24)-1)*($D$11:$J$11<H$22)) -> 85.191564 | I27: =SUMPRODUCT($D$17:$J$17*((1+Assumptions!$D$21)^((I$22-$D$11:$J$11)/Assumptions!$D$24)-1)*($D$11:$J$11<I$22)) -> 138.11272 | J27: =SUMPRODUCT($D$17:$J$17*((1+Assumptions!$D$21)^((J$22-$D$11:$J$11)/Assumptions!$D$24)-1)*($D$11:$J$11<J$22)) -> 204.93861
B28: Total preferred return accrued ($m) | F28: =F26+F27 -> 729.24446 | G28: =G26+G27 -> 1273.7999 | H28: =H26+H27 -> 1870.5731 | I28: =I26+I27 -> 2525.2874 | J28: =J26+J27 -> 3242.0498
B30: Distributable proceeds, after incentive pool ($m) | F30: ='Equity Funding'!F30 -> 8386.1841 | G30: ='Equity Funding'!G30 -> 9890.8034 | H30: ='Equity Funding'!H30 -> 11386.454 | I30: ='Equity Funding'!I30 -> 12986.764 | J30: ='Equity Funding'!J30 -> 14671.23
B31: European (whole-fund) waterfall
B32: Tier 1: return of paid-in capital to LPs | F32: =MIN(F30,F25) -> 5930.5367 | G32: =MIN(G30,G25) -> 6058.3756 | H32: =MIN(H30,H25) -> 6185.8652 | I32: =MIN(I30,I25) -> 6313.3548 | J32: =MIN(J30,J25) -> 6434.2429
B33: Cash remaining | F33: =F30-F32 -> 2455.6474 | G33: =G30-G32 -> 3832.4277 | H33: =H30-H32 -> 5200.5885 | I33: =I30-I32 -> 6673.4088 | J33: =J30-J32 -> 8236.9876
B34: Tier 2: preferred return to LPs | F34: =MIN(F33,F28) -> 729.24446 | G34: =MIN(G33,G28) -> 1273.7999 | H34: =MIN(H33,H28) -> 1870.5731 | I34: =MIN(I33,I28) -> 2525.2874 | J34: =MIN(J33,J28) -> 3242.0498
B35: Cash remaining | F35: =F33-F34 -> 1726.4029 | G35: =G33-G34 -> 2558.6278 | H35: =H33-H34 -> 3330.0154 | I35: =I33-I34 -> 4148.1215 | J35: =J33-J34 -> 4994.9378
B36: Tier 3: GP catch-up distributions | F36: =MIN(F35,Assumptions!$D$23*F34/(Assumptions!$D$22-Assumptions!$D$23)) -> 182.31111 | G36: =MIN(G35,Assumptions!$D$23*G34/(Assumptions!$D$22-Assumptions!$D$23)) -> 318.44998 | H36: =MIN(H35,Assumptions!$D$23*H34/(Assumptions!$D$22-Assumptions!$D$23)) -> 467.64328 | I36: =MIN(I35,Assumptions!$D$23*I34/(Assumptions!$D$22-Assumptions!$D$23)) -> 631.32184 | J36: =MIN(J35,Assumptions!$D$23*J34/(Assumptions!$D$22-Assumptions!$D$23)) -> 810.51244
B37: of which to GP | F37: =Assumptions!$D$22*F36 -> 182.31111 | G37: =Assumptions!$D$22*G36 -> 318.44998 | H37: =Assumptions!$D$22*H36 -> 467.64328 | I37: =Assumptions!$D$22*I36 -> 631.32184 | J37: =Assumptions!$D$22*J36 -> 810.51244
B38: Cash remaining | F38: =F35-F36 -> 1544.0918 | G38: =G35-G36 -> 2240.1778 | H38: =H35-H36 -> 2862.3721 | I38: =I35-I36 -> 3516.7996 | J38: =J35-J36 -> 4184.4254
B39: Tier 4: 80% to LPs | F39: =(1-Assumptions!$D$23)*F38 -> 1235.2735 | G39: =(1-Assumptions!$D$23)*G38 -> 1792.1423 | H39: =(1-Assumptions!$D$23)*H38 -> 2289.8977 | I39: =(1-Assumptions!$D$23)*I38 -> 2813.4397 | J39: =(1-Assumptions!$D$23)*J38 -> 3347.5403
B40: Tier 4: 20% to GP | F40: =Assumptions!$D$23*F38 -> 308.81836 | G40: =Assumptions!$D$23*G38 -> 448.03557 | H40: =Assumptions!$D$23*H38 -> 572.47443 | I40: =Assumptions!$D$23*I38 -> 703.35992 | J40: =Assumptions!$D$23*J38 -> 836.88507
B41: LP distributions, European ($m) | F41: =F32+F34+F36-F37+F39 -> 7895.0547 | G41: =G32+G34+G36-G37+G39 -> 9124.3178 | H41: =H32+H34+H36-H37+H39 -> 10346.336 | I41: =I32+I34+I36-I37+I39 -> 11652.082 | J41: =J32+J34+J36-J37+J39 -> 13023.833
B42: GP carried interest, European ($m) | F42: =F37+F40 -> 491.12948 | G42: =G37+G40 -> 766.48555 | H42: =H37+H40 -> 1040.1177 | I42: =I37+I40 -> 1334.6818 | J42: =J37+J40 -> 1647.3975
B43: GP carry, % of fund profit | F43: =IF(F30>F25,F42/(F30-F25),0) -> 0.2 | G43: =IF(G30>G25,G42/(G30-G25),0) -> 0.2 | H43: =IF(H30>H25,H42/(H30-H25),0) -> 0.2 | I43: =IF(I30>I25,I42/(I30-I25),0) -> 0.2 | J43: =IF(J30>J25,J42/(J30-J25),0) -> 0.2
B44: LP net MOIC, European | F44: =F41/F25 -> 1.3312547 | G44: =G41/G25 -> 1.5060667 | H44: =H41/H25 -> 1.672577 | I44: =I41/I25 -> 1.8456244 | J44: =J41/J25 -> 2.0241438
B45: LP net XIRR, European | F45: =XIRR(F83:F89,$C$83:$C$89) -> 0.20905277 | G45: =XIRR(G83:G89,$C$83:$C$89) -> 0.17940716 | H45: =XIRR(H83:H89,$C$83:$C$89) -> 0.16136125 | I45: =XIRR(I83:I89,$C$83:$C$89) -> 0.15008512 | J45: =XIRR(J83:J89,$C$83:$C$89) -> 0.14177312
B47: American (deal-by-deal) waterfall: deal capital and its preferred return only
...

Sheet LP View
B2: LP View: Net Cash Flows, DPI, RVPI and TVPI by Year (European Waterfall)
B3: ($ in millions; residual value marked at the LBO's implied equity value each year-end, after incentive pool and accrued carry)
B4: Exit at (selected on Assumptions) | D4: =Assumptions!D6 -> 47848
B6: Outside-in Case: LP Net Cash Flows and Multiples
B7: Date | D7: ='Fund Waterfall'!D11 -> 46198 | E7: ='Fund Waterfall'!E11 -> 46387 | F7: ='Fund Waterfall'!F11 -> 46752 | G7: ='Fund Waterfall'!G11 -> 47118 | H7: ='Fund Waterfall'!H11 -> 47483 | I7: ='Fund Waterfall'!I11 -> 47848 | J7: ='Fund Waterfall'!J11 -> 48213
B8: (–) Capital called for the deal | D8: =IF(D$7='Fund Waterfall'!$D$11,-'Fund Waterfall'!$D$6,0) -> -5737.032 | E8: =IF(E$7='Fund Waterfall'!$D$11,-'Fund Waterfall'!$D$6,0) -> 0 | F8: =IF(F$7='Fund Waterfall'!$D$11,-'Fund Waterfall'!$D$6,0) -> 0 | G8: =IF(G$7='Fund Waterfall'!$D$11,-'Fund Waterfall'!$D$6,0) -> 0 | H8: =IF(H$7='Fund Waterfall'!$D$11,-'Fund Waterfall'!$D$6,0) -> 0 | I8: =IF(I$7='Fund Waterfall'!$D$11,-'Fund Waterfall'!$D$6,0) -> 0 | J8: =IF(J$7='Fund Waterfall'!$D$11,-'Fund Waterfall'!$D$6,0) -> 0
B9: (–) Management fees called | D9: =-IF(D$7<Assumptions!$D$6,'Fund Waterfall'!D$17,0) -> -66.015163 | E9: =-IF(E$7<Assumptions!$D$6,'Fund Waterfall'!E$17,0) -> -127.4896 | F9: =-IF(F$7<Assumptions!$D$6,'Fund Waterfall'!F$17,0) -> -127.83889 | G9: =-IF(G$7<Assumptions!$D$6,'Fund Waterfall'!G$17,0) -> -127.4896 | H9: =-IF(H$7<Assumptions!$D$6,'Fund Waterfall'!H$17,0) -> -127.4896 | I9: =-IF(I$7<Assumptions!$D$6,'Fund Waterfall'!I$17,0) -> 0 | J9: =-IF(J$7<Assumptions!$D$6,'Fund Waterfall'!J$17,0) -> 0
B10: (+) Distributions to LPs | D10: =IF(D$7=Assumptions!$D$6,INDEX('Fund Waterfall'!$F$41:$J$41,MATCH(Assumptions!$D$6,'Fund Waterfall'!$F$22:$J$22,0)),0) -> 0 | E10: =IF(E$7=Assumptions!$D$6,INDEX('Fund Waterfall'!$F$41:$J$41,MATCH(Assumptions!$D$6,'Fund Waterfall'!$F$22:$J$22,0)),0) -> 0 | F10: =IF(F$7=Assumptions!$D$6,INDEX('Fund Waterfall'!$F$41:$J$41,MATCH(Assumptions!$D$6,'Fund Waterfall'!$F$22:$J$22,0)),0) -> 0 | G10: =IF(G$7=Assumptions!$D$6,INDEX('Fund Waterfall'!$F$41:$J$41,MATCH(Assumptions!$D$6,'Fund Waterfall'!$F$22:$J$22,0)),0) -> 0 | H10: =IF(H$7=Assumptions!$D$6,INDEX('Fund Waterfall'!$F$41:$J$41,MATCH(Assumptions!$D$6,'Fund Waterfall'!$F$22:$J$22,0)),0) -> 0 | I10: =IF(I$7=Assumptions!$D$6,INDEX('Fund Waterfall'!$F$41:$J$41,MATCH(Assumptions!$D$6,'Fund Waterfall'!$F$22:$J$22,0)),0) -> 11652.082 | J10: =IF(J$7=Assumptions!$D$6,INDEX('Fund Waterfall'!$F$41:$J$41,MATCH(Assumptions!$D$6,'Fund Waterfall'!$F$22:$J$22,0)),0) -> 0
B11: Net cash flow to LPs ($m) | D11: =SUM(D8:D10) -> -5803.0471 | E11: =SUM(E8:E10) -> -127.4896 | F11: =SUM(F8:F10) -> -127.83889 | G11: =SUM(G8:G10) -> -127.4896 | H11: =SUM(H8:H10) -> -127.4896 | I11: =SUM(I8:I10) -> 11652.082 | J11: =SUM(J8:J10) -> 0
B12: Cumulative net cash flow (J-curve) | D12: =SUM($D11:D11) -> -5803.0471 | E12: =SUM($D11:E11) -> -5930.5367 | F12: =SUM($D11:F11) -> -6058.3756 | G12: =SUM($D11:G11) -> -6185.8652 | H12: =SUM($D11:H11) -> -6313.3548 | I12: =SUM($D11:I11) -> 5338.727 | J12: =SUM($D11:J11) -> 5338.727
B14: Paid-in capital, cumulative | D14: =-SUM($D8:D9) -> 5803.0471 | E14: =-SUM($D8:E9) -> 5930.5367 | F14: =-SUM($D8:F9) -> 6058.3756 | G14: =-SUM($D8:G9) -> 6185.8652 | H14: =-SUM($D8:H9) -> 6313.3548 | I14: =-SUM($D8:I9) -> 6313.3548 | J14: =-SUM($D8:J9) -> 6313.3548
B15: Distributions, cumulative | D15: =SUM($D10:D10) -> 0 | E15: =SUM($D10:E10) -> 0 | F15: =SUM($D10:F10) -> 0 | G15: =SUM($D10:G10) -> 0 | H15: =SUM($D10:H10) -> 0 | I15: =SUM($D10:I10) -> 11652.082 | J15: =SUM($D10:J10) -> 11652.082
B16: Implied equity value (LBO; cost at close) | D16: ='LBO Inputs'!$D$10 -> 5737.032 | E16: =('LBO Inputs'!$D$24+Assumptions!$D$7)*'LBO Inputs'!F21-'LBO Inputs'!E23 -> 7250.7577 | F16: ='Deal Returns'!F14 -> 8616.5452 | G16: ='Deal Returns'!G14 -> 10252.001 | H16: ='Deal Returns'!H14 -> 11877.708 | I16: ='Deal Returns'!I14 -> 13617.175 | J16: ='Deal Returns'!J14 -> 15448.117
B17: (–) Management incentive pool on implied value | D17: =-Assumptions!$D$12*MAX(0,D16-'LBO Inputs'!$D$10*Assumptions!$D$13)*IF(Assumptions!$D$15=1,1,MIN(1,YEARFRAC('Fund Waterfall'!$D$11,D$7,1)/Assumptions!$D$14)) -> 0 | E17: =-Assumptions!$D$12*MAX(0,E16-'LBO Inputs'!$D$10*Assumptions!$D$13)*IF(Assumptions!$D$15=1,1,MIN(1,YEARFRAC('Fund Waterfall'!$D$11,E$7,1)/Assumptions!$D$14)) -> -121.09806 | F17: =-Assumptions!$D$12*MAX(0,F16-'LBO Inputs'!$D$10*Assumptions!$D$13)*IF(Assumptions!$D$15=1,1,MIN(1,YEARFRAC('Fund Waterfall'!$D$11,F$7,1)/Assumptions!$D$14)) -> -230.36106 | G17: =-Assumptions!$D$12*MAX(0,G16-'LBO Inputs'!$D$10*Assumptions!$D$13)*IF(Assumptions!$D$15=1,1,MIN(1,YEARFRAC('Fund Waterfall'!$D$11,G$7,1)/Assumptions!$D$14)) -> -361.19751 | H17: =-Assumptions!$D$12*MAX(0,H16-'LBO Inputs'!$D$10*Assumptions!$D$13)*IF(Assumptions!$D$15=1,1,MIN(1,YEARFRAC('Fund Waterfall'!$D$11,H$7,1)/Assumptions!$D$14)) -> -491.25407 | I17: =-Assumptions!$D$12*MAX(0,I16-'LBO Inputs'!$D$10*Assumptions!$D$13)*IF(Assumptions!$D$15=1,1,MIN(1,YEARFRAC('Fund Waterfall'!$D$11,I$7,1)/Assumptions!$D$14)) -> -630.41145 | J17: =-Assumptions!$D$12*MAX(0,J16-'LBO Inputs'!$D$10*Assumptions!$D$13)*IF(Assumptions!$D$15=1,1,MIN(1,YEARFRAC('Fund Waterfall'!$D$11,J$7,1)/Assumptions!$D$14)) -> -776.88683
B18: Fund NAV, before carry | D18: =D16+D17 -> 5737.032 | E18: =E16+E17 -> 7129.6597 | F18: =F16+F17 -> 8386.1841 | G18: =G16+G17 -> 9890.8034 | H18: =H16+H17 -> 11386.454 | I18: =I16+I17 -> 12986.764 | J18: =J16+J17 -> 14671.23
