Workbook

Sheet Driver Assumptions
C3: Case Toggle (1 Downside, 2 Management, 3 Upside, 4 Outside-in) | D3: 4
C4: Selected Case | D4: =CHOOSE(D5,"Downside","Management","Upside","Outside-in") -> Outside-in
C5: Live case (Sensitivities override, else toggle) | D5: =IF(Sensitivities!$E$20>0,Sensitivities!$E$20,$D$3) -> 4
A6: X | C6: Driver Assumptions | E6: vs. Base (pp) | F6: =Model!J54 -> 46387 | G6: =EOMONTH(F6,12) -> 46752 | H6: =EOMONTH(G6,12) -> 47118 | I6: =EOMONTH(H6,12) -> 47483 | J6: =EOMONTH(I6,12) -> 47848 | K6: =EOMONTH(J6,12) -> 48213
C8: Revenue Growth | F8: =CHOOSE($D$5,F9,F10,F11,F12) -> 0.28040329 | G8: =CHOOSE($D$5,G9,G10,G11,G12) -> 0.13619371 | H8: =CHOOSE($D$5,H9,H10,H11,H12) -> 0.12619371 | I8: =CHOOSE($D$5,I9,I10,I11,I12) -> 0.11619371 | J8: =CHOOSE($D$5,J9,J10,J11,J12) -> 0.10619371 | K8: =CHOOSE($D$5,K9,K10,K11,K12) -> 0.1
C9: Case 1: Downside Case | E9: -3 | F9: =F12+$E9/100 -> 0.25040329 | G9: =G12+$E9/100 -> 0.10619371 | H9: =H12+$E9/100 -> 0.096193715 | I9: =I12+$E9/100 -> 0.086193715 | J9: =J12+$E9/100 -> 0.076193715 | K9: =K12+$E9/100 -> 0.07
C10: Case 2: Management Case | F10: =F52 -> 0.28767123 | G10: =G52 -> 0.17021277 | H10: =H52 -> 0.18 | I10: =I52 -> 0.17950693 | J10: =J52 -> 0.18027433 | K10: 0.16
C11: Case 3: Upside Case | E11: 3 | F11: =F12+$E11/100 -> 0.31040329 | G11: =G12+$E11/100 -> 0.16619371 | H11: =H12+$E11/100 -> 0.15619371 | I11: =I12+$E11/100 -> 0.14619371 | J11: =J12+$E11/100 -> 0.13619371 | K11: =K12+$E11/100 -> 0.13
C12: Case 4: Outside-in Case | F12: =F88 -> 0.28040329 | G12: =G88 -> 0.13619371 | H12: =H88 -> 0.12619371 | I12: =I88 -> 0.11619371 | J12: =J88 -> 0.10619371 | K12: =K88 -> 0.1
C14: Adj. EBITDA Margin (pre-SBC) | F14: =CHOOSE($D$5,F15,F16,F17,F18) -> 0.35743438 | G14: =CHOOSE($D$5,G15,G16,G17,G18) -> 0.37169221 | H14: =CHOOSE($D$5,H15,H16,H17,H18) -> 0.37806455 | I14: =CHOOSE($D$5,I15,I16,I17,I18) -> 0.38443689 | J14: =CHOOSE($D$5,J15,J16,J17,J18) -> 0.38762306 | K14: =CHOOSE($D$5,K15,K16,K17,K18) -> 0.39080923
C15: Case 1: Downside Case | E15: -1.5 | F15: =F18+$E15/100 -> 0.34243438 | G15: =G18+$E15/100 -> 0.35669221 | H15: =H18+$E15/100 -> 0.36306455 | I15: =I18+$E15/100 -> 0.36943689 | J15: =J18+$E15/100 -> 0.37262306 | K15: =K18+$E15/100 -> 0.37580923
C16: Case 2: Management Case | F16: =F54 -> 0.35957447 | G16: =G54 -> 0.38 | H16: =H54 -> 0.3990755 | I16: =I54 -> 0.41410843 | J16: =J54 -> 0.42224682 | K16: 0.427
C17: Case 3: Upside Case | E17: 1.5 | F17: =F18+$E17/100 -> 0.37243438 | G17: =G18+$E17/100 -> 0.38669221 | H17: =H18+$E17/100 -> 0.39306455 | I17: =I18+$E17/100 -> 0.39943689 | J17: =J18+$E17/100 -> 0.40262306 | K17: =K18+$E17/100 -> 0.40580923
C18: Case 4: Outside-in Case | F18: =F98 -> 0.35743438 | G18: =G98 -> 0.37169221 | H18: =H98 -> 0.37806455 | I18: =I98 -> 0.38443689 | J18: =J98 -> 0.38762306 | K18: =K98 -> 0.39080923
C20: SBC Expense ($m) | F20: =CHOOSE($D$5,F21,F22,F23,F24) -> 127.896 | G20: =CHOOSE($D$5,G21,G22,G23,G24) -> 127.896 | H20: =CHOOSE($D$5,H21,H22,H23,H24) -> 135.96584 | I20: =CHOOSE($D$5,I21,I22,I23,I24) -> 143.86502 | J20: =CHOOSE($D$5,J21,J22,J23,J24) -> 151.5038 | K20: =CHOOSE($D$5,K21,K22,K23,K24) -> 159.07899
C21: Case 1: Downside Case | F21: =F24 -> 127.896 | G21: =G24 -> 127.896 | H21: =H24 -> 135.96584 | I21: =I24 -> 143.86502 | J21: =J24 -> 151.5038 | K21: =K24 -> 159.07899
C22: Case 2: Management Case | F22: =F55 -> 127 | G22: =G55 -> 127 | H22: =H55 -> 127 | I22: =I55 -> 127 | J22: =J55 -> 127 | K22: =J22 -> 127
C23: Case 3: Upside Case | F23: =F24 -> 127.896 | G23: =G24 -> 127.896 | H23: =H24 -> 135.96584 | I23: =I24 -> 143.86502 | J23: =J24 -> 151.5038 | K23: =K24 -> 159.07899
C24: Case 4: Outside-in Case | F24: =F105 -> 127.896 | G24: =G105 -> 127.896 | H24: =H105 -> 135.96584 | I24: =I105 -> 143.86502 | J24: =J105 -> 151.5038 | K24: =K105 -> 159.07899
C26: Capex (% of Revenue) | F26: =CHOOSE($D$5,F27,F28,F29,F30) -> 0.0167174 | G26: =CHOOSE($D$5,G27,G28,G29,G30) -> 0.0167174 | H26: =CHOOSE($D$5,H27,H28,H29,H30) -> 0.0167174 | I26: =CHOOSE($D$5,I27,I28,I29,I30) -> 0.0167174 | J26: =CHOOSE($D$5,J27,J28,J29,J30) -> 0.0167174 | K26: =CHOOSE($D$5,K27,K28,K29,K30) -> 0.0167174
C27: Case 1: Downside Case | F27: =F30 -> 0.0167174 | G27: =G30 -> 0.0167174 | H27: =H30 -> 0.0167174 | I27: =I30 -> 0.0167174 | J27: =J30 -> 0.0167174 | K27: =K30 -> 0.0167174
C28: Case 2: Management Case | F28: =F56 -> 0.022 | G28: =G56 -> 0.015 | H28: =H56 -> 0.015 | I28: =I56 -> 0.015 | J28: =J56 -> 0.015 | K28: =J28 -> 0.015
C29: Case 3: Upside Case | F29: =F30 -> 0.0167174 | G29: =G30 -> 0.0167174 | H29: =H30 -> 0.0167174 | I29: =I30 -> 0.0167174 | J29: =J30 -> 0.0167174 | K29: =K30 -> 0.0167174
C30: Case 4: Outside-in Case | F30: =$E$107 -> 0.0167174 | G30: =$E$107 -> 0.0167174 | H30: =$E$107 -> 0.0167174 | I30: =$E$107 -> 0.0167174 | J30: =$E$107 -> 0.0167174 | K30: =$E$107 -> 0.0167174
C32: Depreciation (% of Capex) | F32: =CHOOSE($D$5,F33,F34,F35,F36) -> 0.97674419 | G32: =CHOOSE($D$5,G33,G34,G35,G36) -> 0.97674419 | H32: =CHOOSE($D$5,H33,H34,H35,H36) -> 0.97674419 | I32: =CHOOSE($D$5,I33,I34,I35,I36) -> 0.97674419 | J32: =CHOOSE($D$5,J33,J34,J35,J36) -> 0.97674419 | K32: =CHOOSE($D$5,K33,K34,K35,K36) -> 0.97674419
C33: Case 1: Downside Case | F33: =F36 -> 0.97674419 | G33: =G36 -> 0.97674419 | H33: =H36 -> 0.97674419 | I33: =I36 -> 0.97674419 | J33: =J36 -> 0.97674419 | K33: =K36 -> 0.97674419
C34: Case 2: Management Case | F34: =F57 -> 0.646 | G34: =G57 -> 0.682 | H34: =H57 -> 0.718 | I34: =I57 -> 0.754 | J34: =J57 -> 0.79 | K34: =J34 -> 0.79
C35: Case 3: Upside Case | F35: =F36 -> 0.97674419 | G35: =G36 -> 0.97674419 | H35: =H36 -> 0.97674419 | I35: =I36 -> 0.97674419 | J35: =J36 -> 0.97674419 | K35: =K36 -> 0.97674419
C36: Case 4: Outside-in Case | F36: =$E$110 -> 0.97674419 | G36: =$E$110 -> 0.97674419 | H36: =$E$110 -> 0.97674419 | I36: =$E$110 -> 0.97674419 | J36: =$E$110 -> 0.97674419 | K36: =$E$110 -> 0.97674419
C38: NWC Investment (% of Revenue) | F38: =CHOOSE($D$5,F39,F40,F41,F42) -> 0.027201018 | G38: =CHOOSE($D$5,G39,G40,G41,G42) -> 0.027201018 | H38: =CHOOSE($D$5,H39,H40,H41,H42) -> 0.027201018 | I38: =CHOOSE($D$5,I39,I40,I41,I42) -> 0.027201018 | J38: =CHOOSE($D$5,J39,J40,J41,J42) -> 0.027201018 | K38: =CHOOSE($D$5,K39,K40,K41,K42) -> 0.027201018
C39: Case 1: Downside Case | F39: =F42 -> 0.027201018 | G39: =G42 -> 0.027201018 | H39: =H42 -> 0.027201018 | I39: =I42 -> 0.027201018 | J39: =J42 -> 0.027201018 | K39: =K42 -> 0.027201018
C40: Case 2: Management Case | F40: =F58 -> 0.02 | G40: =G58 -> 0.02 | H40: =H58 -> 0.02 | I40: =I58 -> 0.02 | J40: =J58 -> 0.02 | K40: =J40 -> 0.02
C41: Case 3: Upside Case | F41: =F42 -> 0.027201018 | G41: =G42 -> 0.027201018 | H41: =H42 -> 0.027201018 | I41: =I42 -> 0.027201018 | J41: =J42 -> 0.027201018 | K41: =K42 -> 0.027201018
C42: Case 4: Outside-in Case | F42: =$E$111 -> 0.027201018 | G42: =$E$111 -> 0.027201018 | H42: =$E$111 -> 0.027201018 | I42: =$E$111 -> 0.027201018 | J42: =$E$111 -> 0.027201018 | K42: =$E$111 -> 0.027201018
C44: Contract Cost Amortization (% of Revenue) | F44: =CHOOSE($D$5,F45,F46,F47,F48) -> 0.013868664 | G44: =CHOOSE($D$5,G45,G46,G47,G48) -> 0.013868664 | H44: =CHOOSE($D$5,H45,H46,H47,H48) -> 0.013868664 | I44: =CHOOSE($D$5,I45,I46,I47,I48) -> 0.013868664 | J44: =CHOOSE($D$5,J45,J46,J47,J48) -> 0.013868664 | K44: =CHOOSE($D$5,K45,K46,K47,K48) -> 0.013868664
C45: Case 1: Downside Case | F45: =F48 -> 0.013868664 | G45: =G48 -> 0.013868664 | H45: =H48 -> 0.013868664 | I45: =I48 -> 0.013868664 | J45: =J48 -> 0.013868664 | K45: =K48 -> 0.013868664
C46: Case 2: Management Case | F46: 0.015 | G46: 0.015 | H46: 0.015 | I46: 0.015 | J46: 0.015 | K46: 0.015
C47: Case 3: Upside Case | F47: =F48 -> 0.013868664 | G47: =G48 -> 0.013868664 | H47: =H48 -> 0.013868664 | I47: =I48 -> 0.013868664 | J47: =J48 -> 0.013868664 | K47: =K48 -> 0.013868664
C48: Case 4: Outside-in Case | F48: =$E$112 -> 0.013868664 | G48: =$E$112 -> 0.013868664 | H48: =$E$112 -> 0.013868664 | I48: =$E$112 -> 0.013868664 | J48: =$E$112 -> 0.013868664 | K48: =$E$112 -> 0.013868664
A50: X | C50: Mgmt. Forecasts (DEFM14A) | E50: =EOMONTH(F6,-12) -> 46022 | F50: =F6 -> 46387 | G50: =G6 -> 46752 | H50: =H6 -> 47118 | I50: =I6 -> 47483 | J50: =J6 -> 47848
...

Sheet Model
C2: ($ in millions, unless stated otherwise)
C3: General Assumptions | Q3: Purchase Price Build
C4: Close date | E4: 46198 | G4: Company merger costs ($m) | I4: 124.14263 | K4: Price paid vs. offer ($/share) | M4: 0 | Q4: Class A shares (m) | U4: 288.63233
C5: Offer price per share | E5: 24.55 | G5: Financing fees & OID (% of TL) | I5: 0.02 | K5: Target IRR, low | M5: 0.2 | Q5: OpCo units exchanged (m) | U5: 4.506422
C6: Unaffected price, 10-Nov-25 | E6: 16.69 | G6: Minimum cash | I6: 75 | K6: Target IRR, mid | M6: 0.225 | Q6: RSUs (m) | U6: 8.547355
C7: Premium to unaffected | E7: =E5/E6-1 -> 0.47094068 | G7: Cash tax rate | I7: 0.25 | K7: Target IRR, high | M7: 0.25 | Q7: PSUs, at maximum (m) | U7: 3.984521
C8: Exit multiple vs. entry NTM (turns) | E8: 0 | G8: DTA usage cap (% of tax) | I8: 0.8 | K8: Selected exit date | M8: =Sensitivities!$F$9 -> 47848 | Q8: Options (m) | U8: 7.590682
C9: Circularity (1 = on) | E9: 1 | G9: §163(j) cap (% of EBITDA) | I9: 0.3 | K9: Excess cash sweep (%) | M9: 1 | Q9: Weighted average strike ($) | U9: 9.09
C10: Director RSUs at offer: Aghi, Aigrain ($m) | E10: 0.753144 | G10: Deferred award payout ends | I10: =EDATE(E4,M10) -> 47294 | K10: Deferred award payout period (months) | M10: 36 | Q10: Enfusion committed SBC at offer ($m) | U10: 16.7
C11: Director RSUs at offer: Jones, NieuweWeme ($m) | E11: 0.786876 | G11: Enfusion awards vested at close (%) | I11: 0 | K11: Other awards vested at close (m) | M11: 0 | Q11: Enfusion committed awards (m) | U11: =U10/E5 -> 0.6802444
C12: Management rollover | E12: 0 | G12: DTA, net, 31-Mar-26 | I12: 702.3 | K12: First sweep year end | M12: 46752 | Q12: Net option shares, TSM (m) | U12: =U8*MAX(0,1-U9/U24) -> 4.7801199
C13: Revenue growth shift (pp, all years) | E13: 0 | G13: Adj. EBITDA margin shift (all years) | I13: 0 | K13: Entry multiple vs. offer (turns) | M13: 0 | Q13: Fully diluted shares (m) | U13: =SUM(U4:U7)+U11+U12 -> 311.131
C14: Financing Assumptions | Q14: Equity purchase price | U14: =U24*U13 -> 7638.2659
D15: Commitment Fee | E15: Commitment | F15: Drawn at Close | G15: x LTM EBITDA | H15: Margin | I15: SOFR Floor | J15: % Amort. | K15: Tenor (Years) | L15: Fee (%) | M15: Fee ($) | Q15: (+) Debt principal, current | U15: 8
C16: Revolver | D16: 0.005 | E16: 325 | F16: 0 | G16: =F16/$U$20 -> 0 | H16: 0.045 | I16: 0.005 | J16: 0 | K16: 7 | M16: 0 | Q16: (+) Debt principal, non-current | U16: 817
C17: Term loan | E17: 2700 | F17: =E17+Sensitivities!$F$10*U20 -> 2700 | G17: =F17/$U$20 -> 9.6241245 | H17: 0.045 | I17: 0.005 | J17: 0 | K17: 7 | L17: =I5 -> 0.02 | M17: =L17*F17 -> 54 | Q17: (–) Cash and cash equivalents | U17: =-'Balance Sheet'!G6 -> -81.507
C18: DDTL | D18: 0.01 | E18: 500 | F18: 0 | G18: =F18/$U$20 -> 0 | H18: 0.045 | I18: 0.005 | J18: 0 | K18: 7 | M18: 0 | Q18: Transaction enterprise value | U18: =SUM(U14:U17) -> 8381.7589
C19: Total | E19: =SUM(E16:E18) -> 3525 | F19: =SUM(F16:F18) -> 2700 | G19: =F19/$U$20 -> 9.6241245 | M19: =SUM(M16:M18) -> 54 | Q19: LTM Mar-26 revenue | U19: ='Income Statement'!I6 -> 825.732
Q20: LTM Mar-26 Adj. EBITDA (pre-SBC): entry metric | U20: ='Income Statement'!I32 -> 280.545
C21: Term SOFR, held flat | E21: =E22-E23 -> 0.0353 | G21: PIK share of margin | I21: 0.5 | K21: Revolver fee step-down, each | M21: 0.00125 | Q21: TEV / LTM Adj. EBITDA at price paid | U21: =U18/U20 -> 29.8767
C22: Existing debt rate, Q1'26 | E22: 0.0578 | G22: PIK step-up (paid in kind) | I22: 0.0025 | K22: Revolver fee trigger 1 (x) | M22: 7.5 | Q22: Entry: TEV / FY2026E (NTM) Adj. EBITDA at price paid | U22: =U18/J57 -> 25.041256
C23: Existing term loan margin | E23: 0.0225 | G23: PIK election (1 = on) | I23: 1 | K23: Revolver fee trigger 2 (x) | M23: 7 | Q23: TEV / LTM revenue | U23: =U18/U19 -> 10.150701
C24: Margin step-down | E24: 0.0025 | G24: PIK window ends | I24: =EDATE(E4,24) -> 46929 | K24: DDTL fee, day 91 to year 1 | M24: 0.005 | Q24: Price paid per share | U24: =Sensitivities!$F$7+M4+M13*U27/SUM(U4:U8) -> 24.55
C25: Step-down trigger, 1L net leverage (x) | E25: 7.5 | G25: DDTL availability ends | I25: =EDATE(E4,30) -> 47112 | K25: DDTL fee, after year 1 | M25: 0.01 | Q25: Entry NTM multiple: TEV / FY2026E Adj. EBITDA at $24.55 | U25: =(E5*(SUM(U4:U7)+U11+U8*MAX(0,1-U9/E5))+U15+U16+U17)/U27 -> 25.041256
C26: Revolver usable at close | E26: 81.25 | G26: Interest income rate on cash | I26: =E21+Sensitivities!$F$14/10000 -> 0.0353 | K26: DDTL fee-free period (days) | M26: 90 | Q26: Exit NTM multiple (= entry, flat) | U26: =U25+E8+Sensitivities!$F$8 -> 25.041256
Q27: FY2026E Adj. EBITDA, case before shifts (entry metric) | U27: =I55*(1+'Driver Assumptions'!F8)*'Driver Assumptions'!F14 -> 334.718
C28: Sources | G28: Uses | K28: Sponsor Equity by Commitment Letter | Q28: Pre-close Share Roll-forward
C29: Revolver | E29: =F16 -> 0 | G29: Equity consideration paid at closing | I29: =F48 -> 7440.3964 | L29: Commitment | M29: % of Total | N29: Funded | Q29: Class A + Class B shares, 4-May-26 (m) | U29: =O45+O46 -> 298.48829
C30: Term loan | E30: =F17 -> 2700 | G30: Refinance existing debt | I30: =U15+U16 -> 825 | K30: Permira | L30: 2577.4849 | M30: =L30/$L$34 -> 0.43649417 | N30: =M30*$E$34 -> 2504.181 | Q30: Shares issued since 15-Dec-25 count (m) | U30: =U29-U4-U5 -> 5.349536
C31: DDTL | E31: =F18 -> 0 | G31: Minimum cash | I31: =Sensitivities!$F$19 -> 75 | K31: Warburg Pincus | L31: 1827.4849 | M31: =L31/$L$34 -> 0.30948251 | N31: =M31*$E$34 -> 1775.5111 | Q31: Options exercised, Q1'26 (m) | U31: 0.339891
C32: Balance sheet cash | E32: =-U17 -> 81.507 | G32: Company merger costs | I32: =Sensitivities!$F$18 -> 124.14263 | K32: Francisco Partners | L32: 750 | M32: =L32/$L$34 -> 0.12701166 | N32: =M32*$E$34 -> 728.66994 | Q32: Strike, options exercised ($) | U32: 5.77
C33: Management rollover | E33: =E12 -> 0 | G33: Financing fees & OID | I33: =M19 -> 54 | K33: Temasek (Robson) | L33: 750 | M33: =L33/$L$34 -> 0.12701166 | N33: =M33*$E$34 -> 728.66994 | Q33: Options outstanding, pre-close (m) | U33: =U8-U31 -> 7.250791
C34: Sponsor equity | E34: =I35-SUM(E29:E33) -> 5737.032 | K34: Total | L34: =SUM(L30:L33) -> 5904.9698 | M34: =SUM(M30:M33) -> 1 | N34: =SUM(N30:N33) -> 5737.032 | Q34: Net option shares, TSM, pre-close (m) | U34: =MAX(0,U33-(U8*U9-U31*U32)/U24) -> 4.5201137
C35: Total Sources | E35: =SUM(E29:E34) -> 8518.539 | G35: Total Uses | I35: =SUM(I29:I33) -> 8518.539 | K35: Undrawn commitment headroom | N35: =L34-N34 -> 167.93782 | Q35: RSUs deferred at close (m) | U35: =U13-U29-U34-E43-E44-U7-U11 -> 3.3950953
K36: Equity / total capitalization | N36: =(E34+E33)/(E34+E33+E29+E30+E31) -> 0.67998225 | Q36: RSUs released pre-close, paid as common (m) | U36: =U6-E43-E44-U35 -> 5.0895298
K37: Equity funded per closing 8-K (approx.) | N37: 5700 | Q37: Memo: RSUs released in Q1'26 (m) | U37: 4.76651
C39: Closing Consideration and Deferred Awards
E40: Units (m) | F40: At close ($m) | G40: Deferred ($m) | H40: Total ($m) | K40: Reconciliation to Closing 8-K | O40: Model | P40: 8-K (approx.) | Q40: Difference
C41: Class A and B shares, 4-May-26 (incl. released RSUs) | E41: =U29 -> 298.48829 | F41: =E41*$U$24 -> 7327.8875 | G41: =0 -> 0 | H41: =F41+G41 -> 7327.8875 | K41: Consideration paid at closing | O41: =F48 -> 7440.3964 | P41: 7400 | Q41: =O41-P41 -> 40.396355
C42: Options, net of strike (pre-close; all paid at close) | E42: =U34 -> 4.5201137 | F42: =E42*$U$24 -> 110.96879 | G42: =0 -> 0 | H42: =F42+G42 -> 110.96879 | K42: Sponsor equity funded | O42: =E34 -> 5737.032 | P42: =N37 -> 5700 | Q42: =O42-P42 -> 37.031986
...

Sheet LBO Output
C2: Clearwater Analytics (CWAN) Take-Private: LBO Output
C3: ="($ in millions, except per share); case shown: "&'Driver Assumptions'!D4 -> ($ in millions, except per share); case shown: Outside-in
C6: Sources | E6: x LTM | F6: Amount | G6: % | I6: Transaction Summary
C7: Revolver | E7: =F7/Model!$U$20 -> 0 | F7: =Model!E29 -> 0 | G7: =F7/$F$12 -> 0 | I7: Close date | M7: =Model!E4 -> 46198 | O7: TEV / LTM Mar-26 Adj. EBITDA (reference) | U7: =Model!U21 -> 29.8767
C8: Term loan | E8: =F8/Model!$U$20 -> 9.6241245 | F8: =Model!E30 -> 2700 | G8: =F8/$F$12 -> 0.31695576 | I8: Offer price per share | M8: =Model!E5 -> 24.55 | O8: Total debt / LTM Adj. EBITDA at close | U8: =Model!I164 -> 9.6241245
C9: Delayed-draw term loan | E9: =F9/Model!$U$20 -> 0 | F9: =Model!E31 -> 0 | G9: =F9/$F$12 -> 0 | I9: Premium to unaffected ($16.69) | M9: =Model!E7 -> 0.47094068 | O9: Equity / total capitalization | U9: =Model!N36 -> 0.67998225
C10: Balance sheet cash | F10: =Model!E32 -> 81.507 | G10: =F10/$F$12 -> 0.0095681901 | I10: Fully diluted shares (m) | M10: =Model!U13 -> 311.131 | O10: Exit: NTM Adj. EBITDA multiple (= entry, flat) | U10: =Model!U26 -> 25.041256
C11: Sponsor equity | F11: =Model!E34 -> 5737.032 | G11: =F11/$F$12 -> 0.67347605 | I11: Equity purchase price | M11: =Model!U14 -> 7638.2659 | O11: Selected exit | U11: =Model!M8 -> 47848
C12: Total Sources | F12: =SUM(F7:F11) -> 8518.539 | G12: =SUM(G7:G11) -> 1 | I12: Transaction enterprise value | M12: =Model!U18 -> 8381.7589 | O12: IRR, selected exit | U12: =Model!I204 -> 0.21071793
I13: Entry: TEV / FY2026E (NTM) Adj. EBITDA | M13: =Model!U22 -> 25.041256 | O13: MOIC, selected exit | U13: =Model!I205 -> 2.3735575
C14: Uses | F14: Amount | G14: %
C15: Equity consideration paid at closing | F15: =Model!I29 -> 7440.3964 | G15: =F15/$F$20 -> 0.87343573
C16: Refinance existing debt | F16: =Model!I30 -> 825 | G16: =F16/$F$20 -> 0.096847593
C17: Minimum cash | F17: =Model!I31 -> 75 | G17: =F17/$F$20 -> 0.0088043267
C18: Company merger costs | F18: =Model!I32 -> 124.14263 | G18: =F18/$F$20 -> 0.01457323
C19: Financing fees & OID | F19: =Model!I33 -> 54 | G19: =F19/$F$20 -> 0.0063391152
C20: Total Uses | F20: =SUM(F15:F19) -> 8518.539 | G20: =SUM(G15:G19) -> 1
C21: Memo: deferred award liability (paid within SBC as cash) | F21: =Model!G48 -> 197.86958
C22: Returns by Exit Year | I22: P&L, Cash Flow and Credit Output ($ in millions)
D23: =Model!K54 -> 46752 | E23: =Model!L54 -> 47118 | F23: =Model!M54 -> 47483 | G23: =Model!N54 -> 47848 | J23: Historicals | L23: Projections | S23: CAGRs
C24: Years from close | D24: =Model!K174 -> 1.5178082 | E24: =Model!L174 -> 2.5182482 | F24: =Model!M174 -> 3.5181383 | G24: =Model!N174 -> 4.5180723 | J24: =Model!H54 -> 45657 | K24: =Model!I54 -> 46022 | L24: =Model!J54 -> 46387 | M24: =Model!K54 -> 46752 | N24: =Model!L54 -> 47118 | O24: =Model!M54 -> 47483 | P24: =Model!N54 -> 47848 | Q24: =Model!O54 -> 48213 | S24: =Model!P54 -> FY21-FY25 | T24: =Model!Q54 -> FY25-FY30
C25: Exit enterprise value | D25: =Model!K178 -> 11344.106 | E25: =Model!L178 -> 12875.644 | F25: =Model!M178 -> 14361 | G25: =Model!N178 -> 15926.949 | I25: Revenue | J25: =Model!H55 -> 451.803 | K25: =Model!I55 -> 731.368 | L25: =Model!J55 -> 936.446 | M25: =Model!K55 -> 1063.9841 | N25: =Model!L55 -> 1198.2522 | O25: =Model!M55 -> 1337.4815 | P25: =Model!N55 -> 1479.5137 | Q25: =Model!O55 -> 1627.465 | S25: =Model!P55 -> 0.30519192 | T25: =Model!Q55 -> 0.15132147
C26: Exit equity value | D26: =Model!K182 -> 8616.5452 | E26: =Model!L182 -> 10252.001 | F26: =Model!M182 -> 11877.708 | G26: =Model!N182 -> 13617.175 | I26: % Growth | J26: =Model!H56 -> 0.22716532 | K26: =Model!I56 -> 0.61877633 | L26: =Model!J56 -> 0.28040329 | M26: =Model!K56 -> 0.13619371 | N26: =Model!L56 -> 0.12619371 | O26: =Model!M56 -> 0.11619371 | P26: =Model!N56 -> 0.10619371 | Q26: =Model!O56 -> 0.1
C27: Sponsor proceeds | D27: =Model!K184 -> 8616.5452 | E27: =Model!L184 -> 10252.001 | F27: =Model!M184 -> 11877.708 | G27: =Model!N184 -> 13617.175 | I27: Adj. EBITDA (pre-SBC) | J27: =Model!H57 -> 145.674 | K27: =Model!I57 -> 248.19 | L27: =Model!J57 -> 334.718 | M27: =Model!K57 -> 395.47459 | N27: =Model!L57 -> 453.01666 | O27: =Model!M57 -> 514.17724 | P27: =Model!N57 -> 573.49361 | Q27: =Model!O57 -> 636.02835 | S27: =Model!P57 -> 0.35940329 | T27: =Model!Q57 -> 0.18235764
C28: IRR | D28: =Model!K187 -> 0.30732097 | E28: =Model!L187 -> 0.25926681 | F28: =Model!M187 -> 0.22979615 | G28: =Model!N187 -> 0.21084479 | I28: % Margin | J28: =Model!H58 -> 0.32242814 | K28: =Model!I58 -> 0.33935037 | L28: =Model!J58 -> 0.35743438 | M28: =Model!K58 -> 0.37169221 | N28: =Model!L58 -> 0.37806455 | O28: =Model!M58 -> 0.38443689 | P28: =Model!N58 -> 0.38762306 | Q28: =Model!O58 -> 0.39080923
C29: MOIC | D29: =Model!K188 -> 1.5019169 | E29: =Model!L188 -> 1.7869869 | F29: =Model!M188 -> 2.0703576 | G29: =Model!N188 -> 2.3735575 | I29: (–) SBC | J29: =Model!H59 -> -103.201 | K29: =Model!I59 -> -127.896 | L29: =Model!J59 -> -127.896 | M29: =Model!K59 -> -127.896 | N29: =Model!L59 -> -135.96584 | O29: =Model!M59 -> -143.86502 | P29: =Model!N59 -> -151.5038 | Q29: =Model!O59 -> -159.07899
I30: Adj. EBITDA (post-SBC) | J30: =Model!H60 -> 42.473 | K30: =Model!I60 -> 120.294 | L30: =Model!J60 -> 206.822 | M30: =Model!K60 -> 267.57859 | N30: =Model!L60 -> 317.05083 | O30: =Model!M60 -> 370.31222 | P30: =Model!N60 -> 421.98981 | Q30: =Model!O60 -> 476.94936 | S30: =Model!P60 -> 0.35220546 | T30: =Model!Q60 -> 0.28532099
C31: ="Max. price per share at "&TEXT(Model!$M$5,"0.0%")&" IRR" -> Max. price per share at 20.0% IRR | D31: =Model!K192 -> 27.13562 | E31: =Model!L192 -> 26.966707 | F31: =Model!M192 -> 26.24073 | G31: =Model!N192 -> 25.328291 | I31: (–) Depreciation | L31: =Model!J64 -> -15.290873 | M31: =Model!K64 -> -17.373394 | N31: =Model!L64 -> -19.565807 | O31: =Model!M64 -> -21.839231 | P31: =Model!N64 -> -24.15842 | Q31: =Model!O64 -> -26.574262
C32: ="Max. price per share at "&TEXT(Model!$M$6,"0.0%")&" IRR" -> Max. price per share at 22.5% IRR | D32: =Model!K194 -> 26.482602 | E32: =Model!L194 -> 25.897182 | F32: =Model!M194 -> 24.809691 | G32: =Model!N194 -> 23.59027 | I32: Adj. EBIT (post-SBC) | L32: =Model!J65 -> 191.53112 | M32: =Model!K65 -> 250.20519 | N32: =Model!L65 -> 297.48502 | O32: =Model!M65 -> 348.47298 | P32: =Model!N65 -> 397.83139 | Q32: =Model!O65 -> 450.3751
C33: ="Max. price per share at "&TEXT(Model!$M$7,"0.0%")&" IRR" -> Max. price per share at 25.0% IRR | D33: =Model!K196 -> 25.862022 | E33: =Model!L196 -> 24.901578 | F33: =Model!M196 -> 23.50473 | G33: =Model!N196 -> 22.037402 | I33: (–) Interest expense | L33: =Model!J75 -> -122.0294 | M33: =Model!K75 -> -239.35798 | N33: =Model!L75 -> -226.92655 | O33: =Model!M75 -> -212.09454 | P33: =Model!N75 -> -200.81204 | Q33: =Model!O75 -> -184.79434
C34: ="Premium / (discount) to offer at "&TEXT(Model!$M$6,"0.0%") -> Premium / (discount) to offer at 22.5% | D34: =Model!K197 -> 0.078721075 | E34: =Model!L197 -> 0.054875042 | F34: =Model!M197 -> 0.010578036 | G34: =Model!N197 -> -0.039092873 | I34: (+) Interest income | L34: =Model!J76 -> 1.4417935 | M34: =Model!K76 -> 2.7844161 | N34: =Model!L76 -> 2.6475 | O34: =Model!M76 -> 2.6475 | P34: =Model!N76 -> 2.6475 | Q34: =Model!O76 -> 2.6475
I35: (–) Cash taxes | L35: =Model!J78 -> -3.3524076 | M35: =Model!K78 -> -8.4965808 | N35: =Model!L78 -> -10.118489 | O35: =Model!M78 -> -11.868966 | P35: =Model!N78 -> -13.561722 | Q35: =Model!O78 -> -15.364514
C37: Purchase Price Build
E38: Shares (m) | G38: $m
C39: Offer price per share | G39: =Model!E5 -> 24.55
C40: Class A shares, 15-Dec-25 | E40: =Model!U4 -> 288.63233 | G40: =E40*$G$39 -> 7085.9238
C41: OpCo units exchanged into Class A | E41: =Model!U5 -> 4.506422 | G41: =E41*$G$39 -> 110.63266
C42: RSUs (released pre-close: paid as shares; rest deferred) | E42: =Model!U6 -> 8.547355 | G42: =E42*$G$39 -> 209.83757
C43: PSUs at maximum (cash award, paid as they vest) | E43: =Model!U7 -> 3.984521 | G43: =E43*$G$39 -> 97.819991
C44: Options outstanding (weighted average strike $9.09) | E44: =Model!U8 -> 7.590682
...

Sheet Sensitivity Output
C2: Clearwater Analytics (CWAN) Take-Private: Sensitivity Output
C3: ($ in millions, except per share); FY2030 exit; Outside-in case unless stated
C5: Driver Ranking: FY2030 IRR, One Input at a Time | K5: Scenario Summary: FY2030
L6: Revenue | M6: Adj. EBITDA | N6: Debt / EBITDA | O6: EBITDA / int. | P6: IRR | Q6: MOIC | R6: Price @ 20%
K7: Base (Outside-in) | L7: =Sensitivities!E89 -> 1479.5137 | M7: =Sensitivities!F89 -> 573.49361 | N7: =Sensitivities!G89 -> 4.1583262 | O7: =Sensitivities!H89 -> 2.9699651 | P7: =Sensitivities!I89 -> 0.21071793 | Q7: =Sensitivities!J89 -> 2.3735575 | R7: =Sensitivities!K89 -> 25.328291
K8: Management | L8: =Sensitivities!E90 -> 1810.3863 | M8: =Sensitivities!F90 -> 764.42984 | N8: =Sensitivities!G90 -> 2.4221255 | O8: =Sensitivities!H90 -> 4.7405237 | P8: =Sensitivities!I90 -> 0.3242314 | Q8: =Sensitivities!J90 -> 3.5591278 | R8: =Sensitivities!K90 -> 35.087799
K9: Upside | L9: =Sensitivities!E91 -> 1682.878 | M9: =Sensitivities!F91 -> 677.5655 | N9: =Sensitivities!G91 -> 3.0658047 | O9: =Sensitivities!H91 -> 3.9028336 | P9: =Sensitivities!I91 -> 0.25675065 | Q9: =Sensitivities!J91 -> 2.8097029 | R9: =Sensitivities!K91 -> 28.9186
K10: Downside | L10: =Sensitivities!E92 -> 1296.2904 | M10: =Sensitivities!F92 -> 483.02769 | N10: =Sensitivities!G92 -> 5.4936247 | O10: =Sensitivities!H92 -> 2.2983909 | P10: =Sensitivities!I92 -> 0.16343494 | Q10: =Sensitivities!J92 -> 1.9823956 | R10: =Sensitivities!K92 -> 22.108281
K12: Breakevens: FY2030 Exit
L13: Outside-in | O13: Management
L14: Base | M14: =Sensitivities!E129 -> @ 20.0% IRR | N14: =Sensitivities!F129 -> @ 2.0x MOIC | O14: Base | P14: =Sensitivities!H129 -> @ 20.0% IRR | Q14: =Sensitivities!I129 -> @ 2.0x MOIC
K15: Exit NTM multiple (x) | L15: =IF(Sensitivities!D130="","",Sensitivities!D130) -> 25.041256 | M15: =IF(Sensitivities!E130="","",Sensitivities!E130) -> 24.197727 | N15: =IF(Sensitivities!F130="","",Sensitivities!F130) -> 21.671734 | O15: =IF(Sensitivities!G130="","",Sensitivities!G130) -> 24.751719 | P15: =IF(Sensitivities!H130="","",Sensitivities!H130) -> 16.568386 | Q15: =IF(Sensitivities!I130="","",Sensitivities!I130) -> 14.776743
K16: Revenue growth shift (pp, all years) | L16: =IF(Sensitivities!D132="","",Sensitivities!D132) | M16: =IF(Sensitivities!E132="","",Sensitivities!E132) -> -0.60359603 | N16: =IF(Sensitivities!F132="","",Sensitivities!F132) -> -2.5107718 | O16: =IF(Sensitivities!G132="","",Sensitivities!G132) | P16: =IF(Sensitivities!H132="","",Sensitivities!H132) -> -7.0948703 | Q16: =IF(Sensitivities!I132="","",Sensitivities!I132) -> -8.9828366
K17: FY2027-30E avg. revenue growth | L17: =IF(Sensitivities!D133="","",Sensitivities!D133) -> 0.12119371 | M17: =IF(Sensitivities!E133="","",Sensitivities!E133) -> 0.11515775 | N17: =IF(Sensitivities!F133="","",Sensitivities!F133) -> 0.096085996 | O17: =IF(Sensitivities!G133="","",Sensitivities!G133) -> 0.17749851 | P17: =IF(Sensitivities!H133="","",Sensitivities!H133) -> 0.1065498 | Q17: =IF(Sensitivities!I133="","",Sensitivities!I133) -> 0.087670142
K18: Adj. EBITDA margin shift (pp, all years) | L18: =IF(Sensitivities!D134="","",Sensitivities!D134) | M18: =IF(Sensitivities!E134="","",Sensitivities!E134) -> -1.138423 | N18: =IF(Sensitivities!F134="","",Sensitivities!F134) -> -4.5300107 | O18: =IF(Sensitivities!G134="","",Sensitivities!G134) | P18: =IF(Sensitivities!H134="","",Sensitivities!H134) -> -12.398014 | Q18: =IF(Sensitivities!I134="","",Sensitivities!I134) -> -15.120994
K19: FY2030E Adj. EBITDA margin | L19: =IF(Sensitivities!D135="","",Sensitivities!D135) -> 0.38762306 | M19: =IF(Sensitivities!E135="","",Sensitivities!E135) -> 0.37623883 | N19: =IF(Sensitivities!F135="","",Sensitivities!F135) -> 0.34232295 | O19: =IF(Sensitivities!G135="","",Sensitivities!G135) -> 0.42224682 | P19: =IF(Sensitivities!H135="","",Sensitivities!H135) -> 0.29826668 | Q19: =IF(Sensitivities!I135="","",Sensitivities!I135) -> 0.27103688
C22: IRR: Entry Price per Share vs. Exit Multiple | K22: IRR: Revenue Growth vs. Adj. EBITDA Margin Shift
D23: Exit NTM | E23: Entry price per share ($) | L23: Growth shift | M23: Adj. EBITDA margin shift
E24: =Sensitivities!F31 -> 22 | F24: =Sensitivities!G31 -> 23.25 | G24: =Sensitivities!H31 -> 24.55 | H24: =Sensitivities!I31 -> 25.75 | I24: =Sensitivities!J31 -> 27 | M24: =Sensitivities!F49 -> -4 | N24: =Sensitivities!G49 -> -2 | O24: =Sensitivities!H49 -> 0 | P24: =Sensitivities!I49 -> 2 | Q24: =Sensitivities!J49 -> 4
D25: =Sensitivities!D32 -> 23.041256 | E25: =Sensitivities!F32 -> 0.22364807 | F25: =Sensitivities!G32 -> 0.20370542 | G25: =Sensitivities!H32 -> 0.18473484 | H25: =Sensitivities!I32 -> 0.1685966 | I25: =Sensitivities!J32 -> 0.15299968 | L25: =Sensitivities!E50 -> -4 | M25: =Sensitivities!F50 -> 0.097815698 | N25: =Sensitivities!G50 -> 0.11875443 | O25: =Sensitivities!H50 -> 0.13841754 | P25: =Sensitivities!I50 -> 0.15673994 | Q25: =Sensitivities!J50 -> 0.17429109
D26: =Sensitivities!D33 -> 24.041256 | E26: =Sensitivities!F33 -> 0.23732244 | F26: =Sensitivities!G33 -> 0.21715694 | G26: =Sensitivities!H33 -> 0.19797435 | H26: =Sensitivities!I33 -> 0.18165577 | I26: =Sensitivities!J33 -> 0.16588456 | L26: =Sensitivities!E51 -> -2 | M26: =Sensitivities!F51 -> 0.13515672 | N26: =Sensitivities!G51 -> 0.15577446 | O26: =Sensitivities!H51 -> 0.17497126 | P26: =Sensitivities!I51 -> 0.19310985 | Q26: =Sensitivities!J51 -> 0.21051272
D27: =Sensitivities!D34 -> 25.041256 | E27: =Sensitivities!F34 -> 0.25048459 | F27: =Sensitivities!G34 -> 0.23010457 | G27: =Sensitivities!H34 -> 0.21071793 | H27: =Sensitivities!I34 -> 0.19422576 | I27: =Sensitivities!J34 -> 0.17828677 | L27: =Sensitivities!E52 -> 0 | M27: =Sensitivities!F52 -> 0.17127797 | N27: =Sensitivities!G52 -> 0.191664 | O27: =Sensitivities!H52 -> 0.21071793 | P27: =Sensitivities!I52 -> 0.22893761 | Q27: =Sensitivities!J52 -> 0.24608372
D28: =Sensitivities!D35 -> 26.041256 | E28: =Sensitivities!F35 -> 0.26317633 | F28: =Sensitivities!G35 -> 0.24258946 | G28: =Sensitivities!H35 -> 0.22300605 | H28: =Sensitivities!I35 -> 0.20634649 | I28: =Sensitivities!J35 -> 0.19024574 | L28: =Sensitivities!E53 -> 2 | M28: =Sensitivities!F53 -> 0.20676622 | N28: =Sensitivities!G53 -> 0.22685 | O28: =Sensitivities!H53 -> 0.2458235 | P28: =Sensitivities!I53 -> 0.26399092 | Q28: =Sensitivities!J53 -> 0.28113835
D29: =Sensitivities!D36 -> 27.041256 | E29: =Sensitivities!F36 -> 0.27543437 | F29: =Sensitivities!G36 -> 0.25464773 | G29: =Sensitivities!H36 -> 0.23487429 | H29: =Sensitivities!I36 -> 0.21805305 | I29: =Sensitivities!J36 -> 0.20179606 | L29: =Sensitivities!E54 -> 4 | M29: =Sensitivities!F54 -> 0.24141176 | N29: =Sensitivities!G54 -> 0.26144782 | O29: =Sensitivities!H54 -> 0.2804098 | P29: =Sensitivities!I54 -> 0.29857672 | Q29: =Sensitivities!J54 -> 0.31575926
C31: Source: CWAN LBO model (Compound); Sensitivities tab. Grids are live Excel data tables; breakevens interpolate data-table grids (growth, margin) or solve the exit equity value (multiple).

Sheet Sensitivities
C2: Clearwater Analytics (CWAN) Take-Private: Sensitivity and Scenario Analysis
C3: ($ in millions, except per share); returns at the FY2030 exit unless stated
C5: Sensitivity Inputs
D6: Tornado # | E6: Input | F6: Live
C7: Entry price per share ($) | D7: 4 | E7: 24.55 | F7: {=IF(AND($E$21=$D7,$D7>0),IF($E$22=1,INDEX($D$59:$D$69,$D7),INDEX($E$59:$E$69,$D7)),E7)} -> 24.55
C8: Exit multiple vs. entry NTM (turns) | D8: 3 | E8: 0 | F8: {=IF(AND($E$21=$D8,$D8>0),IF($E$22=1,INDEX($D$59:$D$69,$D8),INDEX($E$59:$E$69,$D8)),E8)} -> 0
C9: Exit year | E9: 47848 | F9: =E9 -> 47848
C10: Opening term loan vs. committed (x LTM Adj. EBITDA) | E10: 0 | F10: =E10 -> 0
C11: Revenue growth shift (pp, all years) | D11: 1 | E11: 0 | F11: {=IF(AND($E$21=$D11,$D11>0),IF($E$22=1,INDEX($D$59:$D$69,$D11),INDEX($E$59:$E$69,$D11)),E11)} -> 0
C12: Adj. EBITDA margin shift (pp, all years) | D12: 2 | E12: 0 | F12: {=IF(AND($E$21=$D12,$D12>0),IF($E$22=1,INDEX($D$59:$D$69,$D12),INDEX($E$59:$E$69,$D12)),E12)} -> 0
C13: SBC treated as cash (%) | D13: 5 | E13: 1 | F13: {=IF(AND($E$21=$D13,$D13>0),IF($E$22=1,INDEX($D$59:$D$69,$D13),INDEX($E$59:$E$69,$D13)),E13)} -> 1
C14: Term SOFR shift (bps) | D14: 6 | E14: 0 | F14: {=IF(AND($E$21=$D14,$D14>0),IF($E$22=1,INDEX($D$59:$D$69,$D14),INDEX($E$59:$E$69,$D14)),E14)} -> 0
C15: PIK election (1 = on) | D15: 7 | E15: =Model!I23 -> 1 | F15: {=IF(AND($E$21=$D15,$D15>0),IF($E$22=1,INDEX($D$59:$D$69,$D15),INDEX($E$59:$E$69,$D15)),E15)} -> 1
C16: Capex shift (pp of revenue) | D16: 8 | E16: 0 | F16: {=IF(AND($E$21=$D16,$D16>0),IF($E$22=1,INDEX($D$59:$D$69,$D16),INDEX($E$59:$E$69,$D16)),E16)} -> 0
C17: NWC investment shift (pp of revenue) | D17: 9 | E17: 0 | F17: {=IF(AND($E$21=$D17,$D17>0),IF($E$22=1,INDEX($D$59:$D$69,$D17),INDEX($E$59:$E$69,$D17)),E17)} -> 0
C18: Company merger costs ($m) | D18: 10 | E18: =Model!I4 -> 124.14263 | F18: {=IF(AND($E$21=$D18,$D18>0),IF($E$22=1,INDEX($D$59:$D$69,$D18),INDEX($E$59:$E$69,$D18)),E18)} -> 124.14263
C19: Minimum cash ($m) | D19: 11 | E19: =Model!I6 -> 75 | F19: {=IF(AND($E$21=$D19,$D19>0),IF($E$22=1,INDEX($D$59:$D$69,$D19),INDEX($E$59:$E$69,$D19)),E19)} -> 75
C20: Case override (0 = case toggle) | E20: 0 | F20: =E20 -> 0
C21: Tornado driver run (0 = off) | E21: 0 | F21: =E21 -> 0
C22: Tornado end (1 = low, 2 = high) | E22: 1 | F22: =E22 -> 1
C24: Tie-out to LBO Model (Outside-in, FY2030 Exit)
E25: This file | F25: LBO model | G25: Difference
C26: IRR | E26: =Model!I204 -> 0.21071793 | F26: 0.21071793 | G26: =E26-F26 -> 0
C27: MOIC | E27: =Model!I205 -> 2.3735575 | F27: 2.3735575 | G27: =E27-F27 -> 0
C29: IRR: Entry Price per Share vs. Exit Multiple
E30: Exit vs. entry | F30: Entry price per share ($)
D31: Exit NTM (x) | E31: =Model!I204 -> 0.21071793 | F31: 22 | G31: 23.25 | H31: 24.55 | I31: 25.75 | J31: 27
D32: =Model!$U$25+Model!$E$8+E32 -> 23.041256 | E32: -2 | F32: 0.22364807 | G32: 0.20370542 | H32: 0.18473484 | I32: 0.1685966 | J32: 0.15299968
D33: =Model!$U$25+Model!$E$8+E33 -> 24.041256 | E33: -1 | F33: 0.23732244 | G33: 0.21715694 | H33: 0.19797435 | I33: 0.18165577 | J33: 0.16588456
D34: =Model!$U$25+Model!$E$8+E34 -> 25.041256 | E34: 0 | F34: 0.25048459 | G34: 0.23010457 | H34: 0.21071793 | I34: 0.19422576 | J34: 0.17828677
D35: =Model!$U$25+Model!$E$8+E35 -> 26.041256 | E35: 1 | F35: 0.26317633 | G35: 0.24258946 | H35: 0.22300605 | I35: 0.20634649 | J35: 0.19024574
D36: =Model!$U$25+Model!$E$8+E36 -> 27.041256 | E36: 2 | F36: 0.27543437 | G36: 0.25464773 | H36: 0.23487429 | I36: 0.21805305 | J36: 0.20179606
C38: MOIC: Exit Year vs. Opening Leverage
E39: Leverage shift | F39: Exit year
D40: Debt / LTM (x) | E40: =Model!I205 -> 2.3735575 | F40: 46752 | G40: 47118 | H40: 47483 | I40: 47848
D41: =Model!$E$17/Model!$U$20+E41 -> 8.6241245 | E41: -1 | F41: 1.4872179 | G41: 1.7636921 | H41: 2.0388335 | I41: 2.3332801
D42: =Model!$E$17/Model!$U$20+E42 -> 9.1241245 | E42: -0.5 | F42: 1.4950371 | G42: 1.7757614 | H42: 2.0549774 | I42: 2.353759
D43: =Model!$E$17/Model!$U$20+E43 -> 9.6241245 | E43: 0 | F43: 1.5019169 | G43: 1.7869869 | H43: 2.0703576 | I43: 2.3735575
D44: =Model!$E$17/Model!$U$20+E44 -> 10.124124 | E44: 0.5 | F44: 1.5104109 | G44: 1.8000694 | H44: 2.0879046 | I44: 2.3958539
D45: =Model!$E$17/Model!$U$20+E45 -> 10.624124 | E45: 1 | F45: 1.5193278 | G45: 1.8123581 | H45: 2.1047649 | I45: 2.4175757
...

Sheet From Company>>>

Sheet Income Statement
A2: Income Statement
A3: For the Fiscal Period Ending | B3: 12 months Dec-31-2021 | C3: 12 months Dec-31-2022 | D3: 12 months Dec-31-2023 | E3: 12 months Dec-31-2024 | F3: 12 months Dec-31-2025 | G3: 3 months Mar-31-2025 | H3: 3 months Mar-31-2026 | I3: LTM Mar-31-2026
A4: Currency | B4: USD mm | C4: USD mm | D4: USD mm | E4: USD mm | F4: USD mm | G4: USD mm | H4: USD mm | I4: USD mm
A6: Revenue | B6: 252.022 | C6: 303.426 | D6: 368.168 | E6: 451.803 | F6: 731.368 | G6: 126.864 | H6: 221.228 | I6: =F6-G6+H6 -> 825.732
A7: Cost of revenue | B7: 67.864 | C7: 87.784 | D7: 107.127 | E7: 122.987 | F7: 239.22 | G7: 33.924 | H7: 75.681 | I7: =F7-G7+H7 -> 280.977
A8: Gross profit | B8: 184.158 | C8: 215.642 | D8: 261.041 | E8: 328.816 | F8: 492.148 | G8: 92.94 | H8: 145.547 | I8: =F8-G8+H8 -> 544.755
A10: Research and development | B10: 72.69 | C10: 94.12 | D10: 123.925 | E10: 150.558 | F10: 196.228 | G10: 37.4 | H10: 57.05 | I10: =F10-G10+H10 -> 215.878
A11: Sales and marketing | B11: 39.065 | C11: 52.638 | D11: 60.365 | E11: 67.254 | F11: 149.18 | G11: 19.631 | H11: 46.241 | I11: =F11-G11+H11 -> 175.79
A12: General and administrative | B12: 43.942 | C12: 63.767 | D12: 93.496 | E12: 98.77 | F12: 154.426 | G12: 28.827 | H12: 33.266 | I12: =F12-G12+H12 -> 158.865
A13: Total operating expenses | B13: 155.697 | C13: 210.525 | D13: 277.786 | E13: 316.582 | F13: 499.834 | G13: 85.858 | H13: 136.557 | I13: =F13-G13+H13 -> 550.533
A15: Income (loss) from operations | B15: 28.461 | C15: 5.117 | D15: -16.745 | E15: 12.234 | F15: -7.686 | G15: 7.082 | H15: 8.99 | I15: =F15-G15+H15 -> -5.778
A17: Interest expense | D17: 4.729 | E17: 4.325 | F17: 45.664 | G17: 0.919 | H17: 12.646 | I17: =F17-G17+H17 -> 57.391
A18: Interest (income) expense, net | B18: 25.682 | C18: -1.137
A19: Tax receivable agreement expense | C19: 11.639 | D19: 14.396 | E19: 53.181
A20: Loss on debt extinguishment | B20: 10.303
A21: Other (income) expense, net | B21: 0.083 | C21: -0.05 | D21: -13.004 | E21: -15.209 | F21: -3.678 | G21: -2.323 | H21: -0.051 | I21: =F21-G21+H21 -> -1.406
A22: Income (loss) before income taxes | B22: -7.607 | C22: -5.335 | D22: -22.866 | E22: -30.063 | F22: -49.672 | G22: 8.486 | H22: -3.605 | I22: =F22-G22+H22 -> -61.763
A24: Provision for (benefit from) income taxes | B24: 0.487 | C24: 1.36 | D24: 0.217 | E24: -457.648 | F24: -9.418 | G24: 1.55 | H24: -0.809 | I24: =F24-G24+H24 -> -11.777
A25: Net income (loss) | B25: -8.094 | C25: -6.695 | D25: -23.083 | E25: 427.585 | F25: -40.254 | G25: 6.936 | H25: -2.796 | I25: =F25-G25+H25 -> -49.986
A26: Less: non-controlling interests | B26: 0.119 | C26: 1.272 | D26: -1.456 | E26: 3.207 | F26: -1.447 | G26: 0.426 | H26: -0.02 | I26: =F26-G26+H26 -> -1.893
A27: Net income (loss) attributable to Clearwater | B27: -8.213 | C27: -7.967 | D27: -21.627 | E27: 424.378 | F27: -38.807 | G27: 6.51 | H27: -2.776 | I27: =F27-G27+H27 -> -48.093
A29: Supplemental Items
A30: Equity-based compensation expense | B30: 36.695 | C30: 65.691 | D30: 104.447 | E30: 103.201 | F30: 127.896 | G30: 23.712 | H30: 28.575 | I30: =F30-G30+H30 -> 132.759
A31: Depreciation and amortization | B31: 3.493 | C31: 5.139 | D31: 9.929 | E31: 12.181 | F31: 85.541 | G31: 3.146 | H31: 29.557 | I31: =F31-G31+H31 -> 111.952
A32: Adjusted EBITDA (company-reported) | B32: 72.676 | C32: 81.136 | D32: 105.906 | E32: 145.674 | F32: 248.19 | G32: 45.07 | H32: 77.425 | I32: =F32-G32+H32 -> 280.545
A33: Adjusted EBITDA margin | B33: =IFERROR(B32/B6,0) -> 0.28837165 | C33: =IFERROR(C32/C6,0) -> 0.26739963 | D33: =IFERROR(D32/D6,0) -> 0.28765672 | E33: =IFERROR(E32/E6,0) -> 0.32242814 | F33: =IFERROR(F32/F6,0) -> 0.33935037 | G33: =IFERROR(G32/G6,0) -> 0.35526233 | H33: =IFERROR(H32/H6,0) -> 0.3499783 | I33: =IFERROR(I32/I6,0) -> 0.33975309

Sheet Balance Sheet
A2: Balance Sheet
A3: Balance Sheet as of: | B3: 44561 | C3: 44926 | D3: 45291 | E3: 45657 | F3: 46022 | G3: 46112
A4: Currency | B4: USD mm | C4: USD mm | D4: USD mm | E4: USD mm | F4: USD mm | G4: USD mm
A5: ASSETS
A6: Cash and cash equivalents | B6: 254.597 | C6: 250.724 | D6: 221.765 | E6: 177.35 | F6: 91.245 | G6: 81.507
A7: Short-term investments | C7: 4.89 | D7: 74.457 | E7: 78.139
A8: Accounts receivable, net | B8: 50.19 | C8: 72.575 | D8: 92.091 | E8: 106.151 | F8: 167.348 | G8: 169.63
A9: Prepaid expenses and other current assets | B9: 16.551 | C9: 28.157 | D9: 27.683 | E9: 23.006 | F9: 36.977 | G9: 43.107
A10: Total current assets | B10: 321.338 | C10: 356.346 | D10: 415.996 | E10: 384.646 | F10: 295.57 | G10: 294.244
A12: Property, equipment and software, net | B12: 10.738 | C12: 15.064 | D12: 15.349 | E12: 14.797 | F12: 26.607 | G12: 30.454
A13: Operating lease right-of-use assets, net | C13: 24.114 | D13: 22.554 | E13: 24.797 | F13: 34.3 | G13: 51.639
A14: Deferred contract costs, non-current | B14: 5.687 | C14: 6.563 | D14: 6.439 | E14: 7.013 | F14: 13.017 | G14: 11.044
A15: Debt issuance costs - line of credit | B15: 0.922 | C15: 0.728 | D15: 0.533 | E15: 0.339 | F15: 3.467 | G15: 3.268
A16: Deferred tax assets, net | E16: 602.5 | F16: 695.998 | G16: 702.3
A17: Other non-current assets | B17: 5.67 | C17: 5.88 | D17: 4.907 | E17: 3.34 | F17: 5.336 | G17: 4.816
A18: Intangible assets, net | C18: 29.456 | D18: 26.132 | E18: 30.868 | F18: 687.578 | G18: 660.65
A19: Goodwill | C19: 43.791 | D19: 45.338 | E19: 70.971 | F19: 1270.056 | G19: 1268.44
A20: Long-term investments | D20: 21.495 | E20: 30.301
A21: Total assets | B21: 344.355 | C21: 481.942 | D21: 558.743 | E21: 1169.572 | F21: 3031.929 | G21: 3026.855
A22: LIABILITIES
A23: Accounts payable | B23: 1.416 | C23: 3.092 | D23: 3.062 | E23: 2.934 | F23: 4.096 | G23: 1.63
A24: Accrued expenses and other current liabilities | B24: 27.032 | C24: 42.119 | D24: 49.535 | E24: 55.654 | F24: 112.249 | G24: 78.605
A25: Deferred revenue | E25: 7.329 | F25: 21.86 | G25: 28.027
A26: Notes payable, current portion | B26: 2.75 | C26: 2.75 | D26: 2.75 | E26: 2.75 | F26: 8 | G26: 8
A27: Operating lease liability, current portion | C27: 5.851 | D27: 6.551 | E27: 8.35 | F27: 15.138 | G27: 14.21
A28: Tax receivable agreement liability | C28: 12.2 | D28: 18.894 | E28: 0.035
A29: Total current liabilities | B29: 31.198 | C29: 66.012 | D29: 80.792 | E29: 77.052 | F29: 161.343 | G29: 130.472
A30: Notes payable, net of current portion and issuance costs | B30: 51.157 | C30: 48.492 | D30: 45.828 | E30: 43.164 | F30: 814.643 | G30: 798.399
A31: Operating lease liability, less current portion | C31: 19.505 | D31: 16.948 | E31: 17.655 | F31: 22.555 | G31: 40.228
A32: Other long-term liabilities | B32: 0.132 | C32: 9.547 | D32: 5.518 | E32: 1.47 | F32: 2.296 | G32: 3.194
A33: Total liabilities | B33: 82.487 | C33: 143.556 | D33: 149.086 | E33: 139.341 | F33: 1000.837 | G33: 972.293
A34: EQUITY
A35: Stockholders' equity attributable to Clearwater | B35: 196.867 | C35: 269.521 | D35: 354.329 | E35: 1008.255 | F35: 2021.732 | G35: 2049.5
A36: Non-controlling interests | B36: 65.001 | C36: 68.865 | D36: 55.328 | E36: 21.976 | F36: 9.36 | G36: 5.062
A37: Total stockholders' equity | B37: 261.868 | C37: 338.386 | D37: 409.657 | E37: 1030.231 | F37: 2031.092 | G37: 2054.562
A38: Total liabilities and stockholders' equity | B38: 344.355 | C38: 481.942 | D38: 558.743 | E38: 1169.572 | F38: 3031.929 | G38: 3026.855

Sheet Cash Flow
A2: Cash Flow
A3: For the Fiscal Period Ending | B3: 12 months Dec-31-2021 | C3: 12 months Dec-31-2022 | D3: 12 months Dec-31-2023 | E3: 12 months Dec-31-2024 | F3: 12 months Dec-31-2025 | G3: 3 months Mar-31-2025 | H3: 3 months Mar-31-2026
A4: Currency | B4: USD mm | C4: USD mm | D4: USD mm | E4: USD mm | F4: USD mm | G4: USD mm | H4: USD mm
A5: OPERATING ACTIVITIES
A6: Net income (loss) | B6: -8.094 | C6: -6.695 | D6: -23.083 | E6: 427.585 | F6: -40.254 | G6: 6.936 | H6: -2.796
A7: Depreciation and amortization | B7: 3.493 | C7: 5.139 | D7: 9.929 | E7: 12.181 | F7: 85.541 | G7: 3.146 | H7: 29.557
A8: Noncash operating lease cost | C8: 5.95 | D8: 7.619 | E8: 9.221 | F8: 16.682 | G8: 2.375 | H8: 4.123
A9: Equity-based compensation | B9: 36.695 | C9: 65.691 | D9: 104.447 | E9: 103.201 | F9: 127.896 | G9: 23.712 | H9: 28.575
A10: Amortization of deferred contract acquisition costs | B10: 3.385 | C10: 4.327 | D10: 4.763 | E10: 5.265 | F10: 11.487 | G10: 1.35 | H10: 3.121
A11: Amortization of debt issuance costs | B11: 1.545 | C11: 0.279 | D11: 0.28 | E11: 0.28 | F11: 2.77 | G11: 0.069 | H11: 0.954
A12: Debt extinguishment costs | B12: 10.303 | F12: 0.419
A13: Provision for bad debt | F13: 2.165 | H13: 0.216
A14: Deferred tax (benefit) expense | B14: -0.675 | C14: -0.803 | D14: -1.665 | E14: -460.032 | F14: -12.607 | G14: 1.25 | H14: -2
A15: Accretion of discount on investments | D15: -1.474 | E15: -2.185 | F15: -0.284 | G15: -0.284
A16: Realized gain on investments | D16: -0.089 | E16: -0.035 | F16: -0.112 | G16: -0.112
A17: Gain on disposal of fixed assets | H17: -0.08
A18: Accounts receivable, net | B18: -17.308 | C18: -19.098 | D18: -19.298 | E18: -13.648 | F18: -11.148 | G18: -5.296 | H18: -2.498
A19: Prepaid expenses and other assets | B19: -13.136 | C19: -4.956 | D19: 1.151 | E19: 5.627 | F19: -11.159 | G19: -2.576 | H19: -4.078
A20: Deferred contract acquisition costs | B20: -5.161 | C20: -5.845 | D20: -5.067 | E20: -6.242 | F20: -17.036 | G20: 0.007 | H20: -3.006
A21: Accounts payable | B21: 0.361 | C21: 1.609 | D21: -0.115 | E21: 0.269 | F21: -1.341 | G21: -0.918 | H21: -2.458
A22: Accrued expenses and other liabilities | B22: -8.05 | C22: 0.207 | D22: 1.204 | E22: 11.693 | F22: 22.449 | G22: -5.124 | H22: -32.824
A23: Tax receivable agreement liability | C23: 12.2 | D23: 6 | E23: -18.859 | F23: -0.035 | G23: -0.035
A24: Other long-term liabilities | F24: 0.463 | H24: 0.869
A25: Net cash provided by operating activities | B25: 3.358 | C25: 58.005 | D25: 84.602 | E25: 74.321 | F25: 175.896 | G25: 24.5 | H25: 17.675
A27: INVESTING ACTIVITIES
A28: Purchases of property, equipment and software | B28: -5.025 | C28: -7.758 | D28: -5.624 | E28: -5.259 | F28: -11.554 | G28: -1.468 | H28: -6.44
A29: Purchases of intangible assets | F29: -10.239
A30: Purchase of held to maturity investments | C30: -3 | D30: -3.004 | E30: -3.009 | F30: -4.686 | G30: -4.686
A31: Purchase of available-for-sale investments | D31: -124.178 | E31: -114.572
A32: Proceeds from sale of available-for-sale investments | D32: 5.95 | F32: 89.479 | G32: 89.479
A33: Proceeds from maturities of investments | D33: 31.801 | E33: 107.417 | F33: 23.716 | G33: 16.2
A34: Acquisition of business, net of cash acquired | C34: -65.793 | E34: -40.121 | F34: -1074.754
A35: Payment of initial direct costs for operating lease | E35: -0.104 | F35: -0.089
A36: Net cash used in investing activities | B36: -5.025 | C36: -76.551 | D36: -95.055 | E36: -55.648 | F36: -988.127 | G36: 99.525 | H36: -6.44
A38: FINANCING ACTIVITIES
A39: Proceeds from issuance of common unit options | B39: 1.56
A40: Proceeds from exercise of options | B40: 2.83 | C40: 18.284 | D40: 4.738 | E40: 0.248 | F40: 0.168
A41: Taxes paid on net share settlement of equity awards | B41: -2.185 | C41: -3.189 | D41: -20.784 | E41: -55.301 | F41: -33.749 | G41: -24.402 | H41: -2.248
A42: Repurchase of common stock / units | B42: -0.626 | F42: -18.054
A43: Proceeds from borrowings | B43: 55 | F43: 924.475
...
